BEGIN:VCALENDAR
VERSION:2.0
PRODID:-//Greene County Parks &amp; Trails - ECPv6.15.18//NONSGML v1.0//EN
CALSCALE:GREGORIAN
METHOD:PUBLISH
X-WR-CALNAME:Greene County Parks &amp; Trails
X-ORIGINAL-URL:https://www.gcparkstrails.com
X-WR-CALDESC:Events for Greene County Parks &amp; Trails
REFRESH-INTERVAL;VALUE=DURATION:PT1H
X-Robots-Tag:noindex
X-PUBLISHED-TTL:PT1H
BEGIN:VTIMEZONE
TZID:America/New_York
BEGIN:DAYLIGHT
TZOFFSETFROM:-0500
TZOFFSETTO:-0400
TZNAME:EDT
DTSTART:20230312T070000
END:DAYLIGHT
BEGIN:STANDARD
TZOFFSETFROM:-0400
TZOFFSETTO:-0500
TZNAME:EST
DTSTART:20231105T060000
END:STANDARD
BEGIN:DAYLIGHT
TZOFFSETFROM:-0500
TZOFFSETTO:-0400
TZNAME:EDT
DTSTART:20240310T070000
END:DAYLIGHT
BEGIN:STANDARD
TZOFFSETFROM:-0400
TZOFFSETTO:-0500
TZNAME:EST
DTSTART:20241103T060000
END:STANDARD
BEGIN:DAYLIGHT
TZOFFSETFROM:-0500
TZOFFSETTO:-0400
TZNAME:EDT
DTSTART:20250309T070000
END:DAYLIGHT
BEGIN:STANDARD
TZOFFSETFROM:-0400
TZOFFSETTO:-0500
TZNAME:EST
DTSTART:20251102T060000
END:STANDARD
BEGIN:DAYLIGHT
TZOFFSETFROM:-0500
TZOFFSETTO:-0400
TZNAME:EDT
DTSTART:20260308T070000
END:DAYLIGHT
BEGIN:STANDARD
TZOFFSETFROM:-0400
TZOFFSETTO:-0500
TZNAME:EST
DTSTART:20261101T060000
END:STANDARD
END:VTIMEZONE
BEGIN:VEVENT
DTSTART;TZID=America/New_York:20250602T090000
DTEND;TZID=America/New_York:20250602T143000
DTSTAMP:20260423T084655
CREATED:20250109T191545Z
LAST-MODIFIED:20250109T191545Z
UID:10005679-1748854800-1748874600@www.gcparkstrails.com
SUMMARY:10-13 ~ Roughin' It - Registration Required
DESCRIPTION:Looking to unplug and hove some serious fun in the woods? Then this week is for you! \nCooking over an open fire\, tossing a tomahawk and building your own shelter are all included in this week of outdoor adventure. Each camper will also receive their very own pocket knofe. Campers will spend Thursday night with us at a camp-out. Tents\, dinner\, snack and breakfast will be provided during the camp-out.
URL:https://www.gcparkstrails.com/event/10-13-roughin-it-registration-required/2025-06-02/
LOCATION:Narrows Reserve\, 2575 Indian Ripple Road\, Xenia\, OH\, 45385\, United States
CATEGORIES:Summer Camp
END:VEVENT
BEGIN:VEVENT
DTSTART;TZID=America/New_York:20250517T183000
DTEND;TZID=America/New_York:20250517T203000
DTSTAMP:20260423T084655
CREATED:20250108T190156Z
LAST-MODIFIED:20250108T190156Z
UID:10005592-1747506600-1747513800@www.gcparkstrails.com
SUMMARY:Wacky Wayfarer Series - Hip Hop Dance Hike - No Registration
DESCRIPTION:There’s a Party in the woods and you’re invited! Bring your glow sticks and body paint for this after dark party hike in the woods! We will provide black light flashlights and the MUSIC! \n  \nDifficulty and accessibility will be listed under each event.\nLevel 1 – Flat dirt\, gravel\, or paved trail. Minimal elevation changes.\nLevel 2 – Rough dirt\, gravel\, or paved trail. Medium elevation changes.\nLevel 3 – Rocky and unstable trail. Multiple difficult elevation changes. \n  \n**Difficulty: Level 1 – Flat dirt\, gravel\, or paved trail. Minimal elevation changes.
URL:https://www.gcparkstrails.com/event/wacky-wayfarer-series-hip-hop-dance-hike-no-registration/
LOCATION:Narrows Reserve\, 2575 Indian Ripple Road\, Xenia\, OH\, 45385\, United States
CATEGORIES:Adults,Hiking
END:VEVENT
BEGIN:VEVENT
DTSTART;TZID=America/New_York:20250510T150000
DTEND;TZID=America/New_York:20250510T180000
DTSTAMP:20260423T084655
CREATED:20250108T151855Z
LAST-MODIFIED:20250108T153017Z
UID:10005557-1746889200-1746900000@www.gcparkstrails.com
SUMMARY:Stained Glass - Registration Required
DESCRIPTION:In this class you will learn the basic techniques of working with stained glass and decorative tinning to create this work of art to display in your home. \nPrice includes personal instruction and all the supplies needed to make one sun-catcher. \n**No refunds will be provided.  Craft supplies cannot be sent home for no-show registrants
URL:https://www.gcparkstrails.com/event/stained-glass-registration-required/2025-05-10/2/
LOCATION:Narrows Reserve\, 2575 Indian Ripple Road\, Xenia\, OH\, 45385\, United States
CATEGORIES:Adults
END:VEVENT
BEGIN:VEVENT
DTSTART;TZID=America/New_York:20250510T110000
DTEND;TZID=America/New_York:20250510T140000
DTSTAMP:20260423T084655
CREATED:20250108T151855Z
LAST-MODIFIED:20250108T153017Z
UID:10005556-1746874800-1746885600@www.gcparkstrails.com
SUMMARY:Stained Glass - Registration Required
DESCRIPTION:In this class you will learn the basic techniques of working with stained glass and decorative tinning to create this work of art to display in your home. \nPrice includes personal instruction and all the supplies needed to make one sun-catcher. \n**No refunds will be provided.  Craft supplies cannot be sent home for no-show registrants
URL:https://www.gcparkstrails.com/event/stained-glass-registration-required/2025-05-10/1/
LOCATION:Narrows Reserve\, 2575 Indian Ripple Road\, Xenia\, OH\, 45385\, United States
CATEGORIES:Adults
END:VEVENT
BEGIN:VEVENT
DTSTART;TZID=America/New_York:20250503T100000
DTEND;TZID=America/New_York:20250503T120000
DTSTAMP:20260423T084655
CREATED:20250108T165156Z
LAST-MODIFIED:20250108T165156Z
UID:10005573-1746266400-1746273600@www.gcparkstrails.com
SUMMARY:Urban Homesteading Series - Registration Required
DESCRIPTION:This series will take you on an urban farming adventure. Learn the basics of using the space you have to grow produce and more. This series is great for those who live in urban areas and rural alike and want to learn how to start their own homestead. You don’t need 50 acres to grow your own resources! \nFebruary Class \n\nUrban Homesteading 101\n\nPrices in the grocery are not going down\, come learn about urban homesteading\, why it is so important to communities\, and how to get started planning your urban homestead.\n\n\n\nMarch Class \n\nWinter Seed Starting\n\nLearn How to use recycled milk jugs to create tiny greenhouses for your plants!\n\n\n\nApril Class \n\nAbundance in Small Spaces\n\nContainers and cages OH MY! Get the basics of starting a container garden. Meet some quail and learn how these small birds can fit into your urban homestead.\n\n\n\nMay Class \n\nPreserving and Canning\n\nWe will look at ways to keep what we grow preserved.\n\n\n\nGuests that attend all sessions will receive a Homesteading gift from our department. \n 
URL:https://www.gcparkstrails.com/event/urban-homesteading-series-registration-required/2025-05-03/
LOCATION:Narrows Reserve\, 2575 Indian Ripple Road\, Xenia\, OH\, 45385\, United States
CATEGORIES:Adults,Gardening
END:VEVENT
BEGIN:VEVENT
DTSTART;TZID=America/New_York:20250405T100000
DTEND;TZID=America/New_York:20250405T120000
DTSTAMP:20260423T084655
CREATED:20250108T165156Z
LAST-MODIFIED:20250108T165156Z
UID:10005572-1743847200-1743854400@www.gcparkstrails.com
SUMMARY:Urban Homesteading Series - Registration Required
DESCRIPTION:This series will take you on an urban farming adventure. Learn the basics of using the space you have to grow produce and more. This series is great for those who live in urban areas and rural alike and want to learn how to start their own homestead. You don’t need 50 acres to grow your own resources! \nFebruary Class \n\nUrban Homesteading 101\n\nPrices in the grocery are not going down\, come learn about urban homesteading\, why it is so important to communities\, and how to get started planning your urban homestead.\n\n\n\nMarch Class \n\nWinter Seed Starting\n\nLearn How to use recycled milk jugs to create tiny greenhouses for your plants!\n\n\n\nApril Class \n\nAbundance in Small Spaces\n\nContainers and cages OH MY! Get the basics of starting a container garden. Meet some quail and learn how these small birds can fit into your urban homestead.\n\n\n\nMay Class \n\nPreserving and Canning\n\nWe will look at ways to keep what we grow preserved.\n\n\n\nGuests that attend all sessions will receive a Homesteading gift from our department. \n 
URL:https://www.gcparkstrails.com/event/urban-homesteading-series-registration-required/2025-04-05/
LOCATION:Narrows Reserve\, 2575 Indian Ripple Road\, Xenia\, OH\, 45385\, United States
CATEGORIES:Adults,Gardening
END:VEVENT
BEGIN:VEVENT
DTSTART;TZID=America/New_York:20250322T090000
DTEND;TZID=America/New_York:20250322T120000
DTSTAMP:20260423T084655
CREATED:20250108T210145Z
LAST-MODIFIED:20250108T210145Z
UID:10005597-1742634000-1742644800@www.gcparkstrails.com
SUMMARY:Mosaic Glass Tray - Registration Required
DESCRIPTION:Join us as we get creative with mosaic glass!  Bring your creative thoughts as we customize a wooden tray with handles for you to use as part of your home decor.
URL:https://www.gcparkstrails.com/event/mosaic-glass-tray-registration-required/
LOCATION:Narrows Reserve\, 2575 Indian Ripple Road\, Xenia\, OH\, 45385\, United States
CATEGORIES:Adults,DIY
END:VEVENT
BEGIN:VEVENT
DTSTART;TZID=America/New_York:20250307T180000
DTEND;TZID=America/New_York:20250307T210000
DTSTAMP:20260423T084655
CREATED:20250108T181906Z
LAST-MODIFIED:20250108T181906Z
UID:10005581-1741370400-1741381200@www.gcparkstrails.com
SUMMARY:GTO Pamper Party - Registration Required
DESCRIPTION:***New location for 2025*** Put on the PJ’s\, grab the slippers and join us for an evening of pampering with the GCPT staff. Tweens\, ages 10-17\, will spend the evening creating their own custom beauty products from Kool-Aid lip balm to sugar scrubs and more. Pajama parties aren’t complete without some music\, laughter\, and food\, so drinks and pizza will be provided. Parents are not required to stay for this program.
URL:https://www.gcparkstrails.com/event/gto-pamper-party-registration-required/
LOCATION:Narrows Reserve\, 2575 Indian Ripple Road\, Xenia\, OH\, 45385\, United States
CATEGORIES:Teens,Tweens
END:VEVENT
BEGIN:VEVENT
DTSTART;TZID=America/New_York:20250301T100000
DTEND;TZID=America/New_York:20250301T120000
DTSTAMP:20260423T084655
CREATED:20250108T165156Z
LAST-MODIFIED:20250108T165156Z
UID:10005571-1740823200-1740830400@www.gcparkstrails.com
SUMMARY:Urban Homesteading Series - Registration Required
DESCRIPTION:This series will take you on an urban farming adventure. Learn the basics of using the space you have to grow produce and more. This series is great for those who live in urban areas and rural alike and want to learn how to start their own homestead. You don’t need 50 acres to grow your own resources! \nFebruary Class \n\nUrban Homesteading 101\n\nPrices in the grocery are not going down\, come learn about urban homesteading\, why it is so important to communities\, and how to get started planning your urban homestead.\n\n\n\nMarch Class \n\nWinter Seed Starting\n\nLearn How to use recycled milk jugs to create tiny greenhouses for your plants!\n\n\n\nApril Class \n\nAbundance in Small Spaces\n\nContainers and cages OH MY! Get the basics of starting a container garden. Meet some quail and learn how these small birds can fit into your urban homestead.\n\n\n\nMay Class \n\nPreserving and Canning\n\nWe will look at ways to keep what we grow preserved.\n\n\n\nGuests that attend all sessions will receive a Homesteading gift from our department. \n 
URL:https://www.gcparkstrails.com/event/urban-homesteading-series-registration-required/2025-03-01/
LOCATION:Narrows Reserve\, 2575 Indian Ripple Road\, Xenia\, OH\, 45385\, United States
CATEGORIES:Adults,Gardening
END:VEVENT
BEGIN:VEVENT
DTSTART;TZID=America/New_York:20250219T180000
DTEND;TZID=America/New_York:20250219T200000
DTSTAMP:20260423T084655
CREATED:20250108T170459Z
LAST-MODIFIED:20250108T170459Z
UID:10005577-1739988000-1739995200@www.gcparkstrails.com
SUMMARY:Krafting Korner - Registration Required
DESCRIPTION:WE ARE BACK to craft with you on a seasonal basis.  Join us for this popular program where we make seasonal crafts for you to enjoy for years to come. \nNew this year\, the Krafting Korner will travel to different parks in the County. \nAlthough the program is scheduled for 2 hours\, not all crafts will take the full time.  Feel free to stay as long as you need to complete your project…but also to leave when you have a finished product. \nDue to space\, we are unable to accommodate unregistered guests.  This program is for adults \nAdditional crafts will be added as they are decided upon.
URL:https://www.gcparkstrails.com/event/krafting-korner-registration-required/
LOCATION:Narrows Reserve\, 2575 Indian Ripple Road\, Xenia\, OH\, 45385\, United States
CATEGORIES:Adults
END:VEVENT
BEGIN:VEVENT
DTSTART;TZID=America/New_York:20250201T100000
DTEND;TZID=America/New_York:20250201T120000
DTSTAMP:20260423T084655
CREATED:20250108T165156Z
LAST-MODIFIED:20250108T165156Z
UID:10005570-1738404000-1738411200@www.gcparkstrails.com
SUMMARY:Urban Homesteading Series - Registration Required
DESCRIPTION:This series will take you on an urban farming adventure. Learn the basics of using the space you have to grow produce and more. This series is great for those who live in urban areas and rural alike and want to learn how to start their own homestead. You don’t need 50 acres to grow your own resources! \nFebruary Class \n\nUrban Homesteading 101\n\nPrices in the grocery are not going down\, come learn about urban homesteading\, why it is so important to communities\, and how to get started planning your urban homestead.\n\n\n\nMarch Class \n\nWinter Seed Starting\n\nLearn How to use recycled milk jugs to create tiny greenhouses for your plants!\n\n\n\nApril Class \n\nAbundance in Small Spaces\n\nContainers and cages OH MY! Get the basics of starting a container garden. Meet some quail and learn how these small birds can fit into your urban homestead.\n\n\n\nMay Class \n\nPreserving and Canning\n\nWe will look at ways to keep what we grow preserved.\n\n\n\nGuests that attend all sessions will receive a Homesteading gift from our department. \n 
URL:https://www.gcparkstrails.com/event/urban-homesteading-series-registration-required/2025-02-01/
LOCATION:Narrows Reserve\, 2575 Indian Ripple Road\, Xenia\, OH\, 45385\, United States
CATEGORIES:Adults,Gardening
END:VEVENT
BEGIN:VEVENT
DTSTART;TZID=America/New_York:20250111T150000
DTEND;TZID=America/New_York:20250111T180000
DTSTAMP:20260423T084655
CREATED:20250108T151855Z
LAST-MODIFIED:20250108T153017Z
UID:10005558-1736607600-1736618400@www.gcparkstrails.com
SUMMARY:Stained Glass - Registration Required
DESCRIPTION:In this class you will learn the basic techniques of working with stained glass and decorative tinning to create this work of art to display in your home. \nPrice includes personal instruction and all the supplies needed to make one sun-catcher. \n**No refunds will be provided.  Craft supplies cannot be sent home for no-show registrants
URL:https://www.gcparkstrails.com/event/stained-glass-registration-required/2025-01-11/3/
LOCATION:Narrows Reserve\, 2575 Indian Ripple Road\, Xenia\, OH\, 45385\, United States
CATEGORIES:Adults
END:VEVENT
BEGIN:VEVENT
DTSTART;TZID=America/New_York:20250111T110000
DTEND;TZID=America/New_York:20250111T140000
DTSTAMP:20260423T084655
CREATED:20250108T151855Z
LAST-MODIFIED:20250108T153017Z
UID:10005553-1736593200-1736604000@www.gcparkstrails.com
SUMMARY:Stained Glass - Registration Required
DESCRIPTION:In this class you will learn the basic techniques of working with stained glass and decorative tinning to create this work of art to display in your home. \nPrice includes personal instruction and all the supplies needed to make one sun-catcher. \n**No refunds will be provided.  Craft supplies cannot be sent home for no-show registrants
URL:https://www.gcparkstrails.com/event/stained-glass-registration-required/2025-01-11/2/
LOCATION:Narrows Reserve\, 2575 Indian Ripple Road\, Xenia\, OH\, 45385\, United States
CATEGORIES:Adults
END:VEVENT
BEGIN:VEVENT
DTSTART;TZID=America/New_York:20241108T060000
DTEND;TZID=America/New_York:20241108T200000
DTSTAMP:20260423T084655
CREATED:20240814T142911Z
LAST-MODIFIED:20240814T142911Z
UID:10005486-1731045600-1731096000@www.gcparkstrails.com
SUMMARY:DIY Domino Clock
DESCRIPTION:This month we are having a DIY making a customized Domino Clock. We will provide paints\, and all supplies to create your clock. We will offer one wood burning pen as an option as well\, but if you have one and would like to use it\, feel free to bring it with you. This is your time to be creative so bring all your ideas with you!! \nOf course no DIY is complete without some snacks\, music and fun. \nThis program is for kids age 10-17. \nParents are not required to stay for this program.
URL:https://www.gcparkstrails.com/event/diy-domino-clock/
LOCATION:Narrows Reserve\, 2575 Indian Ripple Road\, Xenia\, OH\, 45385\, United States
CATEGORIES:Teens,Tweens
END:VEVENT
BEGIN:VEVENT
DTSTART;TZID=America/New_York:20240808T093000
DTEND;TZID=America/New_York:20240808T100000
DTSTAMP:20260423T084655
CREATED:20240205T170740Z
LAST-MODIFIED:20240207T142846Z
UID:10004533-1723109400-1723111200@www.gcparkstrails.com
SUMMARY:Toddler & Me Hikes: Narrows Reserve
DESCRIPTION:  No Registration Required
URL:https://www.gcparkstrails.com/event/toddler-me-hikes-narrows-reserve/
LOCATION:Narrows Reserve\, 2575 Indian Ripple Road\, Xenia\, OH\, 45385\, United States
CATEGORIES:Hiking
END:VEVENT
BEGIN:VEVENT
DTSTART;TZID=America/New_York:20240802T090000
DTEND;TZID=America/New_York:20240802T130000
DTSTAMP:20260423T084655
CREATED:20240206T173021Z
LAST-MODIFIED:20240208T165100Z
UID:10004565-1722589200-1722603600@www.gcparkstrails.com
SUMMARY:Aqua Adventure Camp
DESCRIPTION:Hop like a frog and slide like an otter – we are exploring water. \n…we might explore the creek\, make a splash\, or make friends with a fish! You never know just what will come out of camp\, but you know it will be fun!
URL:https://www.gcparkstrails.com/event/aqua-adventure-camp/2024-08-02/
LOCATION:Narrows Reserve\, 2575 Indian Ripple Road\, Xenia\, OH\, 45385\, United States
CATEGORIES:Kids,Summer Camp
END:VEVENT
BEGIN:VEVENT
DTSTART;TZID=America/New_York:20240801T090000
DTEND;TZID=America/New_York:20240801T130000
DTSTAMP:20260423T084655
CREATED:20240206T173021Z
LAST-MODIFIED:20240208T165100Z
UID:10004564-1722502800-1722517200@www.gcparkstrails.com
SUMMARY:Aqua Adventure Camp
DESCRIPTION:Hop like a frog and slide like an otter – we are exploring water. \n…we might explore the creek\, make a splash\, or make friends with a fish! You never know just what will come out of camp\, but you know it will be fun!
URL:https://www.gcparkstrails.com/event/aqua-adventure-camp/2024-08-01/
LOCATION:Narrows Reserve\, 2575 Indian Ripple Road\, Xenia\, OH\, 45385\, United States
CATEGORIES:Kids,Summer Camp
END:VEVENT
BEGIN:VEVENT
DTSTART;TZID=America/New_York:20240731T090000
DTEND;TZID=America/New_York:20240731T130000
DTSTAMP:20260423T084655
CREATED:20240206T173021Z
LAST-MODIFIED:20240208T165100Z
UID:10004563-1722416400-1722430800@www.gcparkstrails.com
SUMMARY:Aqua Adventure Camp
DESCRIPTION:Hop like a frog and slide like an otter – we are exploring water. \n…we might explore the creek\, make a splash\, or make friends with a fish! You never know just what will come out of camp\, but you know it will be fun!
URL:https://www.gcparkstrails.com/event/aqua-adventure-camp/2024-07-31/
LOCATION:Narrows Reserve\, 2575 Indian Ripple Road\, Xenia\, OH\, 45385\, United States
CATEGORIES:Kids,Summer Camp
END:VEVENT
BEGIN:VEVENT
DTSTART;TZID=America/New_York:20240730T090000
DTEND;TZID=America/New_York:20240730T130000
DTSTAMP:20260423T084655
CREATED:20240206T173021Z
LAST-MODIFIED:20240208T165100Z
UID:10004562-1722330000-1722344400@www.gcparkstrails.com
SUMMARY:Aqua Adventure Camp
DESCRIPTION:Hop like a frog and slide like an otter – we are exploring water. \n…we might explore the creek\, make a splash\, or make friends with a fish! You never know just what will come out of camp\, but you know it will be fun!
URL:https://www.gcparkstrails.com/event/aqua-adventure-camp/2024-07-30/
LOCATION:Narrows Reserve\, 2575 Indian Ripple Road\, Xenia\, OH\, 45385\, United States
CATEGORIES:Kids,Summer Camp
END:VEVENT
BEGIN:VEVENT
DTSTART;TZID=America/New_York:20240729T090000
DTEND;TZID=America/New_York:20240729T130000
DTSTAMP:20260423T084655
CREATED:20240206T173021Z
LAST-MODIFIED:20240208T165100Z
UID:10004561-1722243600-1722258000@www.gcparkstrails.com
SUMMARY:Aqua Adventure Camp
DESCRIPTION:Hop like a frog and slide like an otter – we are exploring water. \n…we might explore the creek\, make a splash\, or make friends with a fish! You never know just what will come out of camp\, but you know it will be fun!
URL:https://www.gcparkstrails.com/event/aqua-adventure-camp/2024-07-29/
LOCATION:Narrows Reserve\, 2575 Indian Ripple Road\, Xenia\, OH\, 45385\, United States
CATEGORIES:Kids,Summer Camp
END:VEVENT
BEGIN:VEVENT
DTSTART;TZID=America/New_York:20240726T090000
DTEND;TZID=America/New_York:20240726T143000
DTSTAMP:20260423T084655
CREATED:20240206T200413Z
LAST-MODIFIED:20240208T165126Z
UID:10004598-1721984400-1722004200@www.gcparkstrails.com
SUMMARY:Water We Doing?
DESCRIPTION:Water we going to do you ask?  WE are going to spend the entire week soaked as we explore all things water! \nThis week-long camp include water games\, experiments and good ole fun as we dive into the world of water. \nYou are sure to have a blast! Anticipate spending all week soaked. \nChildren are encouraged to wear clothing that can get dirty.
URL:https://www.gcparkstrails.com/event/water-we-doing/2024-07-26/
LOCATION:Narrows Reserve\, 2575 Indian Ripple Road\, Xenia\, OH\, 45385\, United States
CATEGORIES:Summer Camp
END:VEVENT
BEGIN:VEVENT
DTSTART;TZID=America/New_York:20240725T090000
DTEND;TZID=America/New_York:20240725T143000
DTSTAMP:20260423T084655
CREATED:20240206T200413Z
LAST-MODIFIED:20240208T165126Z
UID:10004597-1721898000-1721917800@www.gcparkstrails.com
SUMMARY:Water We Doing?
DESCRIPTION:Water we going to do you ask?  WE are going to spend the entire week soaked as we explore all things water! \nThis week-long camp include water games\, experiments and good ole fun as we dive into the world of water. \nYou are sure to have a blast! Anticipate spending all week soaked. \nChildren are encouraged to wear clothing that can get dirty.
URL:https://www.gcparkstrails.com/event/water-we-doing/2024-07-25/
LOCATION:Narrows Reserve\, 2575 Indian Ripple Road\, Xenia\, OH\, 45385\, United States
CATEGORIES:Summer Camp
END:VEVENT
BEGIN:VEVENT
DTSTART;TZID=America/New_York:20240724T090000
DTEND;TZID=America/New_York:20240724T143000
DTSTAMP:20260423T084655
CREATED:20240206T200413Z
LAST-MODIFIED:20240208T165126Z
UID:10004596-1721811600-1721831400@www.gcparkstrails.com
SUMMARY:Water We Doing?
DESCRIPTION:Water we going to do you ask?  WE are going to spend the entire week soaked as we explore all things water! \nThis week-long camp include water games\, experiments and good ole fun as we dive into the world of water. \nYou are sure to have a blast! Anticipate spending all week soaked. \nChildren are encouraged to wear clothing that can get dirty.
URL:https://www.gcparkstrails.com/event/water-we-doing/2024-07-24/
LOCATION:Narrows Reserve\, 2575 Indian Ripple Road\, Xenia\, OH\, 45385\, United States
CATEGORIES:Summer Camp
END:VEVENT
BEGIN:VEVENT
DTSTART;TZID=America/New_York:20240723T090000
DTEND;TZID=America/New_York:20240723T143000
DTSTAMP:20260423T084655
CREATED:20240206T200413Z
LAST-MODIFIED:20240208T165126Z
UID:10004595-1721725200-1721745000@www.gcparkstrails.com
SUMMARY:Water We Doing?
DESCRIPTION:Water we going to do you ask?  WE are going to spend the entire week soaked as we explore all things water! \nThis week-long camp include water games\, experiments and good ole fun as we dive into the world of water. \nYou are sure to have a blast! Anticipate spending all week soaked. \nChildren are encouraged to wear clothing that can get dirty.
URL:https://www.gcparkstrails.com/event/water-we-doing/2024-07-23/
LOCATION:Narrows Reserve\, 2575 Indian Ripple Road\, Xenia\, OH\, 45385\, United States
CATEGORIES:Summer Camp
END:VEVENT
BEGIN:VEVENT
DTSTART;TZID=America/New_York:20240722T090000
DTEND;TZID=America/New_York:20240722T143000
DTSTAMP:20260423T084655
CREATED:20240206T200413Z
LAST-MODIFIED:20240208T165126Z
UID:10004594-1721638800-1721658600@www.gcparkstrails.com
SUMMARY:Water We Doing?
DESCRIPTION:Water we going to do you ask?  WE are going to spend the entire week soaked as we explore all things water! \nThis week-long camp include water games\, experiments and good ole fun as we dive into the world of water. \nYou are sure to have a blast! Anticipate spending all week soaked. \nChildren are encouraged to wear clothing that can get dirty.
URL:https://www.gcparkstrails.com/event/water-we-doing/2024-07-22/
LOCATION:Narrows Reserve\, 2575 Indian Ripple Road\, Xenia\, OH\, 45385\, United States
CATEGORIES:Summer Camp
END:VEVENT
BEGIN:VEVENT
DTSTART;TZID=America/New_York:20240712T090000
DTEND;TZID=America/New_York:20240712T143000
DTSTAMP:20260423T084655
CREATED:20240206T175557Z
LAST-MODIFIED:20240208T165154Z
UID:10004580-1720774800-1720794600@www.gcparkstrails.com
SUMMARY:Lab Rats Camp
DESCRIPTION:Do you have what it takes to be a mad scientist?  We hope you are up for the challenge at this week of “all things science!” \nWe will explore the world around us using our senses and conduct experiments related to different fields of science. \nWe are going to have a CRAZY good time! \nA fun trip to COSI is included for more scientific exploration! \n***Field trip subject to change due to scheduling***dirty looking for herps in the wild!
URL:https://www.gcparkstrails.com/event/grownups-and-me-frogs-snakes-turtles-oh-my/2024-07-12/
LOCATION:Narrows Reserve\, 2575 Indian Ripple Road\, Xenia\, OH\, 45385\, United States
CATEGORIES:Summer Camp
END:VEVENT
BEGIN:VEVENT
DTSTART;TZID=America/New_York:20240711T090000
DTEND;TZID=America/New_York:20240711T143000
DTSTAMP:20260423T084655
CREATED:20240206T175557Z
LAST-MODIFIED:20240208T165154Z
UID:10004579-1720688400-1720708200@www.gcparkstrails.com
SUMMARY:Lab Rats Camp
DESCRIPTION:Do you have what it takes to be a mad scientist?  We hope you are up for the challenge at this week of “all things science!” \nWe will explore the world around us using our senses and conduct experiments related to different fields of science. \nWe are going to have a CRAZY good time! \nA fun trip to COSI is included for more scientific exploration! \n***Field trip subject to change due to scheduling***dirty looking for herps in the wild!
URL:https://www.gcparkstrails.com/event/grownups-and-me-frogs-snakes-turtles-oh-my/2024-07-11/
LOCATION:Narrows Reserve\, 2575 Indian Ripple Road\, Xenia\, OH\, 45385\, United States
CATEGORIES:Summer Camp
END:VEVENT
BEGIN:VEVENT
DTSTART;TZID=America/New_York:20240710T090000
DTEND;TZID=America/New_York:20240710T143000
DTSTAMP:20260423T084655
CREATED:20240206T175557Z
LAST-MODIFIED:20240208T165154Z
UID:10004578-1720602000-1720621800@www.gcparkstrails.com
SUMMARY:Lab Rats Camp
DESCRIPTION:Do you have what it takes to be a mad scientist?  We hope you are up for the challenge at this week of “all things science!” \nWe will explore the world around us using our senses and conduct experiments related to different fields of science. \nWe are going to have a CRAZY good time! \nA fun trip to COSI is included for more scientific exploration! \n***Field trip subject to change due to scheduling***dirty looking for herps in the wild!
URL:https://www.gcparkstrails.com/event/grownups-and-me-frogs-snakes-turtles-oh-my/2024-07-10/
LOCATION:Narrows Reserve\, 2575 Indian Ripple Road\, Xenia\, OH\, 45385\, United States
CATEGORIES:Summer Camp
END:VEVENT
BEGIN:VEVENT
DTSTART;TZID=America/New_York:20240709T090000
DTEND;TZID=America/New_York:20240709T143000
DTSTAMP:20260423T084655
CREATED:20240206T175557Z
LAST-MODIFIED:20240208T165154Z
UID:10004577-1720515600-1720535400@www.gcparkstrails.com
SUMMARY:Lab Rats Camp
DESCRIPTION:Do you have what it takes to be a mad scientist?  We hope you are up for the challenge at this week of “all things science!” \nWe will explore the world around us using our senses and conduct experiments related to different fields of science. \nWe are going to have a CRAZY good time! \nA fun trip to COSI is included for more scientific exploration! \n***Field trip subject to change due to scheduling***dirty looking for herps in the wild!
URL:https://www.gcparkstrails.com/event/grownups-and-me-frogs-snakes-turtles-oh-my/2024-07-09/
LOCATION:Narrows Reserve\, 2575 Indian Ripple Road\, Xenia\, OH\, 45385\, United States
CATEGORIES:Summer Camp
END:VEVENT
BEGIN:VEVENT
DTSTART;TZID=America/New_York:20240708T090000
DTEND;TZID=America/New_York:20240708T143000
DTSTAMP:20260423T084655
CREATED:20240206T175557Z
LAST-MODIFIED:20240208T165154Z
UID:10004576-1720429200-1720449000@www.gcparkstrails.com
SUMMARY:Lab Rats Camp
DESCRIPTION:Do you have what it takes to be a mad scientist?  We hope you are up for the challenge at this week of “all things science!” \nWe will explore the world around us using our senses and conduct experiments related to different fields of science. \nWe are going to have a CRAZY good time! \nA fun trip to COSI is included for more scientific exploration! \n***Field trip subject to change due to scheduling***dirty looking for herps in the wild!
URL:https://www.gcparkstrails.com/event/grownups-and-me-frogs-snakes-turtles-oh-my/2024-07-08/
LOCATION:Narrows Reserve\, 2575 Indian Ripple Road\, Xenia\, OH\, 45385\, United States
CATEGORIES:Summer Camp
END:VEVENT
END:VCALENDAR