BEGIN:VCALENDAR
VERSION:2.0
PRODID:-//Greene County Parks &amp; Trails - ECPv6.15.18//NONSGML v1.0//EN
CALSCALE:GREGORIAN
METHOD:PUBLISH
X-ORIGINAL-URL:https://www.gcparkstrails.com
X-WR-CALDESC:Events for Greene County Parks &amp; Trails
REFRESH-INTERVAL;VALUE=DURATION:PT1H
X-Robots-Tag:noindex
X-PUBLISHED-TTL:PT1H
BEGIN:VTIMEZONE
TZID:America/New_York
BEGIN:DAYLIGHT
TZOFFSETFROM:-0500
TZOFFSETTO:-0400
TZNAME:EDT
DTSTART:20250309T070000
END:DAYLIGHT
BEGIN:STANDARD
TZOFFSETFROM:-0400
TZOFFSETTO:-0500
TZNAME:EST
DTSTART:20251102T060000
END:STANDARD
BEGIN:DAYLIGHT
TZOFFSETFROM:-0500
TZOFFSETTO:-0400
TZNAME:EDT
DTSTART:20260308T070000
END:DAYLIGHT
BEGIN:STANDARD
TZOFFSETFROM:-0400
TZOFFSETTO:-0500
TZNAME:EST
DTSTART:20261101T060000
END:STANDARD
BEGIN:DAYLIGHT
TZOFFSETFROM:-0500
TZOFFSETTO:-0400
TZNAME:EDT
DTSTART:20270314T070000
END:DAYLIGHT
BEGIN:STANDARD
TZOFFSETFROM:-0400
TZOFFSETTO:-0500
TZNAME:EST
DTSTART:20271107T060000
END:STANDARD
END:VTIMEZONE
BEGIN:VEVENT
DTSTART;TZID=America/New_York:20260422T090000
DTEND;TZID=America/New_York:20260422T113000
DTSTAMP:20260421T041511
CREATED:20260205T191837Z
LAST-MODIFIED:20260205T191837Z
UID:10007053-1776848400-1776857400@www.gcparkstrails.com
SUMMARY:Nature Preschool - Registration Required
DESCRIPTION:On Wednesdays we do wild! Nature is a great classroom and we are so excited for Wild School Wednesdays! We will learn all the basics\, colors\, letters\, numbers etc… Students will also learn all about nature with our animal ambassadors and outdoor classroom! Our home base will be the Critter Cove at the Narrows before heading out on a day of adventure and discovery! Students need to be potty trained. This weekly drop off preschool program is bound to be a huge hit with your little wild ones! \n**This is an 8-week class.**
URL:https://www.gcparkstrails.com/event/nature-preschool-registration-required-3/2026-04-22/
LOCATION:Narrows Reserve\, 2575 Indian Ripple Road\, Xenia\, OH\, 45385\, United States
END:VEVENT
BEGIN:VEVENT
DTSTART;TZID=America/New_York:20260422T130000
DTEND;TZID=America/New_York:20260422T153000
DTSTAMP:20260421T041511
CREATED:20260205T192105Z
LAST-MODIFIED:20260205T192105Z
UID:10007069-1776862800-1776871800@www.gcparkstrails.com
SUMMARY:Nature Preschool - Registration Required
DESCRIPTION:On Wednesdays we do wild! Nature is a great classroom and we are so excited for Wild School Wednesdays! We will learn all the basics\, colors\, letters\, numbers etc… Students will also learn all about nature with our animal ambassadors and outdoor classroom! Our home base will be the Critter Cove at the Narrows before heading out on a day of adventure and discovery! Students need to be potty trained. This weekly drop off preschool program is bound to be a huge hit with your little wild ones! \n**This is an 8-week class.**
URL:https://www.gcparkstrails.com/event/nature-preschool-registration-required-4/2026-04-22/
LOCATION:Narrows Reserve\, 2575 Indian Ripple Road\, Xenia\, OH\, 45385\, United States
END:VEVENT
BEGIN:VEVENT
DTSTART;TZID=America/New_York:20260429T090000
DTEND;TZID=America/New_York:20260429T113000
DTSTAMP:20260421T041511
CREATED:20260205T191837Z
LAST-MODIFIED:20260205T191837Z
UID:10007054-1777453200-1777462200@www.gcparkstrails.com
SUMMARY:Nature Preschool - Registration Required
DESCRIPTION:On Wednesdays we do wild! Nature is a great classroom and we are so excited for Wild School Wednesdays! We will learn all the basics\, colors\, letters\, numbers etc… Students will also learn all about nature with our animal ambassadors and outdoor classroom! Our home base will be the Critter Cove at the Narrows before heading out on a day of adventure and discovery! Students need to be potty trained. This weekly drop off preschool program is bound to be a huge hit with your little wild ones! \n**This is an 8-week class.**
URL:https://www.gcparkstrails.com/event/nature-preschool-registration-required-3/2026-04-29/
LOCATION:Narrows Reserve\, 2575 Indian Ripple Road\, Xenia\, OH\, 45385\, United States
END:VEVENT
BEGIN:VEVENT
DTSTART;TZID=America/New_York:20260429T130000
DTEND;TZID=America/New_York:20260429T153000
DTSTAMP:20260421T041511
CREATED:20260205T192105Z
LAST-MODIFIED:20260205T192105Z
UID:10007070-1777467600-1777476600@www.gcparkstrails.com
SUMMARY:Nature Preschool - Registration Required
DESCRIPTION:On Wednesdays we do wild! Nature is a great classroom and we are so excited for Wild School Wednesdays! We will learn all the basics\, colors\, letters\, numbers etc… Students will also learn all about nature with our animal ambassadors and outdoor classroom! Our home base will be the Critter Cove at the Narrows before heading out on a day of adventure and discovery! Students need to be potty trained. This weekly drop off preschool program is bound to be a huge hit with your little wild ones! \n**This is an 8-week class.**
URL:https://www.gcparkstrails.com/event/nature-preschool-registration-required-4/2026-04-29/
LOCATION:Narrows Reserve\, 2575 Indian Ripple Road\, Xenia\, OH\, 45385\, United States
END:VEVENT
BEGIN:VEVENT
DTSTART;TZID=America/New_York:20260506T090000
DTEND;TZID=America/New_York:20260506T113000
DTSTAMP:20260421T041511
CREATED:20260205T191837Z
LAST-MODIFIED:20260205T191837Z
UID:10007055-1778058000-1778067000@www.gcparkstrails.com
SUMMARY:Nature Preschool - Registration Required
DESCRIPTION:On Wednesdays we do wild! Nature is a great classroom and we are so excited for Wild School Wednesdays! We will learn all the basics\, colors\, letters\, numbers etc… Students will also learn all about nature with our animal ambassadors and outdoor classroom! Our home base will be the Critter Cove at the Narrows before heading out on a day of adventure and discovery! Students need to be potty trained. This weekly drop off preschool program is bound to be a huge hit with your little wild ones! \n**This is an 8-week class.**
URL:https://www.gcparkstrails.com/event/nature-preschool-registration-required-3/2026-05-06/
LOCATION:Narrows Reserve\, 2575 Indian Ripple Road\, Xenia\, OH\, 45385\, United States
END:VEVENT
BEGIN:VEVENT
DTSTART;TZID=America/New_York:20260506T130000
DTEND;TZID=America/New_York:20260506T153000
DTSTAMP:20260421T041511
CREATED:20260205T192105Z
LAST-MODIFIED:20260205T192105Z
UID:10007071-1778072400-1778081400@www.gcparkstrails.com
SUMMARY:Nature Preschool - Registration Required
DESCRIPTION:On Wednesdays we do wild! Nature is a great classroom and we are so excited for Wild School Wednesdays! We will learn all the basics\, colors\, letters\, numbers etc… Students will also learn all about nature with our animal ambassadors and outdoor classroom! Our home base will be the Critter Cove at the Narrows before heading out on a day of adventure and discovery! Students need to be potty trained. This weekly drop off preschool program is bound to be a huge hit with your little wild ones! \n**This is an 8-week class.**
URL:https://www.gcparkstrails.com/event/nature-preschool-registration-required-4/2026-05-06/
LOCATION:Narrows Reserve\, 2575 Indian Ripple Road\, Xenia\, OH\, 45385\, United States
END:VEVENT
BEGIN:VEVENT
DTSTART;TZID=America/New_York:20260516T110000
DTEND;TZID=America/New_York:20260516T130000
DTSTAMP:20260421T041511
CREATED:20260326T142950Z
LAST-MODIFIED:20260326T142950Z
UID:10007117-1778929200-1778936400@www.gcparkstrails.com
SUMMARY:All About Tinctures - Registration Required
DESCRIPTION:In this program we will be exploring the ins and outs and many uses of herbal tinctures. We will explore some of the most powerful and beneficial herbs that nature provides for us to use to heal our bodies\, and how to extract all their medicinal properties into a readily usable tincture. There are so many positive benefits to using herbal tinctures and we will be creating one together that you’ll be able to take home. You’re going to learn skills to prepare your own tinctures and you’ll be on your way to providing yourself some all natural remedies with endless possibilities.
URL:https://www.gcparkstrails.com/event/all-about-tinctures-registration-required/
LOCATION:Narrows Reserve\, 2575 Indian Ripple Road\, Xenia\, OH\, 45385\, United States
CATEGORIES:Adults
END:VEVENT
BEGIN:VEVENT
DTSTART;TZID=America/New_York:20260522T183000
DTEND;TZID=America/New_York:20260522T200000
DTSTAMP:20260421T041511
CREATED:20260325T183541Z
LAST-MODIFIED:20260325T183541Z
UID:10007098-1779474600-1779480000@www.gcparkstrails.com
SUMMARY:Nature Tech For Newbies - Merlin - Registration Required
DESCRIPTION:Have you ever heard a bird and wondered what it was?  Seen a plant and were curious about it’s name?  Wanted to take a hike but weren’t sure of the best trails?  This series of nature tech for newbies is for you!  Each session will focus on a specific app or tech that makes nature more accessible. Topics include: Merlin ID for bird identification\, iNaturalist for plant and animal identification\, OuterSpatial and AllTrails for maps and hiking\, and more! \nParticipants should have a device that will allow app downloading for the full experience. \nComing in 2026:\nApril – iNaturalist Bioblitz\nMay – Merlin & OuterSpatial \nMerlin\nDo you ever hear birds making a racket and wonder what kind of birds they are? Good news! There’s an app for that! This session of Nature Tech for Newbies will be all about how to use MerlinID. There will be a short presentation and then a short hike to use the application and work out any kinks or questions you may have.
URL:https://www.gcparkstrails.com/event/nature-tech-for-newbies-merlin-registration-required/
LOCATION:Narrows Reserve\, 2575 Indian Ripple Road\, Xenia\, OH\, 45385\, United States
CATEGORIES:Family
END:VEVENT
BEGIN:VEVENT
DTSTART;TZID=America/New_York:20260604T100000
DTEND;TZID=America/New_York:20260604T103000
DTSTAMP:20260421T041511
CREATED:20260326T141202Z
LAST-MODIFIED:20260326T141202Z
UID:10007113-1780567200-1780569000@www.gcparkstrails.com
SUMMARY:Toddler & Me Hikes - No Registration
DESCRIPTION:We are back with more hikes for the beginner hikers of Greene County! This preschool program will get those little legs used to hiking in our parks.  This 30 minute Toddler & Me program will introduce the children to the outdoor world through short hikes within our parks.  The program is designed for an adult to participate with the toddler(s). \nThis is a free program\, no registration required.
URL:https://www.gcparkstrails.com/event/toddler-me-hikes-no-registration-8/
LOCATION:Narrows Reserve\, 2575 Indian Ripple Road\, Xenia\, OH\, 45385\, United States
CATEGORIES:Hiking,Kids
END:VEVENT
END:VCALENDAR