BEGIN:VCALENDAR
VERSION:2.0
PRODID:-//Greene County Parks &amp; Trails - ECPv6.15.18//NONSGML v1.0//EN
CALSCALE:GREGORIAN
METHOD:PUBLISH
X-ORIGINAL-URL:https://www.gcparkstrails.com
X-WR-CALDESC:Events for Greene County Parks &amp; Trails
REFRESH-INTERVAL;VALUE=DURATION:PT1H
X-Robots-Tag:noindex
X-PUBLISHED-TTL:PT1H
BEGIN:VTIMEZONE
TZID:America/New_York
BEGIN:DAYLIGHT
TZOFFSETFROM:-0500
TZOFFSETTO:-0400
TZNAME:EDT
DTSTART:20240310T070000
END:DAYLIGHT
BEGIN:STANDARD
TZOFFSETFROM:-0400
TZOFFSETTO:-0500
TZNAME:EST
DTSTART:20241103T060000
END:STANDARD
BEGIN:DAYLIGHT
TZOFFSETFROM:-0500
TZOFFSETTO:-0400
TZNAME:EDT
DTSTART:20250309T070000
END:DAYLIGHT
BEGIN:STANDARD
TZOFFSETFROM:-0400
TZOFFSETTO:-0500
TZNAME:EST
DTSTART:20251102T060000
END:STANDARD
BEGIN:DAYLIGHT
TZOFFSETFROM:-0500
TZOFFSETTO:-0400
TZNAME:EDT
DTSTART:20260308T070000
END:DAYLIGHT
BEGIN:STANDARD
TZOFFSETFROM:-0400
TZOFFSETTO:-0500
TZNAME:EST
DTSTART:20261101T060000
END:STANDARD
BEGIN:DAYLIGHT
TZOFFSETFROM:-0500
TZOFFSETTO:-0400
TZNAME:EDT
DTSTART:20270314T070000
END:DAYLIGHT
BEGIN:STANDARD
TZOFFSETFROM:-0400
TZOFFSETTO:-0500
TZNAME:EST
DTSTART:20271107T060000
END:STANDARD
END:VTIMEZONE
BEGIN:VEVENT
DTSTART;TZID=America/New_York:20260419T140000
DTEND;TZID=America/New_York:20260419T160000
DTSTAMP:20260421T130644
CREATED:20260325T183027Z
LAST-MODIFIED:20260325T183027Z
UID:10007096-1776607200-1776614400@www.gcparkstrails.com
SUMMARY:Nature Tech For Newbies - iNaturalist Bioblitz - Registration Required
DESCRIPTION:Have you ever heard a bird and wondered what it was?  Seen a plant and were curious about it’s name?  Wanted to take a hike but weren’t sure of the best trails?  This series of nature tech for newbies is for you!  Each session will focus on a specific app or tech that makes nature more accessible. Topics include: Merlin ID for bird identification\, iNaturalist for plant and animal identification\, OuterSpatial and AllTrails for maps and hiking\, and more! \nParticipants should have a device that will allow app downloading for the full experience. \nComing in 2026:\nApril – iNaturalist Bioblitz\nMay – Merlin & OuterSpatial\niNaturalist Bioblitz\nDiscover the power of technology in nature! During this program\, participants will get a step-by-step introduction to the iNaturalist app. Including how to create an account\, take clear wildlife photos\, and upload observations. After the short tutorial\, we will head into the park for a mini BioBlitz\, a fun and fast-paced biodiversity challenge where we work together to find and document as many species as possible within a set area and time. Whether you are an avid nature lover or just curious about the world around you\, this event offers a great way to sharpen your observation skills\, connect with nature\, and join a global community of citizen scientists!
URL:https://www.gcparkstrails.com/event/nature-tech-for-newbies-inaturalist-bioblitz-registration-required/
LOCATION:Cemex Reserve\, 1100 Sanctuary Drive\, Fairborn\, OH\, 45324\, United States
CATEGORIES:Family
END:VEVENT
BEGIN:VEVENT
DTSTART;TZID=America/New_York:20250923T100000
DTEND;TZID=America/New_York:20250923T113000
DTSTAMP:20260421T130644
CREATED:20250109T144814Z
LAST-MODIFIED:20250827T191522Z
UID:10005619-1758621600-1758627000@www.gcparkstrails.com
SUMMARY:Homeschool Science Days DISCOVERY HIKE: Wetlands - No Registration
DESCRIPTION:Bring your homeschool groups outside for hands-on science designed for all ages. Two programs are designed just for homeschoolers. They are called Homeschool Science Days and Homeschool Science Days DISCOVERY HIKES. \nHomeschool Science Days DISCOVERY HIKES last 90 minutes and cover seasonal topics such as wildflowers\, habitats\, animal tracking and more.  These discovery hikes are guided and will leave promptly at 10 am.  Late guests will have to catch up.  The hikes end at 11:30 am. \nDress for the weather. This program will be entirely outdoors\, rain or shine.   There is a chance that participants may get muddy. \nAt least one adult must be present with each homeschool group. \nRegistration is no longer needed for the homeschool educational series. \n\n\n\nDISCOVERY HIKE: Wetlands – Cemex Reserve\nWhat are the wetlands? What is a reserve? Why are they important? Your homeschoolers will learn these answers and so much more as they explore on of Greene County’s hidden gems. Starts at 10am sharp. If you’re late\, go find us.
URL:https://www.gcparkstrails.com/event/homeschool-science-days-discovery-hike-wetlands-no-registration/
LOCATION:Cemex Reserve\, 1100 Sanctuary Drive\, Fairborn\, OH\, 45324\, United States
CATEGORIES:Homeschool Science Days
END:VEVENT
BEGIN:VEVENT
DTSTART;TZID=America/New_York:20250719T183000
DTEND;TZID=America/New_York:20250719T203000
DTSTAMP:20260421T130645
CREATED:20250108T190440Z
LAST-MODIFIED:20250108T190440Z
UID:10005593-1752949800-1752957000@www.gcparkstrails.com
SUMMARY:Wacky Wayfarer Series - Silent Disco Hike - No Registration
DESCRIPTION:Practice those dance moves and find your neon tights. We’re about to turn Cemex into party central! \n  \nDifficulty and accessibility will be listed under each event.\nLevel 1 – Flat dirt\, gravel\, or paved trail. Minimal elevation changes.\nLevel 2 – Rough dirt\, gravel\, or paved trail. Medium elevation changes.\nLevel 3 – Rocky and unstable trail. Multiple difficult elevation changes. \n  \n**Difficulty: Level 1 – Flat dirt\, gravel\, or paved trail. Minimal elevation changes.
URL:https://www.gcparkstrails.com/event/wacky-wayfarer-series-silent-disco-hike-no-registration/
LOCATION:Cemex Reserve\, 1100 Sanctuary Drive\, Fairborn\, OH\, 45324\, United States
CATEGORIES:Adults,Hiking
END:VEVENT
BEGIN:VEVENT
DTSTART;TZID=America/New_York:20250118T183000
DTEND;TZID=America/New_York:20250118T203000
DTSTAMP:20260421T130645
CREATED:20250108T163939Z
LAST-MODIFIED:20250108T184824Z
UID:10005563-1737225000-1737232200@www.gcparkstrails.com
SUMMARY:Wacky Wayfarer Series - Blow Up Costume Hike - No Registration
DESCRIPTION:Grab your batteries and dust off those inflatable costumes! We’re going to wonder through the woods in true style! Don’t worry if you don’t have your own inflatable costume\, just join us for the fun! \n  \nDifficulty and accessibility will be listed under each event.\nLevel 1 – Flat dirt\, gravel\, or paved trail. Minimal elevation changes.\nLevel 2 – Rough dirt\, gravel\, or paved trail. Medium elevation changes.\nLevel 3 – Rocky and unstable trail. Multiple difficult elevation changes. \n  \n**Difficulty: Level 1
URL:https://www.gcparkstrails.com/event/wacky-wayfarer-series-no-registration/
LOCATION:Cemex Reserve\, 1100 Sanctuary Drive\, Fairborn\, OH\, 45324\, United States
CATEGORIES:Adults,Hiking
END:VEVENT
END:VCALENDAR