BEGIN:VCALENDAR
VERSION:2.0
PRODID:-//Greene County Parks &amp; Trails - ECPv6.15.18//NONSGML v1.0//EN
CALSCALE:GREGORIAN
METHOD:PUBLISH
X-WR-CALNAME:Greene County Parks &amp; Trails
X-ORIGINAL-URL:https://www.gcparkstrails.com
X-WR-CALDESC:Events for Greene County Parks &amp; Trails
REFRESH-INTERVAL;VALUE=DURATION:PT1H
X-Robots-Tag:noindex
X-PUBLISHED-TTL:PT1H
BEGIN:VTIMEZONE
TZID:America/New_York
BEGIN:DAYLIGHT
TZOFFSETFROM:-0500
TZOFFSETTO:-0400
TZNAME:EDT
DTSTART:20240310T070000
END:DAYLIGHT
BEGIN:STANDARD
TZOFFSETFROM:-0400
TZOFFSETTO:-0500
TZNAME:EST
DTSTART:20241103T060000
END:STANDARD
BEGIN:DAYLIGHT
TZOFFSETFROM:-0500
TZOFFSETTO:-0400
TZNAME:EDT
DTSTART:20250309T070000
END:DAYLIGHT
BEGIN:STANDARD
TZOFFSETFROM:-0400
TZOFFSETTO:-0500
TZNAME:EST
DTSTART:20251102T060000
END:STANDARD
BEGIN:DAYLIGHT
TZOFFSETFROM:-0500
TZOFFSETTO:-0400
TZNAME:EDT
DTSTART:20260308T070000
END:DAYLIGHT
BEGIN:STANDARD
TZOFFSETFROM:-0400
TZOFFSETTO:-0500
TZNAME:EST
DTSTART:20261101T060000
END:STANDARD
END:VTIMEZONE
BEGIN:VTIMEZONE
TZID:UTC
BEGIN:STANDARD
TZOFFSETFROM:+0000
TZOFFSETTO:+0000
TZNAME:UTC
DTSTART:20240101T000000
END:STANDARD
END:VTIMEZONE
BEGIN:VEVENT
DTSTART;TZID=America/New_York:20250102T093000
DTEND;TZID=America/New_York:20250102T103000
DTSTAMP:20260423T205029
CREATED:20250113T162131Z
LAST-MODIFIED:20250113T162131Z
UID:10006205-1735810200-1735813800@www.gcparkstrails.com
SUMMARY:Wellness Walkers
DESCRIPTION:Each week\, we will get our heart rate up and get moving while enjoying the outdoors in our beautiful parks. Walks are guided and self-paced. Greene County Parks & Trails\, Fairborn Parks and Recreation and the City of Beavercreek Parks Department have teamed up to provide walks all over Greene County. \nWalks are on Thursdays\, 9:30 – 10:30 a.m. \nAll walks are rated for difficulty with a 1 being the easiest and a 3 being the most difficult. Ratings consider terrain\, elevation changes\, etc.
URL:https://www.gcparkstrails.com/event/wellness-walkers/2025-01-02/
LOCATION:OH
END:VEVENT
BEGIN:VEVENT
DTSTART;VALUE=DATE:20250105
DTEND;VALUE=DATE:20250106
DTSTAMP:20260423T205029
CREATED:20191120T005851Z
LAST-MODIFIED:20200102T200756Z
UID:10003179-1736035200-1736121599@www.gcparkstrails.com
SUMMARY:National Bird Day
DESCRIPTION:
URL:https://www.gcparkstrails.com/event/national-bird-day/2025-01-05/
LOCATION:OH
CATEGORIES:Birding
END:VEVENT
BEGIN:VEVENT
DTSTART;VALUE=DATE:20250109
DTEND;VALUE=DATE:20250110
DTSTAMP:20260423T205029
CREATED:20191120T005930Z
LAST-MODIFIED:20191120T005930Z
UID:10003185-1736380800-1736467199@www.gcparkstrails.com
SUMMARY:National Law Enforcement Appreciation Day (Rangers)
DESCRIPTION:
URL:https://www.gcparkstrails.com/event/national-law-enforcement-appreciation-day-rangers/2025-01-09/
LOCATION:OH
END:VEVENT
BEGIN:VEVENT
DTSTART;TZID=America/New_York:20250109T093000
DTEND;TZID=America/New_York:20250109T103000
DTSTAMP:20260423T205029
CREATED:20250113T162131Z
LAST-MODIFIED:20250113T162131Z
UID:10006206-1736415000-1736418600@www.gcparkstrails.com
SUMMARY:Wellness Walkers
DESCRIPTION:Each week\, we will get our heart rate up and get moving while enjoying the outdoors in our beautiful parks. Walks are guided and self-paced. Greene County Parks & Trails\, Fairborn Parks and Recreation and the City of Beavercreek Parks Department have teamed up to provide walks all over Greene County. \nWalks are on Thursdays\, 9:30 – 10:30 a.m. \nAll walks are rated for difficulty with a 1 being the easiest and a 3 being the most difficult. Ratings consider terrain\, elevation changes\, etc.
URL:https://www.gcparkstrails.com/event/wellness-walkers/2025-01-09/
LOCATION:OH
END:VEVENT
BEGIN:VEVENT
DTSTART;TZID=America/New_York:20250111T110000
DTEND;TZID=America/New_York:20250111T140000
DTSTAMP:20260423T205029
CREATED:20250108T151855Z
LAST-MODIFIED:20250108T153017Z
UID:10005553-1736593200-1736604000@www.gcparkstrails.com
SUMMARY:Stained Glass - Registration Required
DESCRIPTION:In this class you will learn the basic techniques of working with stained glass and decorative tinning to create this work of art to display in your home. \nPrice includes personal instruction and all the supplies needed to make one sun-catcher. \n**No refunds will be provided.  Craft supplies cannot be sent home for no-show registrants
URL:https://www.gcparkstrails.com/event/stained-glass-registration-required/2025-01-11/2/
LOCATION:Narrows Reserve\, 2575 Indian Ripple Road\, Xenia\, OH\, 45385\, United States
CATEGORIES:Adults
END:VEVENT
BEGIN:VEVENT
DTSTART;TZID=America/New_York:20250111T150000
DTEND;TZID=America/New_York:20250111T180000
DTSTAMP:20260423T205029
CREATED:20250108T151855Z
LAST-MODIFIED:20250108T153017Z
UID:10005558-1736607600-1736618400@www.gcparkstrails.com
SUMMARY:Stained Glass - Registration Required
DESCRIPTION:In this class you will learn the basic techniques of working with stained glass and decorative tinning to create this work of art to display in your home. \nPrice includes personal instruction and all the supplies needed to make one sun-catcher. \n**No refunds will be provided.  Craft supplies cannot be sent home for no-show registrants
URL:https://www.gcparkstrails.com/event/stained-glass-registration-required/2025-01-11/3/
LOCATION:Narrows Reserve\, 2575 Indian Ripple Road\, Xenia\, OH\, 45385\, United States
CATEGORIES:Adults
END:VEVENT
BEGIN:VEVENT
DTSTART;TZID=America/New_York:20250116T093000
DTEND;TZID=America/New_York:20250116T103000
DTSTAMP:20260423T205029
CREATED:20250113T162131Z
LAST-MODIFIED:20250113T162131Z
UID:10006207-1737019800-1737023400@www.gcparkstrails.com
SUMMARY:Wellness Walkers
DESCRIPTION:Each week\, we will get our heart rate up and get moving while enjoying the outdoors in our beautiful parks. Walks are guided and self-paced. Greene County Parks & Trails\, Fairborn Parks and Recreation and the City of Beavercreek Parks Department have teamed up to provide walks all over Greene County. \nWalks are on Thursdays\, 9:30 – 10:30 a.m. \nAll walks are rated for difficulty with a 1 being the easiest and a 3 being the most difficult. Ratings consider terrain\, elevation changes\, etc.
URL:https://www.gcparkstrails.com/event/wellness-walkers/2025-01-16/
LOCATION:OH
END:VEVENT
BEGIN:VEVENT
DTSTART;TZID=America/New_York:20250118T183000
DTEND;TZID=America/New_York:20250118T203000
DTSTAMP:20260423T205029
CREATED:20250108T163939Z
LAST-MODIFIED:20250108T184824Z
UID:10005563-1737225000-1737232200@www.gcparkstrails.com
SUMMARY:Wacky Wayfarer Series - Blow Up Costume Hike - No Registration
DESCRIPTION:Grab your batteries and dust off those inflatable costumes! We’re going to wonder through the woods in true style! Don’t worry if you don’t have your own inflatable costume\, just join us for the fun! \n  \nDifficulty and accessibility will be listed under each event.\nLevel 1 – Flat dirt\, gravel\, or paved trail. Minimal elevation changes.\nLevel 2 – Rough dirt\, gravel\, or paved trail. Medium elevation changes.\nLevel 3 – Rocky and unstable trail. Multiple difficult elevation changes. \n  \n**Difficulty: Level 1
URL:https://www.gcparkstrails.com/event/wacky-wayfarer-series-no-registration/
LOCATION:Cemex Reserve\, 1100 Sanctuary Drive\, Fairborn\, OH\, 45324\, United States
CATEGORIES:Adults,Hiking
END:VEVENT
BEGIN:VEVENT
DTSTART;TZID=America/New_York:20250123T093000
DTEND;TZID=America/New_York:20250123T103000
DTSTAMP:20260423T205029
CREATED:20250113T162131Z
LAST-MODIFIED:20250113T162131Z
UID:10006208-1737624600-1737628200@www.gcparkstrails.com
SUMMARY:Wellness Walkers
DESCRIPTION:Each week\, we will get our heart rate up and get moving while enjoying the outdoors in our beautiful parks. Walks are guided and self-paced. Greene County Parks & Trails\, Fairborn Parks and Recreation and the City of Beavercreek Parks Department have teamed up to provide walks all over Greene County. \nWalks are on Thursdays\, 9:30 – 10:30 a.m. \nAll walks are rated for difficulty with a 1 being the easiest and a 3 being the most difficult. Ratings consider terrain\, elevation changes\, etc.
URL:https://www.gcparkstrails.com/event/wellness-walkers/2025-01-23/
LOCATION:OH
END:VEVENT
BEGIN:VEVENT
DTSTART;TZID=America/New_York:20250130T093000
DTEND;TZID=America/New_York:20250130T103000
DTSTAMP:20260423T205029
CREATED:20250113T162131Z
LAST-MODIFIED:20250113T162131Z
UID:10006209-1738229400-1738233000@www.gcparkstrails.com
SUMMARY:Wellness Walkers
DESCRIPTION:Each week\, we will get our heart rate up and get moving while enjoying the outdoors in our beautiful parks. Walks are guided and self-paced. Greene County Parks & Trails\, Fairborn Parks and Recreation and the City of Beavercreek Parks Department have teamed up to provide walks all over Greene County. \nWalks are on Thursdays\, 9:30 – 10:30 a.m. \nAll walks are rated for difficulty with a 1 being the easiest and a 3 being the most difficult. Ratings consider terrain\, elevation changes\, etc.
URL:https://www.gcparkstrails.com/event/wellness-walkers/2025-01-30/
LOCATION:OH
END:VEVENT
BEGIN:VEVENT
DTSTART;TZID=America/New_York:20250130T183000
DTEND;TZID=America/New_York:20250130T210000
DTSTAMP:20260423T205029
CREATED:20241204T180705Z
LAST-MODIFIED:20241204T181053Z
UID:10005491-1738261800-1738270800@www.gcparkstrails.com
SUMMARY:Beginner Beekeeping Class
DESCRIPTION:Are you looking to start a new hobby or explore a potential new career? If so\, this series of 6 classes will help you determine if beekeeping is a sweet fit for you. Meet fellow enthusiasts\, ask questions and learn what it takes to become a successful beekeeper. \nThree instructors with the Greene County Beekeepers Association will cover everything you need to know in order to start your own hive. You will leave with a better understanding of honey bee biology\, behavior and hive dynamics. You will learn about equipment\, hive management and maintenance as well as the seasonal life cycle of the hive and how to work with bees for their long-term hive health. \nThis program is a partnership with the Greene County Beekeepers Association. \n***If there is bad weather\, the impacted session or sessions will be taught via Zoom*** \nREGISTER NOW
URL:https://www.gcparkstrails.com/event/beginner-beekeeping-class/2025-01-30/
LOCATION:GCPT Headquarters\, 635 Dayton-Xenia Rd.\, Xenia\, OH\, 45385
CATEGORIES:Beekeeping
ATTACH;FMTTYPE=image/jpeg:https://www.gcparkstrails.com/wp-content/uploads/2019/12/FBEvent-Beekeeping.jpg
END:VEVENT
END:VCALENDAR