BEGIN:VCALENDAR
VERSION:2.0
PRODID:-//Greene County Parks &amp; Trails - ECPv6.15.18//NONSGML v1.0//EN
CALSCALE:GREGORIAN
METHOD:PUBLISH
X-ORIGINAL-URL:https://www.gcparkstrails.com
X-WR-CALDESC:Events for Greene County Parks &amp; Trails
REFRESH-INTERVAL;VALUE=DURATION:PT1H
X-Robots-Tag:noindex
X-PUBLISHED-TTL:PT1H
BEGIN:VTIMEZONE
TZID:America/New_York
BEGIN:DAYLIGHT
TZOFFSETFROM:-0500
TZOFFSETTO:-0400
TZNAME:EDT
DTSTART:20230312T070000
END:DAYLIGHT
BEGIN:STANDARD
TZOFFSETFROM:-0400
TZOFFSETTO:-0500
TZNAME:EST
DTSTART:20231105T060000
END:STANDARD
BEGIN:DAYLIGHT
TZOFFSETFROM:-0500
TZOFFSETTO:-0400
TZNAME:EDT
DTSTART:20240310T070000
END:DAYLIGHT
BEGIN:STANDARD
TZOFFSETFROM:-0400
TZOFFSETTO:-0500
TZNAME:EST
DTSTART:20241103T060000
END:STANDARD
BEGIN:DAYLIGHT
TZOFFSETFROM:-0500
TZOFFSETTO:-0400
TZNAME:EDT
DTSTART:20250309T070000
END:DAYLIGHT
BEGIN:STANDARD
TZOFFSETFROM:-0400
TZOFFSETTO:-0500
TZNAME:EST
DTSTART:20251102T060000
END:STANDARD
END:VTIMEZONE
BEGIN:VEVENT
DTSTART;TZID=America/New_York:20241214T100000
DTEND;TZID=America/New_York:20241214T120000
DTSTAMP:20260421T111627
CREATED:20240206T205245Z
LAST-MODIFIED:20241209T173438Z
UID:10004330-1734170400-1734177600@www.gcparkstrails.com
SUMMARY:Wigglehoppers: The Magic of Believing
DESCRIPTION:Abracadabra\, alakazam! If you wanted to learn magic\, now you can! \nBring your Wiggle Worms out for a day of all things magic. Watch a magic show\, learn some magic tricks and create some magic of your own! \nWigglehoppers\nSometimes it is just better to have fun together! \nBecause of this\, we will sometimes join our Wiggle Worms and Greene Grasshoppers into Wigglehoppers for double the fun… \nSo kiddos ages 2-9 are encouraged to join us for some holiday fun…free as always!  The Wigglehoppers program is for November and December only. \nNo Registration Required
URL:https://www.gcparkstrails.com/event/wigglehoppers-the-magic-of-believing/
LOCATION:GCPT Headquarters\, 635 Dayton-Xenia Rd.\, Xenia\, OH\, 45385
CATEGORIES:Greene Grasshoppers,Wiggle Worms
END:VEVENT
END:VCALENDAR