BEGIN:VCALENDAR
VERSION:2.0
PRODID:-//Greene County Parks &amp; Trails - ECPv6.15.18//NONSGML v1.0//EN
CALSCALE:GREGORIAN
METHOD:PUBLISH
X-WR-CALNAME:Greene County Parks &amp; Trails
X-ORIGINAL-URL:https://www.gcparkstrails.com
X-WR-CALDESC:Events for Greene County Parks &amp; Trails
REFRESH-INTERVAL;VALUE=DURATION:PT1H
X-Robots-Tag:noindex
X-PUBLISHED-TTL:PT1H
BEGIN:VTIMEZONE
TZID:America/New_York
BEGIN:DAYLIGHT
TZOFFSETFROM:-0500
TZOFFSETTO:-0400
TZNAME:EDT
DTSTART:20240310T070000
END:DAYLIGHT
BEGIN:STANDARD
TZOFFSETFROM:-0400
TZOFFSETTO:-0500
TZNAME:EST
DTSTART:20241103T060000
END:STANDARD
BEGIN:DAYLIGHT
TZOFFSETFROM:-0500
TZOFFSETTO:-0400
TZNAME:EDT
DTSTART:20250309T070000
END:DAYLIGHT
BEGIN:STANDARD
TZOFFSETFROM:-0400
TZOFFSETTO:-0500
TZNAME:EST
DTSTART:20251102T060000
END:STANDARD
BEGIN:DAYLIGHT
TZOFFSETFROM:-0500
TZOFFSETTO:-0400
TZNAME:EDT
DTSTART:20260308T070000
END:DAYLIGHT
BEGIN:STANDARD
TZOFFSETFROM:-0400
TZOFFSETTO:-0500
TZNAME:EST
DTSTART:20261101T060000
END:STANDARD
END:VTIMEZONE
BEGIN:VEVENT
DTSTART;TZID=America/New_York:20250412T193000
DTEND;TZID=America/New_York:20250412T220000
DTSTAMP:20260424T053101
CREATED:20250108T182037Z
LAST-MODIFIED:20250108T182059Z
UID:10005582-1744486200-1744495200@www.gcparkstrails.com
SUMMARY:GTO Teen Egg Hunt - Registration Required
DESCRIPTION:Extreme Egg Hunts aren’t just for adults anymore!! This Extreme hunt is just for our TWEENS and TEENS!! Those aged 10-17 – bring your friends\, bring your flashlights and bring the HYPE!!! Prizes could possibly await you as you exit the dark woods with your findings! Because your child can finish at any time\, parents are required to stay for this program. Feel free to wait in your car or watch them in the amphitheater. Registration – 7:30pm – 8:15 pm Hunt – Shortly after registration No prizes will be awarded after the conclusion of the event. Bags are not permitted upon entry.
URL:https://www.gcparkstrails.com/event/gto-teen-egg-hunt/
LOCATION:Caesar Ford Park\, 520 South Stringtown Road\, Xenia\, OH\, 45385\, United States
CATEGORIES:Teens,Tweens
END:VEVENT
END:VCALENDAR