BEGIN:VCALENDAR
VERSION:2.0
PRODID:-//Greene County Parks &amp; Trails - ECPv6.15.18//NONSGML v1.0//EN
CALSCALE:GREGORIAN
METHOD:PUBLISH
X-ORIGINAL-URL:https://www.gcparkstrails.com
X-WR-CALDESC:Events for Greene County Parks &amp; Trails
REFRESH-INTERVAL;VALUE=DURATION:PT1H
X-Robots-Tag:noindex
X-PUBLISHED-TTL:PT1H
BEGIN:VTIMEZONE
TZID:America/New_York
BEGIN:DAYLIGHT
TZOFFSETFROM:-0500
TZOFFSETTO:-0400
TZNAME:EDT
DTSTART:20230312T070000
END:DAYLIGHT
BEGIN:STANDARD
TZOFFSETFROM:-0400
TZOFFSETTO:-0500
TZNAME:EST
DTSTART:20231105T060000
END:STANDARD
BEGIN:DAYLIGHT
TZOFFSETFROM:-0500
TZOFFSETTO:-0400
TZNAME:EDT
DTSTART:20240310T070000
END:DAYLIGHT
BEGIN:STANDARD
TZOFFSETFROM:-0400
TZOFFSETTO:-0500
TZNAME:EST
DTSTART:20241103T060000
END:STANDARD
BEGIN:DAYLIGHT
TZOFFSETFROM:-0500
TZOFFSETTO:-0400
TZNAME:EDT
DTSTART:20250309T070000
END:DAYLIGHT
BEGIN:STANDARD
TZOFFSETFROM:-0400
TZOFFSETTO:-0500
TZNAME:EST
DTSTART:20251102T060000
END:STANDARD
END:VTIMEZONE
BEGIN:VEVENT
DTSTART;TZID=America/New_York:20240723T133000
DTEND;TZID=America/New_York:20240723T143000
DTSTAMP:20260421T113432
CREATED:20240207T201757Z
LAST-MODIFIED:20240207T201757Z
UID:10004645-1721741400-1721745000@www.gcparkstrails.com
SUMMARY:WITS Workout
DESCRIPTION:This is an engaging and interactive brain health program that effectively improves your short-term and long-term memory and ability to recall.  Wits Workout utilizes games and puzzles to exercise both sides of your brain\, reinforcing the connections of our brain cells.  This helps us to improve our memory\, problem solving skills\, and visual spatial reasoning.  Games and puzzles are also fun\, with some of the bonuses being increased socialization\, increasing friendships\, relaxing your body and elevating your mood. \nCome out and join us for this interactive and fun program! \nLaura Halladay\, NDTR\, Family & Consumer Sciences Educator\, Ohio State University Extension\, Greene County\, will present this fun and informative program at the Fairgrounds Rec. Center! \nPicnic tables are provided.  Please bring a chair or blanket for your comfort. \nThis is a FREE program. \nNo Registration Required
URL:https://www.gcparkstrails.com/event/wits-workout/
LOCATION:Fairgrounds Recreation Center\, 210 Fairground Road\, Xenia\, OH\, 45385\, United States
CATEGORIES:Seniors
END:VEVENT
END:VCALENDAR