BEGIN:VCALENDAR
VERSION:2.0
PRODID:-//Greene County Parks &amp; Trails - ECPv6.15.18//NONSGML v1.0//EN
CALSCALE:GREGORIAN
METHOD:PUBLISH
X-WR-CALNAME:Greene County Parks &amp; Trails
X-ORIGINAL-URL:https://www.gcparkstrails.com
X-WR-CALDESC:Events for Greene County Parks &amp; Trails
REFRESH-INTERVAL;VALUE=DURATION:PT1H
X-Robots-Tag:noindex
X-PUBLISHED-TTL:PT1H
BEGIN:VTIMEZONE
TZID:America/New_York
BEGIN:DAYLIGHT
TZOFFSETFROM:-0500
TZOFFSETTO:-0400
TZNAME:EDT
DTSTART:20230312T070000
END:DAYLIGHT
BEGIN:STANDARD
TZOFFSETFROM:-0400
TZOFFSETTO:-0500
TZNAME:EST
DTSTART:20231105T060000
END:STANDARD
BEGIN:DAYLIGHT
TZOFFSETFROM:-0500
TZOFFSETTO:-0400
TZNAME:EDT
DTSTART:20240310T070000
END:DAYLIGHT
BEGIN:STANDARD
TZOFFSETFROM:-0400
TZOFFSETTO:-0500
TZNAME:EST
DTSTART:20241103T060000
END:STANDARD
BEGIN:DAYLIGHT
TZOFFSETFROM:-0500
TZOFFSETTO:-0400
TZNAME:EDT
DTSTART:20250309T070000
END:DAYLIGHT
BEGIN:STANDARD
TZOFFSETFROM:-0400
TZOFFSETTO:-0500
TZNAME:EST
DTSTART:20251102T060000
END:STANDARD
END:VTIMEZONE
BEGIN:VEVENT
DTSTART;TZID=America/New_York:20240520T130000
DTEND;TZID=America/New_York:20240520T140000
DTSTAMP:20260421T135436
CREATED:20240207T152231Z
LAST-MODIFIED:20240207T152231Z
UID:10004627-1716210000-1716213600@www.gcparkstrails.com
SUMMARY:Porch Pots
DESCRIPTION:Join us at the Fairgrounds Recreation Center Park to learn the Secret for creating and maintaining beautiful porch pots! \nKim Hupman\, Horticulture Program Assistant\, Ohio State University Extension\, Greene County\, will be joining us to present information in reference to the topic of “Porch Pots”.  Kim will present helpful information and answer questions on the topic of creating\, planting\, and maintaining plants in pots. \nThis is a FREE program. \nPicnic tables are available.  Please bring a chair or blanket for your comfort. \n  No Registration Required
URL:https://www.gcparkstrails.com/event/porch-pots/
LOCATION:Fairgrounds Recreation Center\, 210 Fairground Road\, Xenia\, OH\, 45385\, United States
CATEGORIES:Seniors
END:VEVENT
END:VCALENDAR