BEGIN:VCALENDAR
VERSION:2.0
PRODID:-//Greene County Parks &amp; Trails - ECPv6.15.18//NONSGML v1.0//EN
CALSCALE:GREGORIAN
METHOD:PUBLISH
X-WR-CALNAME:Greene County Parks &amp; Trails
X-ORIGINAL-URL:https://www.gcparkstrails.com
X-WR-CALDESC:Events for Greene County Parks &amp; Trails
REFRESH-INTERVAL;VALUE=DURATION:PT1H
X-Robots-Tag:noindex
X-PUBLISHED-TTL:PT1H
BEGIN:VTIMEZONE
TZID:America/New_York
BEGIN:DAYLIGHT
TZOFFSETFROM:-0500
TZOFFSETTO:-0400
TZNAME:EDT
DTSTART:20230312T070000
END:DAYLIGHT
BEGIN:STANDARD
TZOFFSETFROM:-0400
TZOFFSETTO:-0500
TZNAME:EST
DTSTART:20231105T060000
END:STANDARD
BEGIN:DAYLIGHT
TZOFFSETFROM:-0500
TZOFFSETTO:-0400
TZNAME:EDT
DTSTART:20240310T070000
END:DAYLIGHT
BEGIN:STANDARD
TZOFFSETFROM:-0400
TZOFFSETTO:-0500
TZNAME:EST
DTSTART:20241103T060000
END:STANDARD
BEGIN:DAYLIGHT
TZOFFSETFROM:-0500
TZOFFSETTO:-0400
TZNAME:EDT
DTSTART:20250309T070000
END:DAYLIGHT
BEGIN:STANDARD
TZOFFSETFROM:-0400
TZOFFSETTO:-0500
TZNAME:EST
DTSTART:20251102T060000
END:STANDARD
END:VTIMEZONE
BEGIN:VEVENT
DTSTART;TZID=America/New_York:20240515T110000
DTEND;TZID=America/New_York:20240515T130000
DTSTAMP:20260421T152447
CREATED:20240207T151801Z
LAST-MODIFIED:20240207T151801Z
UID:10004628-1715770800-1715778000@www.gcparkstrails.com
SUMMARY:Picnic in the Park
DESCRIPTION:Come join us along with adult members of our community for a delicious PICNIC IN THE PARK! \nThere will be lots of good food fit for a picnic including hamburgers\, hotdogs\, chips\, veggies\, & refreshing drinks. \nWe will spend time together in the park and sharing fun memories of our past and present; and\, listen to music all while enjoying our scenic park atmosphere. There will be entertainment by Gery Deer\, a professional whip cracker! \nPlease plan to eat\, drink\, and make new friends as we share time in our park!  See you there. \nRegistrations are requested to help with supplies. \nThis is a FREE program. \nPicnic tables are available\, you are welcome to bring a comfortable chair or cushion.
URL:https://www.gcparkstrails.com/event/picnic-in-the-park/
LOCATION:Fairgrounds Recreation Center\, 210 Fairground Road\, Xenia\, OH\, 45385\, United States
CATEGORIES:Seniors
END:VEVENT
END:VCALENDAR