BEGIN:VCALENDAR
VERSION:2.0
PRODID:-//Greene County Parks &amp; Trails - ECPv6.15.18//NONSGML v1.0//EN
CALSCALE:GREGORIAN
METHOD:PUBLISH
X-ORIGINAL-URL:https://www.gcparkstrails.com
X-WR-CALDESC:Events for Greene County Parks &amp; Trails
REFRESH-INTERVAL;VALUE=DURATION:PT1H
X-Robots-Tag:noindex
X-PUBLISHED-TTL:PT1H
BEGIN:VTIMEZONE
TZID:America/New_York
BEGIN:DAYLIGHT
TZOFFSETFROM:-0500
TZOFFSETTO:-0400
TZNAME:EDT
DTSTART:20230312T070000
END:DAYLIGHT
BEGIN:STANDARD
TZOFFSETFROM:-0400
TZOFFSETTO:-0500
TZNAME:EST
DTSTART:20231105T060000
END:STANDARD
BEGIN:DAYLIGHT
TZOFFSETFROM:-0500
TZOFFSETTO:-0400
TZNAME:EDT
DTSTART:20240310T070000
END:DAYLIGHT
BEGIN:STANDARD
TZOFFSETFROM:-0400
TZOFFSETTO:-0500
TZNAME:EST
DTSTART:20241103T060000
END:STANDARD
BEGIN:DAYLIGHT
TZOFFSETFROM:-0500
TZOFFSETTO:-0400
TZNAME:EDT
DTSTART:20250309T070000
END:DAYLIGHT
BEGIN:STANDARD
TZOFFSETFROM:-0400
TZOFFSETTO:-0500
TZNAME:EST
DTSTART:20251102T060000
END:STANDARD
END:VTIMEZONE
BEGIN:VEVENT
DTSTART;TZID=America/New_York:20240430T113000
DTEND;TZID=America/New_York:20240430T123000
DTSTAMP:20260421T152531
CREATED:20240207T143840Z
LAST-MODIFIED:20240430T173635Z
UID:10004634-1714476600-1714480200@www.gcparkstrails.com
SUMMARY:Humor & Stress
DESCRIPTION:Stress differs for everyone\, and it is unrealistic to think we can live without stress.  Incorporating humor and laughter can lighten your load mentally and induce physical changes in your body. \nLaura Halladay\, NDTR\, Family & Consumer Sciences Educator\, Ohio State University Extension\, Greene County\, will be joining us at the Fairgrounds Rec. Center Park to present information in reference to the topic of “Humor & Stress”.  Learn more about the positive benefits and ways of embracing humor and laughter in your daily life! \nLaura will present helpful information and answer questions on the topic(s) of humor and stress.  Please join us at the park to learn more about humor and share a few laughs. \nPicnic tables are available.  Please bring a chair or blanket for your comfort. \nThis is a FREE program.
URL:https://www.gcparkstrails.com/event/humor-stress/
LOCATION:Fairgrounds Recreation Center\, 210 Fairground Road\, Xenia\, OH\, 45385\, United States
CATEGORIES:Seniors
END:VEVENT
END:VCALENDAR