BEGIN:VCALENDAR
VERSION:2.0
PRODID:-//Greene County Parks &amp; Trails - ECPv6.15.18//NONSGML v1.0//EN
CALSCALE:GREGORIAN
METHOD:PUBLISH
X-WR-CALNAME:Greene County Parks &amp; Trails
X-ORIGINAL-URL:https://www.gcparkstrails.com
X-WR-CALDESC:Events for Greene County Parks &amp; Trails
REFRESH-INTERVAL;VALUE=DURATION:PT1H
X-Robots-Tag:noindex
X-PUBLISHED-TTL:PT1H
BEGIN:VTIMEZONE
TZID:America/New_York
BEGIN:DAYLIGHT
TZOFFSETFROM:-0500
TZOFFSETTO:-0400
TZNAME:EDT
DTSTART:20230312T070000
END:DAYLIGHT
BEGIN:STANDARD
TZOFFSETFROM:-0400
TZOFFSETTO:-0500
TZNAME:EST
DTSTART:20231105T060000
END:STANDARD
BEGIN:DAYLIGHT
TZOFFSETFROM:-0500
TZOFFSETTO:-0400
TZNAME:EDT
DTSTART:20240310T070000
END:DAYLIGHT
BEGIN:STANDARD
TZOFFSETFROM:-0400
TZOFFSETTO:-0500
TZNAME:EST
DTSTART:20241103T060000
END:STANDARD
BEGIN:DAYLIGHT
TZOFFSETFROM:-0500
TZOFFSETTO:-0400
TZNAME:EDT
DTSTART:20250309T070000
END:DAYLIGHT
BEGIN:STANDARD
TZOFFSETFROM:-0400
TZOFFSETTO:-0500
TZNAME:EST
DTSTART:20251102T060000
END:STANDARD
END:VTIMEZONE
BEGIN:VEVENT
DTSTART;TZID=America/New_York:20240911T133000
DTEND;TZID=America/New_York:20240911T144500
DTSTAMP:20260421T061612
CREATED:20240207T201514Z
LAST-MODIFIED:20240207T201514Z
UID:10004644-1726061400-1726065900@www.gcparkstrails.com
SUMMARY:Beyond BINGO in the Park
DESCRIPTION:“B-I-N-G-O” – BEYOND BINGO IN THE PARK………. \nLet’s get together at the Fairgrounds Rec. Center Park and play some Beyond Bingo!\nThis is a FREE program that will have some prizes for winners and good fun and laughs for all! \nWill you be a Winner?  Come on out and find out! \nWhat better way to play and enjoy BINGO than in one of our beautiful Greene County Parks! \nPicnic tables are available.  Please bring a chair or cushion for your comfort. \nNo Registration Required
URL:https://www.gcparkstrails.com/event/beyond-bingo-in-the-park/2024-09-11/
LOCATION:Fairgrounds Recreation Center\, 210 Fairground Road\, Xenia\, OH\, 45385\, United States
CATEGORIES:Seniors
END:VEVENT
BEGIN:VEVENT
DTSTART;TZID=America/New_York:20240918T140000
DTEND;TZID=America/New_York:20240918T153000
DTSTAMP:20260421T061612
CREATED:20240207T150740Z
LAST-MODIFIED:20240207T150740Z
UID:10004632-1726668000-1726673400@www.gcparkstrails.com
SUMMARY:Music in the Park: David Mullikin
DESCRIPTION:David Mullikin \nLocal singer from Xenia\, in the park. David enjoys performing songs from various eras for your enjoyment. \nMusic in the Park\nIt’s that time of year for Music in the Park!  Let’s get together and listen to some “oldies but goodies” tunes! \nLet’s get out into the Greene County Parks and listen to some good music\, sing along\, and clap to the beat of the songs!  See you there! \nPicnic tables are available. Please feel free to bring a chair or blanket if you prefer. \nThese are FREE programs. \nNo Registration Required
URL:https://www.gcparkstrails.com/event/music-in-the-park-david-mullikin/2024-09-18/
LOCATION:Fairgrounds Recreation Center\, 210 Fairground Road\, Xenia\, OH\, 45385\, United States
CATEGORIES:Music,Seniors
END:VEVENT
BEGIN:VEVENT
DTSTART;TZID=America/New_York:20240924T180000
DTEND;TZID=America/New_York:20240924T200000
DTSTAMP:20260421T061612
CREATED:20240207T205859Z
LAST-MODIFIED:20240207T205859Z
UID:10004658-1727200800-1727208000@www.gcparkstrails.com
SUMMARY:Art in the Park
DESCRIPTION:Create your own art masterpiece while enjoying the park atmosphere at Fairgrounds Recreation Center! \nYou will receive a blank canvas upon which you may paint/create your masterpiece. Paint will also be provided during the program. Whether you paint or draw your favorite object &/or person\, or paint a nature scene in our park\, it will be a nice time to enjoy other “artist’s camaraderie” during this program. \nPlease join us and create your own work of art that you may enjoy for years to come\, or that you may want to give as a gift to someone special! \nPicnic tables are available.  Please bring your own comfortable chair or cushion for your comfort. \nThis is a free program but registration is required.
URL:https://www.gcparkstrails.com/event/art-in-the-park-2/
LOCATION:Fairgrounds Recreation Center\, 210 Fairground Road\, Xenia\, OH\, 45385\, United States
CATEGORIES:Seniors
END:VEVENT
BEGIN:VEVENT
DTSTART;TZID=America/New_York:20240925T013000
DTEND;TZID=America/New_York:20240925T143000
DTSTAMP:20260421T061612
CREATED:20240207T204945Z
LAST-MODIFIED:20240814T150952Z
UID:10004656-1727227800-1727274600@www.gcparkstrails.com
SUMMARY:Protect Your Skin
DESCRIPTION:There is no such thing as a “safe” or “healthy” tan.  By age 70\, one in five of us will be affected by skin cancer.  In this program\, participants will learn about the effects of ultraviolet light on skin and eyes\, types of cancer\, and sun safety strategies\, along with learning more about the effectiveness of sunscreen. \nThis program includes a free sun damage screening with a DermaScan. \nLaura Halladay\, NDTR\, Family & Consumer Sciences Educator\, Ohio State University Extension\, Greene County\, will present helpful information and answer questions on this topic. \nPicnic tables are available.  Please bring a chair or cushion for your comfort. \nThis is a FREE program. \nNo Registration Required
URL:https://www.gcparkstrails.com/event/protect-your-skin/
LOCATION:Fairgrounds Recreation Center\, 210 Fairground Road\, Xenia\, OH\, 45385\, United States
CATEGORIES:Seniors
END:VEVENT
END:VCALENDAR