BEGIN:VCALENDAR
VERSION:2.0
PRODID:-//Greene County Parks &amp; Trails - ECPv6.15.18//NONSGML v1.0//EN
CALSCALE:GREGORIAN
METHOD:PUBLISH
X-ORIGINAL-URL:https://www.gcparkstrails.com
X-WR-CALDESC:Events for Greene County Parks &amp; Trails
REFRESH-INTERVAL;VALUE=DURATION:PT1H
X-Robots-Tag:noindex
X-PUBLISHED-TTL:PT1H
BEGIN:VTIMEZONE
TZID:America/New_York
BEGIN:DAYLIGHT
TZOFFSETFROM:-0500
TZOFFSETTO:-0400
TZNAME:EDT
DTSTART:20230312T070000
END:DAYLIGHT
BEGIN:STANDARD
TZOFFSETFROM:-0400
TZOFFSETTO:-0500
TZNAME:EST
DTSTART:20231105T060000
END:STANDARD
BEGIN:DAYLIGHT
TZOFFSETFROM:-0500
TZOFFSETTO:-0400
TZNAME:EDT
DTSTART:20240310T070000
END:DAYLIGHT
BEGIN:STANDARD
TZOFFSETFROM:-0400
TZOFFSETTO:-0500
TZNAME:EST
DTSTART:20241103T060000
END:STANDARD
BEGIN:DAYLIGHT
TZOFFSETFROM:-0500
TZOFFSETTO:-0400
TZNAME:EDT
DTSTART:20250309T070000
END:DAYLIGHT
BEGIN:STANDARD
TZOFFSETFROM:-0400
TZOFFSETTO:-0500
TZNAME:EST
DTSTART:20251102T060000
END:STANDARD
END:VTIMEZONE
BEGIN:VEVENT
DTSTART;TZID=America/New_York:20240603T103000
DTEND;TZID=America/New_York:20240603T113000
DTSTAMP:20260421T104651
CREATED:20240207T155736Z
LAST-MODIFIED:20240207T192348Z
UID:10004635-1717410600-1717414200@www.gcparkstrails.com
SUMMARY:Fishing at Spring Lakes Park
DESCRIPTION:Fishing is one of the most relaxing ways to enjoy the great outdoors at one of our Greene County Parks! \nPlease plan to join us at the Spring Lakes Park in Bellbrook.  There will be fishing and enjoying time together in a calm and serene atmosphere.  Plenty of time to share fishing stories! \nThere will be “surprise prizes” awarded for the various fish caught.  You have to show up and fish to find out what those prizes are…….! \nThis is a FREE program.  Free bait will be available while supplies last. \nPlease bring a comfortable chair or blanket for your comfort.  Picnic areas are available. \nNo Registration Required
URL:https://www.gcparkstrails.com/event/fishing-at-spring-lakes-park/
LOCATION:Spring Lakes Park\, 2191 Ferry Road\, Bellbrook\, OH\, 45305\, United States
CATEGORIES:Seniors
END:VEVENT
BEGIN:VEVENT
DTSTART;TZID=America/New_York:20240608T130000
DTEND;TZID=America/New_York:20240608T143000
DTSTAMP:20260421T104651
CREATED:20240207T192711Z
LAST-MODIFIED:20240207T192711Z
UID:10004636-1717851600-1717857000@www.gcparkstrails.com
SUMMARY:Fabulous Fairy Gardening
DESCRIPTION:Have you ever wanted to create your own “Fabulous Fairy Garden”?  Please plan to attend and this program and bring a grandchild\, or just yourself\, and learn to put together a quick and easy fairy garden! \nYou will also take a quick guided tour through the James Ranch Garden for inspiration!  Following the tour\, you will have the opportunity to make a project to take home with you. \nKim Hupman\, Horticulture Program Assistant\, Ohio State University Extension\, Greene County\, will present this fun program and lead you through the process of creating your very own Fabulous Fairy Garden! \nSupplies will be provided.  This is a FREE program. \nPicnic tables are provided.  Please bring a chair or cushion for your comfort.
URL:https://www.gcparkstrails.com/event/fabulous-fairy-gardening/
LOCATION:James Ranch Park\, 177 Fairground Road\, Xenia\, OH\, 45385\, United States
CATEGORIES:Seniors
END:VEVENT
BEGIN:VEVENT
DTSTART;TZID=America/New_York:20240612T133000
DTEND;TZID=America/New_York:20240612T150000
DTSTAMP:20260421T104651
CREATED:20240207T192943Z
LAST-MODIFIED:20240207T192943Z
UID:10004637-1718199000-1718204400@www.gcparkstrails.com
SUMMARY:4 Paws for Ability & Service Dog In-Training Demonstration
DESCRIPTION:Please plan to join us at the Fairgrounds Recreation Center Park to learn about the local 4 PAWS FOR ABILITY Program\, as well as to observe a presentation and a Service Dog In-Training demonstration! \n4 PAWS FOR ABILITY is a local program located in Xenia\, Ohio\, and places more than ten types of service dogs with children\, adults\, and veterans with disabilities.  Reportedly\, over 1800 service dogs have been placed with children and veterans with disabilities since 1998! \n4 PAWS FOR ABILITY will join us at the Fairgrounds Rec. Center Park to present information and answer questions in reference to their service dog program. \nAt the conclusion of the presentation\, you will have the opportunity to take your own “support dog” home with you (stuffed toy dog)…….\n\nPicnic tables are available or bring your own comfortable chair or cushion for your comfort. \nThis is a FREE program. Registration is required due to supplies.
URL:https://www.gcparkstrails.com/event/4-paws-for-ability-service-dog-in-training-demonstration/
LOCATION:Fairgrounds Recreation Center\, 210 Fairground Road\, Xenia\, OH\, 45385\, United States
CATEGORIES:Seniors
END:VEVENT
BEGIN:VEVENT
DTSTART;TZID=America/New_York:20240618T133000
DTEND;TZID=America/New_York:20240618T143000
DTSTAMP:20260421T104651
CREATED:20240207T193108Z
LAST-MODIFIED:20240207T193108Z
UID:10004638-1718717400-1718721000@www.gcparkstrails.com
SUMMARY:Take Charge of your Diabetes
DESCRIPTION:Laura Halladay\, NDTR\, Family & Consumer Sciences Educator\, Ohio State University Extension\, Greene County\, will be joining us at the Fairgrounds Rec. Center Park to present information in reference to “Taking Charge of Your Diabetes”. \nLearn more about the signs of diabetes\, possible complications\, and ways to manage the diagnosis\, including simple steps and learning to prepare nutritious and tasty food.  This program is for those with diabetes or pre-diabetes and their family members or caretakers. \nLaura will present helpful information and answer questions on the topic of diabetes. \nPlease join us at the park to learn more about this important health care topic! \nThis is a FREE program. \nPicnic tables are available.  Please bring a chair or cushion for your comfort. \n No Registration Required
URL:https://www.gcparkstrails.com/event/take-charge-of-your-diabetes/
LOCATION:Fairgrounds Recreation Center\, 210 Fairground Road\, Xenia\, OH\, 45385\, United States
CATEGORIES:Seniors
END:VEVENT
BEGIN:VEVENT
DTSTART;TZID=America/New_York:20240626T140000
DTEND;TZID=America/New_York:20240626T153000
DTSTAMP:20260421T104651
CREATED:20240207T150740Z
LAST-MODIFIED:20240207T150740Z
UID:10004630-1719410400-1719415800@www.gcparkstrails.com
SUMMARY:Music in the Park: David Mullikin
DESCRIPTION:David Mullikin \nLocal singer from Xenia\, in the park. David enjoys performing songs from various eras for your enjoyment. \nMusic in the Park\nIt’s that time of year for Music in the Park!  Let’s get together and listen to some “oldies but goodies” tunes! \nLet’s get out into the Greene County Parks and listen to some good music\, sing along\, and clap to the beat of the songs!  See you there! \nPicnic tables are available. Please feel free to bring a chair or blanket if you prefer. \nThese are FREE programs. \nNo Registration Required
URL:https://www.gcparkstrails.com/event/music-in-the-park-david-mullikin/2024-06-26/
LOCATION:Fairgrounds Recreation Center\, 210 Fairground Road\, Xenia\, OH\, 45385\, United States
CATEGORIES:Music,Seniors
END:VEVENT
END:VCALENDAR