BEGIN:VCALENDAR
VERSION:2.0
PRODID:-//Greene County Parks &amp; Trails - ECPv6.15.18//NONSGML v1.0//EN
CALSCALE:GREGORIAN
METHOD:PUBLISH
X-WR-CALNAME:Greene County Parks &amp; Trails
X-ORIGINAL-URL:https://www.gcparkstrails.com
X-WR-CALDESC:Events for Greene County Parks &amp; Trails
REFRESH-INTERVAL;VALUE=DURATION:PT1H
X-Robots-Tag:noindex
X-PUBLISHED-TTL:PT1H
BEGIN:VTIMEZONE
TZID:America/New_York
BEGIN:DAYLIGHT
TZOFFSETFROM:-0500
TZOFFSETTO:-0400
TZNAME:EDT
DTSTART:20250309T070000
END:DAYLIGHT
BEGIN:STANDARD
TZOFFSETFROM:-0400
TZOFFSETTO:-0500
TZNAME:EST
DTSTART:20251102T060000
END:STANDARD
BEGIN:DAYLIGHT
TZOFFSETFROM:-0500
TZOFFSETTO:-0400
TZNAME:EDT
DTSTART:20260308T070000
END:DAYLIGHT
BEGIN:STANDARD
TZOFFSETFROM:-0400
TZOFFSETTO:-0500
TZNAME:EST
DTSTART:20261101T060000
END:STANDARD
BEGIN:DAYLIGHT
TZOFFSETFROM:-0500
TZOFFSETTO:-0400
TZNAME:EDT
DTSTART:20270314T070000
END:DAYLIGHT
BEGIN:STANDARD
TZOFFSETFROM:-0400
TZOFFSETTO:-0500
TZNAME:EST
DTSTART:20271107T060000
END:STANDARD
END:VTIMEZONE
BEGIN:VEVENT
DTSTART;TZID=America/New_York:20260418T100000
DTEND;TZID=America/New_York:20260418T120000
DTSTAMP:20260422T110118
CREATED:20260325T182724Z
LAST-MODIFIED:20260325T182724Z
UID:10007094-1776506400-1776513600@www.gcparkstrails.com
SUMMARY:Spa Day - Registration Required
DESCRIPTION:Calling all young spa lovers…grab your favorite grown-up and join us for a fun-filled spa day made just for kids!\nParticipants will rotate through a variety of relaxing and creative spa-inspired stations designed especially for ages 4–9. Along the way\, they’ll enjoy hands-on activities\, light refreshments\, and plenty of opportunities to feel pampered and special. Each child will leave with cozy spa surprises and a reusable bag filled with goodies to remember the day.\nPlease only register the child/children participating. An adult is required to remain with and participate alongside the child/children throughout the spa day.\nDue to space limitations\, we are only able to accommodate registered participants and one adult companion per child. Additional guests are not able to be accommodated
URL:https://www.gcparkstrails.com/event/spa-day-registration-required-2/2026-04-18/1/
LOCATION:Caesar Ford Park\, 520 South Stringtown Road\, Xenia\, OH\, 45385\, United States
CATEGORIES:Kids
END:VEVENT
BEGIN:VEVENT
DTSTART;TZID=America/New_York:20260418T130000
DTEND;TZID=America/New_York:20260418T150000
DTSTAMP:20260422T110118
CREATED:20260325T182724Z
LAST-MODIFIED:20260325T182724Z
UID:10007095-1776517200-1776524400@www.gcparkstrails.com
SUMMARY:Spa Day - Registration Required
DESCRIPTION:Calling all young spa lovers…grab your favorite grown-up and join us for a fun-filled spa day made just for kids!\nParticipants will rotate through a variety of relaxing and creative spa-inspired stations designed especially for ages 4–9. Along the way\, they’ll enjoy hands-on activities\, light refreshments\, and plenty of opportunities to feel pampered and special. Each child will leave with cozy spa surprises and a reusable bag filled with goodies to remember the day.\nPlease only register the child/children participating. An adult is required to remain with and participate alongside the child/children throughout the spa day.\nDue to space limitations\, we are only able to accommodate registered participants and one adult companion per child. Additional guests are not able to be accommodated
URL:https://www.gcparkstrails.com/event/spa-day-registration-required-2/2026-04-18/2/
LOCATION:Caesar Ford Park\, 520 South Stringtown Road\, Xenia\, OH\, 45385\, United States
CATEGORIES:Kids
END:VEVENT
END:VCALENDAR