BEGIN:VCALENDAR
VERSION:2.0
PRODID:-//Greene County Parks &amp; Trails - ECPv6.15.18//NONSGML v1.0//EN
CALSCALE:GREGORIAN
METHOD:PUBLISH
X-ORIGINAL-URL:https://www.gcparkstrails.com
X-WR-CALDESC:Events for Greene County Parks &amp; Trails
REFRESH-INTERVAL;VALUE=DURATION:PT1H
X-Robots-Tag:noindex
X-PUBLISHED-TTL:PT1H
BEGIN:VTIMEZONE
TZID:America/New_York
BEGIN:DAYLIGHT
TZOFFSETFROM:-0500
TZOFFSETTO:-0400
TZNAME:EDT
DTSTART:20250309T070000
END:DAYLIGHT
BEGIN:STANDARD
TZOFFSETFROM:-0400
TZOFFSETTO:-0500
TZNAME:EST
DTSTART:20251102T060000
END:STANDARD
BEGIN:DAYLIGHT
TZOFFSETFROM:-0500
TZOFFSETTO:-0400
TZNAME:EDT
DTSTART:20260308T070000
END:DAYLIGHT
BEGIN:STANDARD
TZOFFSETFROM:-0400
TZOFFSETTO:-0500
TZNAME:EST
DTSTART:20261101T060000
END:STANDARD
BEGIN:DAYLIGHT
TZOFFSETFROM:-0500
TZOFFSETTO:-0400
TZNAME:EDT
DTSTART:20270314T070000
END:DAYLIGHT
BEGIN:STANDARD
TZOFFSETFROM:-0400
TZOFFSETTO:-0500
TZNAME:EST
DTSTART:20271107T060000
END:STANDARD
END:VTIMEZONE
BEGIN:VEVENT
DTSTART;TZID=America/New_York:20260507T100000
DTEND;TZID=America/New_York:20260507T103000
DTSTAMP:20260422T110055
CREATED:20260326T141055Z
LAST-MODIFIED:20260326T141055Z
UID:10007112-1778148000-1778149800@www.gcparkstrails.com
SUMMARY:Toddler & Me Hikes - No Registration
DESCRIPTION:We are back with more hikes for the beginner hikers of Greene County! This preschool program will get those little legs used to hiking in our parks.  This 30 minute Toddler & Me program will introduce the children to the outdoor world through short hikes within our parks.  The program is designed for an adult to participate with the toddler(s). \nThis is a free program\, no registration required
URL:https://www.gcparkstrails.com/event/toddler-me-hikes-no-registration-7/
LOCATION:Russ Nature Reserve\, 2380 Kemp Road\, Beavercreek\, OH\, 45431\, United States
CATEGORIES:Hiking,Kids
END:VEVENT
BEGIN:VEVENT
DTSTART;TZID=America/New_York:20260527T180000
DTEND;TZID=America/New_York:20260527T200000
DTSTAMP:20260422T110055
CREATED:20260326T161828Z
LAST-MODIFIED:20260326T161828Z
UID:10007123-1779904800-1779912000@www.gcparkstrails.com
SUMMARY:America 250 Eagle Adventure - Registration Required
DESCRIPTION:It’s America’s 250th Birthday and the guest of honor is our National Symbol\, the Bald Eagle\, but he’s MISSING! Can you solve the challenges and get to the Bald Eagle in time? \nYou will have fun and learn a lot about these magnificent birds along the way. AND you get to take home your very own Bald Eagle!
URL:https://www.gcparkstrails.com/event/america-250-eagle-adventure-registration-required/
LOCATION:James Ranch Park\, 177 Fairground Road\, Xenia\, OH\, 45385\, United States
CATEGORIES:Kids
END:VEVENT
END:VCALENDAR