BEGIN:VCALENDAR
VERSION:2.0
PRODID:-//Greene County Parks &amp; Trails - ECPv6.15.18//NONSGML v1.0//EN
CALSCALE:GREGORIAN
METHOD:PUBLISH
X-ORIGINAL-URL:https://www.gcparkstrails.com
X-WR-CALDESC:Events for Greene County Parks &amp; Trails
REFRESH-INTERVAL;VALUE=DURATION:PT1H
X-Robots-Tag:noindex
X-PUBLISHED-TTL:PT1H
BEGIN:VTIMEZONE
TZID:America/New_York
BEGIN:DAYLIGHT
TZOFFSETFROM:-0500
TZOFFSETTO:-0400
TZNAME:EDT
DTSTART:20250309T070000
END:DAYLIGHT
BEGIN:STANDARD
TZOFFSETFROM:-0400
TZOFFSETTO:-0500
TZNAME:EST
DTSTART:20251102T060000
END:STANDARD
BEGIN:DAYLIGHT
TZOFFSETFROM:-0500
TZOFFSETTO:-0400
TZNAME:EDT
DTSTART:20260308T070000
END:DAYLIGHT
BEGIN:STANDARD
TZOFFSETFROM:-0400
TZOFFSETTO:-0500
TZNAME:EST
DTSTART:20261101T060000
END:STANDARD
BEGIN:DAYLIGHT
TZOFFSETFROM:-0500
TZOFFSETTO:-0400
TZNAME:EDT
DTSTART:20270314T070000
END:DAYLIGHT
BEGIN:STANDARD
TZOFFSETFROM:-0400
TZOFFSETTO:-0500
TZNAME:EST
DTSTART:20271107T060000
END:STANDARD
END:VTIMEZONE
BEGIN:VEVENT
DTSTART;TZID=America/New_York:20260505T100000
DTEND;TZID=America/New_York:20260505T120000
DTSTAMP:20260423T231613
CREATED:20260325T175100Z
LAST-MODIFIED:20260325T175100Z
UID:10007084-1777975200-1777982400@www.gcparkstrails.com
SUMMARY:Homeschool Science Days - Cold-blooded Critters - No Registration
DESCRIPTION:Bring your homeschool groups outside for hands-on science designed for all ages. Two programs are designed just for homeschoolers. They are called Homeschool Science Days and Homeschool Science Days DISCOVERY HIKES. \nHomeschool Science Days are station-based with various fun\, educational activities. These are drop in programs that begin at 10 am and go to noon. Please plan to arrive no later than 11:30 in order to have time to enjoy the activities. \nDress for the weather. This program will be entirely outdoors\, rain or shine.   There is a chance that participants may get muddy.\nAt least one adult must be present with each homeschool group.\nRegistration is no longer needed for the homeschool educational series.  \nCold-blooded Critters\nWhat does ectothermic mean? It’s another word for cold-blooded. Learn all about Cold-blooded Critters through hands-on activities\, crafts\, games and encounters with live Cold-Blooded Critters. Please arrive no later than 11:30 to have time to enjoy this program. \n 
URL:https://www.gcparkstrails.com/event/homeschool-science-days-cold-blooded-critters-no-registration/
LOCATION:Russ Nature Reserve\, 2380 Kemp Road\, Beavercreek\, OH\, 45431\, United States
CATEGORIES:Homeschool Science Days
END:VEVENT
BEGIN:VEVENT
DTSTART;TZID=America/New_York:20260512T100000
DTEND;TZID=America/New_York:20260512T113000
DTSTAMP:20260423T231613
CREATED:20260325T175347Z
LAST-MODIFIED:20260325T175347Z
UID:10007085-1778580000-1778585400@www.gcparkstrails.com
SUMMARY:Homeschool Science Days - DISCOVERY HIKE: Habitats - No Registration
DESCRIPTION:Bring your homeschool groups outside for hands-on science designed for all ages. Two programs are designed just for homeschoolers. They are called Homeschool Science Days and Homeschool Science Days DISCOVERY HIKES. \nHomeschool Science Days DISCOVERY HIKES last 90 minutes and cover seasonal topics such as wildflowers\, habitats\, animal tracking and more.  These discovery hikes are guided and will leave promptly at 10 am.  Late guests will have to catch up.  The hikes end at 11:30 am. \nDress for the weather. This program will be entirely outdoors\, rain or shine.   There is a chance that participants may get muddy.\nAt least one adult must be present with each homeschool group.\nRegistration is no longer needed for the homeschool educational series. \nDISCOVERY HIKE: Habitats\nWhat does ectothermic mean? It’s another word for cold-blooded. Learn all about Cold-blooded Critters through hands-on activities\, crafts\, games and encounters with live Cold-Blooded Critters. Please arrive no later than 11:30 to have time to enjoy this program.
URL:https://www.gcparkstrails.com/event/homeschool-science-days-discovery-hike-habitats-no-registration/
LOCATION:Russ Nature Reserve\, 2380 Kemp Road\, Beavercreek\, OH\, 45431\, United States
CATEGORIES:Homeschool Science Days
END:VEVENT
END:VCALENDAR