BEGIN:VCALENDAR
VERSION:2.0
PRODID:-//Greene County Parks &amp; Trails - ECPv6.15.18//NONSGML v1.0//EN
CALSCALE:GREGORIAN
METHOD:PUBLISH
X-ORIGINAL-URL:https://www.gcparkstrails.com
X-WR-CALDESC:Events for Greene County Parks &amp; Trails
REFRESH-INTERVAL;VALUE=DURATION:PT1H
X-Robots-Tag:noindex
X-PUBLISHED-TTL:PT1H
BEGIN:VTIMEZONE
TZID:America/New_York
BEGIN:DAYLIGHT
TZOFFSETFROM:-0500
TZOFFSETTO:-0400
TZNAME:EDT
DTSTART:20250309T070000
END:DAYLIGHT
BEGIN:STANDARD
TZOFFSETFROM:-0400
TZOFFSETTO:-0500
TZNAME:EST
DTSTART:20251102T060000
END:STANDARD
BEGIN:DAYLIGHT
TZOFFSETFROM:-0500
TZOFFSETTO:-0400
TZNAME:EDT
DTSTART:20260308T070000
END:DAYLIGHT
BEGIN:STANDARD
TZOFFSETFROM:-0400
TZOFFSETTO:-0500
TZNAME:EST
DTSTART:20261101T060000
END:STANDARD
BEGIN:DAYLIGHT
TZOFFSETFROM:-0500
TZOFFSETTO:-0400
TZNAME:EDT
DTSTART:20270314T070000
END:DAYLIGHT
BEGIN:STANDARD
TZOFFSETFROM:-0400
TZOFFSETTO:-0500
TZNAME:EST
DTSTART:20271107T060000
END:STANDARD
END:VTIMEZONE
BEGIN:VEVENT
DTSTART;TZID=America/New_York:20260326T100000
DTEND;TZID=America/New_York:20260326T120000
DTSTAMP:20260423T231612
CREATED:20260108T201116Z
LAST-MODIFIED:20260205T194118Z
UID:10006622-1774519200-1774526400@www.gcparkstrails.com
SUMMARY:Greene Labs- Hands on Homeschool Science for Teens - Amphibians - Registration Required
DESCRIPTION:NEW monthly drop off program for homeschool teens that dives into nature and science through hands on learning. Indoor and Outdoor labs with topics like dissections\, plant science\, earth science\, ecology\, geology\, zoology\, biology\, chemistry\, meteorology and more! Guest speakers who are experts in their fields will be utilized when possible! Your kids won’t want to miss these! \n*** All sessions will be held outdoors\, please dress to get dirty and for the weather. *** \n  \nStudents will hunt for amphibians near the Little Miami then participate in a frog dissection to learn about their anatomy. They will also get a chance to meet our ambassador amphibians up close!
URL:https://www.gcparkstrails.com/event/greene-labs-hands-on-homeschool-science-for-teens-amphibians/
LOCATION:Narrows Reserve\, 2575 Indian Ripple Road\, Xenia\, OH\, 45385\, United States
CATEGORIES:Homeschool Science Days
END:VEVENT
END:VCALENDAR