BEGIN:VCALENDAR
VERSION:2.0
PRODID:-//Greene County Parks &amp; Trails - ECPv6.15.18//NONSGML v1.0//EN
CALSCALE:GREGORIAN
METHOD:PUBLISH
X-WR-CALNAME:Greene County Parks &amp; Trails
X-ORIGINAL-URL:https://www.gcparkstrails.com
X-WR-CALDESC:Events for Greene County Parks &amp; Trails
REFRESH-INTERVAL;VALUE=DURATION:PT1H
X-Robots-Tag:noindex
X-PUBLISHED-TTL:PT1H
BEGIN:VTIMEZONE
TZID:America/New_York
BEGIN:DAYLIGHT
TZOFFSETFROM:-0500
TZOFFSETTO:-0400
TZNAME:EDT
DTSTART:20250309T070000
END:DAYLIGHT
BEGIN:STANDARD
TZOFFSETFROM:-0400
TZOFFSETTO:-0500
TZNAME:EST
DTSTART:20251102T060000
END:STANDARD
BEGIN:DAYLIGHT
TZOFFSETFROM:-0500
TZOFFSETTO:-0400
TZNAME:EDT
DTSTART:20260308T070000
END:DAYLIGHT
BEGIN:STANDARD
TZOFFSETFROM:-0400
TZOFFSETTO:-0500
TZNAME:EST
DTSTART:20261101T060000
END:STANDARD
BEGIN:DAYLIGHT
TZOFFSETFROM:-0500
TZOFFSETTO:-0400
TZNAME:EDT
DTSTART:20270314T070000
END:DAYLIGHT
BEGIN:STANDARD
TZOFFSETFROM:-0400
TZOFFSETTO:-0500
TZNAME:EST
DTSTART:20271107T060000
END:STANDARD
END:VTIMEZONE
BEGIN:VEVENT
DTSTART;TZID=America/New_York:20260501T203000
DTEND;TZID=America/New_York:20260501T213000
DTSTAMP:20260421T092417
CREATED:20260326T131934Z
LAST-MODIFIED:20260326T131934Z
UID:10007103-1777667400-1777671000@www.gcparkstrails.com
SUMMARY:Full Moon Hikes - Flower Moon Hike - No Registration
DESCRIPTION:Discover the magic of hiking at night when the full moon lights the way. Will you see glowing eyes? Hear the hoot of an owl? Join us to experience nature at night… \nNew in 2026\, we will be adding fun themes to our Full Moon Hikes starting in March and they will be self-guided.  Be sure to come out and join these fun walks. \nWell-behaved dogs are encouraged to attend with their owners. Water is encouraged. \nFlower Moon Hike\nLet’s celebrate the Flower Moon! Spring is here and it’s always fun to be out on a night hike. We may even smell the flowers as we explore Caesar Ford Park after dark. We are adding a fun twist to this hike as we are going to have a “flour trail.” UV lights and a trail of flour will lead you through the trails of Caesar Ford Park. UV lights will be available for loan while supplies last. This hike will be self-guided. A naturalist will be on hand for assistance and/or questions. You must start the hike no later than 9:30 pm.
URL:https://www.gcparkstrails.com/event/full-moon-hikes-flower-moon-hike-no-registration/
LOCATION:Caesar Ford Park\, 520 South Stringtown Road\, Xenia\, OH\, 45385\, United States
CATEGORIES:Family,Hiking
END:VEVENT
END:VCALENDAR