BEGIN:VCALENDAR
VERSION:2.0
PRODID:-//Greene County Parks &amp; Trails - ECPv6.15.18//NONSGML v1.0//EN
CALSCALE:GREGORIAN
METHOD:PUBLISH
X-ORIGINAL-URL:https://www.gcparkstrails.com
X-WR-CALDESC:Events for Greene County Parks &amp; Trails
REFRESH-INTERVAL;VALUE=DURATION:PT1H
X-Robots-Tag:noindex
X-PUBLISHED-TTL:PT1H
BEGIN:VTIMEZONE
TZID:America/New_York
BEGIN:DAYLIGHT
TZOFFSETFROM:-0500
TZOFFSETTO:-0400
TZNAME:EDT
DTSTART:20250309T070000
END:DAYLIGHT
BEGIN:STANDARD
TZOFFSETFROM:-0400
TZOFFSETTO:-0500
TZNAME:EST
DTSTART:20251102T060000
END:STANDARD
BEGIN:DAYLIGHT
TZOFFSETFROM:-0500
TZOFFSETTO:-0400
TZNAME:EDT
DTSTART:20260308T070000
END:DAYLIGHT
BEGIN:STANDARD
TZOFFSETFROM:-0400
TZOFFSETTO:-0500
TZNAME:EST
DTSTART:20261101T060000
END:STANDARD
BEGIN:DAYLIGHT
TZOFFSETFROM:-0500
TZOFFSETTO:-0400
TZNAME:EDT
DTSTART:20270314T070000
END:DAYLIGHT
BEGIN:STANDARD
TZOFFSETFROM:-0400
TZOFFSETTO:-0500
TZNAME:EST
DTSTART:20271107T060000
END:STANDARD
END:VTIMEZONE
BEGIN:VEVENT
DTSTART;TZID=America/New_York:20260108T093000
DTEND;TZID=America/New_York:20260108T103000
DTSTAMP:20260421T133401
CREATED:20250924T141325Z
LAST-MODIFIED:20251020T153117Z
UID:10006284-1767864600-1767868200@www.gcparkstrails.com
SUMMARY:Wellness Walkers
DESCRIPTION:Each week\, we will get our heart rate up and get moving while enjoying the outdoors in our beautiful parks. Walks are guided and self-paced. Greene County Parks & Trails\, Fairborn Parks and Recreation and the City of Beavercreek Parks Department have teamed up to provide walks all over Greene County. \nWalks are on Thursdays\, 9:30 – 10:30 a.m. \nAll walks are rated for difficulty with a 1 being the easiest and a 3 being the most difficult. Ratings consider terrain\, elevation changes\, etc.
URL:https://www.gcparkstrails.com/event/wellness-walkers-2/2026-01-08/
LOCATION:OH
CATEGORIES:Hiking,Wellness Walkers
ATTACH;FMTTYPE=image/jpeg:https://www.gcparkstrails.com/wp-content/uploads/2025/09/Wellness-walkers-e1769011913825.jpg
END:VEVENT
BEGIN:VEVENT
DTSTART;TZID=America/New_York:20260111T130000
DTEND;TZID=America/New_York:20260111T140000
DTSTAMP:20260421T133401
CREATED:20260108T195231Z
LAST-MODIFIED:20260108T195231Z
UID:10006561-1768136400-1768140000@www.gcparkstrails.com
SUMMARY:Winter Tree ID Hike
DESCRIPTION:Have you ever wondered how to identify trees without their leaves? This naturalist-led hike will teach you how to look at things like bark\, seeds\, buds\, habitat\, overall shape and more. You may discover that it can actually be EASIER to identify trees without all those leaves in the way! \nIn the event we have inclement weather\, we will reschedule for January 17th at 10:00 am.
URL:https://www.gcparkstrails.com/event/winter-tree-id-hike/
LOCATION:Narrows Reserve\, 2575 Indian Ripple Road\, Xenia\, OH\, 45385\, United States
CATEGORIES:Hiking
END:VEVENT
BEGIN:VEVENT
DTSTART;TZID=America/New_York:20260115T093000
DTEND;TZID=America/New_York:20260115T103000
DTSTAMP:20260421T133401
CREATED:20250924T141325Z
LAST-MODIFIED:20251020T153117Z
UID:10006285-1768469400-1768473000@www.gcparkstrails.com
SUMMARY:Wellness Walkers
DESCRIPTION:Each week\, we will get our heart rate up and get moving while enjoying the outdoors in our beautiful parks. Walks are guided and self-paced. Greene County Parks & Trails\, Fairborn Parks and Recreation and the City of Beavercreek Parks Department have teamed up to provide walks all over Greene County. \nWalks are on Thursdays\, 9:30 – 10:30 a.m. \nAll walks are rated for difficulty with a 1 being the easiest and a 3 being the most difficult. Ratings consider terrain\, elevation changes\, etc.
URL:https://www.gcparkstrails.com/event/wellness-walkers-2/2026-01-15/
LOCATION:OH
CATEGORIES:Hiking,Wellness Walkers
ATTACH;FMTTYPE=image/jpeg:https://www.gcparkstrails.com/wp-content/uploads/2025/09/Wellness-walkers-e1769011913825.jpg
END:VEVENT
BEGIN:VEVENT
DTSTART;TZID=America/New_York:20260122T093000
DTEND;TZID=America/New_York:20260122T103000
DTSTAMP:20260421T133401
CREATED:20250924T141325Z
LAST-MODIFIED:20251020T153117Z
UID:10006286-1769074200-1769077800@www.gcparkstrails.com
SUMMARY:Wellness Walkers
DESCRIPTION:Each week\, we will get our heart rate up and get moving while enjoying the outdoors in our beautiful parks. Walks are guided and self-paced. Greene County Parks & Trails\, Fairborn Parks and Recreation and the City of Beavercreek Parks Department have teamed up to provide walks all over Greene County. \nWalks are on Thursdays\, 9:30 – 10:30 a.m. \nAll walks are rated for difficulty with a 1 being the easiest and a 3 being the most difficult. Ratings consider terrain\, elevation changes\, etc.
URL:https://www.gcparkstrails.com/event/wellness-walkers-2/2026-01-22/
LOCATION:OH
CATEGORIES:Hiking,Wellness Walkers
ATTACH;FMTTYPE=image/jpeg:https://www.gcparkstrails.com/wp-content/uploads/2025/09/Wellness-walkers-e1769011913825.jpg
END:VEVENT
BEGIN:VEVENT
DTSTART;TZID=America/New_York:20260129T093000
DTEND;TZID=America/New_York:20260129T103000
DTSTAMP:20260421T133401
CREATED:20250924T141325Z
LAST-MODIFIED:20251020T153117Z
UID:10006287-1769679000-1769682600@www.gcparkstrails.com
SUMMARY:Wellness Walkers
DESCRIPTION:Each week\, we will get our heart rate up and get moving while enjoying the outdoors in our beautiful parks. Walks are guided and self-paced. Greene County Parks & Trails\, Fairborn Parks and Recreation and the City of Beavercreek Parks Department have teamed up to provide walks all over Greene County. \nWalks are on Thursdays\, 9:30 – 10:30 a.m. \nAll walks are rated for difficulty with a 1 being the easiest and a 3 being the most difficult. Ratings consider terrain\, elevation changes\, etc.
URL:https://www.gcparkstrails.com/event/wellness-walkers-2/2026-01-29/
LOCATION:OH
CATEGORIES:Hiking,Wellness Walkers
ATTACH;FMTTYPE=image/jpeg:https://www.gcparkstrails.com/wp-content/uploads/2025/09/Wellness-walkers-e1769011913825.jpg
END:VEVENT
END:VCALENDAR