BEGIN:VCALENDAR
VERSION:2.0
PRODID:-//Greene County Parks &amp; Trails - ECPv6.15.18//NONSGML v1.0//EN
CALSCALE:GREGORIAN
METHOD:PUBLISH
X-WR-CALNAME:Greene County Parks &amp; Trails
X-ORIGINAL-URL:https://www.gcparkstrails.com
X-WR-CALDESC:Events for Greene County Parks &amp; Trails
REFRESH-INTERVAL;VALUE=DURATION:PT1H
X-Robots-Tag:noindex
X-PUBLISHED-TTL:PT1H
BEGIN:VTIMEZONE
TZID:America/New_York
BEGIN:DAYLIGHT
TZOFFSETFROM:-0500
TZOFFSETTO:-0400
TZNAME:EDT
DTSTART:20240310T070000
END:DAYLIGHT
BEGIN:STANDARD
TZOFFSETFROM:-0400
TZOFFSETTO:-0500
TZNAME:EST
DTSTART:20241103T060000
END:STANDARD
BEGIN:DAYLIGHT
TZOFFSETFROM:-0500
TZOFFSETTO:-0400
TZNAME:EDT
DTSTART:20250309T070000
END:DAYLIGHT
BEGIN:STANDARD
TZOFFSETFROM:-0400
TZOFFSETTO:-0500
TZNAME:EST
DTSTART:20251102T060000
END:STANDARD
BEGIN:DAYLIGHT
TZOFFSETFROM:-0500
TZOFFSETTO:-0400
TZNAME:EDT
DTSTART:20260308T070000
END:DAYLIGHT
BEGIN:STANDARD
TZOFFSETFROM:-0400
TZOFFSETTO:-0500
TZNAME:EST
DTSTART:20261101T060000
END:STANDARD
END:VTIMEZONE
BEGIN:VTIMEZONE
TZID:UTC
BEGIN:STANDARD
TZOFFSETFROM:+0000
TZOFFSETTO:+0000
TZNAME:UTC
DTSTART:20240101T000000
END:STANDARD
END:VTIMEZONE
BEGIN:VEVENT
DTSTART;TZID=America/New_York:20251106T093000
DTEND;TZID=America/New_York:20251106T103000
DTSTAMP:20260423T060616
CREATED:20250924T141325Z
LAST-MODIFIED:20251020T153117Z
UID:10006275-1762421400-1762425000@www.gcparkstrails.com
SUMMARY:Wellness Walkers
DESCRIPTION:Each week\, we will get our heart rate up and get moving while enjoying the outdoors in our beautiful parks. Walks are guided and self-paced. Greene County Parks & Trails\, Fairborn Parks and Recreation and the City of Beavercreek Parks Department have teamed up to provide walks all over Greene County. \nWalks are on Thursdays\, 9:30 – 10:30 a.m. \nAll walks are rated for difficulty with a 1 being the easiest and a 3 being the most difficult. Ratings consider terrain\, elevation changes\, etc.
URL:https://www.gcparkstrails.com/event/wellness-walkers-2/2025-11-06/
LOCATION:OH
CATEGORIES:Hiking,Wellness Walkers
ATTACH;FMTTYPE=image/jpeg:https://www.gcparkstrails.com/wp-content/uploads/2025/09/Wellness-walkers-e1769011913825.jpg
END:VEVENT
BEGIN:VEVENT
DTSTART;TZID=America/New_York:20251108T090000
DTEND;TZID=America/New_York:20251108T130000
DTSTAMP:20260423T060616
CREATED:20250124T134527Z
LAST-MODIFIED:20250124T134527Z
UID:10006265-1762592400-1762606800@www.gcparkstrails.com
SUMMARY:The First Annual Greene County "Carry the Weight" 2.2 Ruck\, Run or Walk - Registration Required
DESCRIPTION:Proceeds to benefit local organizations committed to battling suicide \nOur mission is to honor the fallen\, support our veterans\, and raise awareness about the critical issue of military and veteran suicide. We carry the weight of those who have served—those lost on the battlefield\, on the streets of America\, and to their own struggles—by fostering a community of care\, compassion\, and commitment. Through education\, advocacy\, and action\, we are dedicated to providing the resources and support necessary to help prevent veteran suicide and ensure that no warrior is ever forgotten. Together\, we ruck\, we carry\, and we bear the burden\, working toward a future where our heroes find the peace\, support\, and recognition they deserve. \nFamilies are encouraged to “carry the weight” together at this FREE event.  Donations will be accepted on site and will benefit The Service Members Veterans Families (SMVF) subcommittee of the Greene County Suicide Prevention Coalition. 
URL:https://www.gcparkstrails.com/event/the-first-annual-greene-county-carry-the-weight-2-2-ruck-run-or-walk-registration-required/
LOCATION:Russ Nature Reserve\, 2380 Kemp Road\, Beavercreek\, OH\, 45431\, United States
CATEGORIES:Hiking
END:VEVENT
BEGIN:VEVENT
DTSTART;TZID=America/New_York:20251113T093000
DTEND;TZID=America/New_York:20251113T103000
DTSTAMP:20260423T060616
CREATED:20250924T141325Z
LAST-MODIFIED:20251020T153117Z
UID:10006276-1763026200-1763029800@www.gcparkstrails.com
SUMMARY:Wellness Walkers
DESCRIPTION:Each week\, we will get our heart rate up and get moving while enjoying the outdoors in our beautiful parks. Walks are guided and self-paced. Greene County Parks & Trails\, Fairborn Parks and Recreation and the City of Beavercreek Parks Department have teamed up to provide walks all over Greene County. \nWalks are on Thursdays\, 9:30 – 10:30 a.m. \nAll walks are rated for difficulty with a 1 being the easiest and a 3 being the most difficult. Ratings consider terrain\, elevation changes\, etc.
URL:https://www.gcparkstrails.com/event/wellness-walkers-2/2025-11-13/
LOCATION:OH
CATEGORIES:Hiking,Wellness Walkers
ATTACH;FMTTYPE=image/jpeg:https://www.gcparkstrails.com/wp-content/uploads/2025/09/Wellness-walkers-e1769011913825.jpg
END:VEVENT
BEGIN:VEVENT
DTSTART;TZID=America/New_York:20251115T150000
DTEND;TZID=America/New_York:20251115T163000
DTSTAMP:20260423T060616
CREATED:20250108T203810Z
LAST-MODIFIED:20250108T204703Z
UID:10005595-1763218800-1763224200@www.gcparkstrails.com
SUMMARY:Wacky Wayfarer Series - Lumberjack Hike - No Registration
DESCRIPTION:Don your best flannel\, bring gloves and your favorite Honeysuckle Removal tools and lets clear some invasives while having some fun! \n  \nDifficulty and accessibility will be listed under each event.\nLevel 1 – Flat dirt\, gravel\, or paved trail. Minimal elevation changes.\nLevel 2 – Rough dirt\, gravel\, or paved trail. Medium elevation changes.\nLevel 3 – Rocky and unstable trail. Multiple difficult elevation changes. \n  \n**Difficulty: Level 1 – Flat dirt/grass\, gravel\, or paved trail. Minimal elevation changes.
URL:https://www.gcparkstrails.com/event/wacky-wayfarer-series-lumberjack-hike-no-registration/
LOCATION:OH
CATEGORIES:Adults,Hiking
END:VEVENT
BEGIN:VEVENT
DTSTART;VALUE=DATE:20251117
DTEND;VALUE=DATE:20251118
DTSTAMP:20260423T060616
CREATED:20191120T005335Z
LAST-MODIFIED:20230206T224947Z
UID:10004700-1763337600-1763423999@www.gcparkstrails.com
SUMMARY:National Take a Hike Day
DESCRIPTION:
URL:https://www.gcparkstrails.com/event/national-take-a-hike-day/2025-11-17/
LOCATION:OH
CATEGORIES:Hiking
END:VEVENT
BEGIN:VEVENT
DTSTART;TZID=America/New_York:20251120T093000
DTEND;TZID=America/New_York:20251120T103000
DTSTAMP:20260423T060616
CREATED:20250924T141325Z
LAST-MODIFIED:20251020T153117Z
UID:10006277-1763631000-1763634600@www.gcparkstrails.com
SUMMARY:Wellness Walkers
DESCRIPTION:Each week\, we will get our heart rate up and get moving while enjoying the outdoors in our beautiful parks. Walks are guided and self-paced. Greene County Parks & Trails\, Fairborn Parks and Recreation and the City of Beavercreek Parks Department have teamed up to provide walks all over Greene County. \nWalks are on Thursdays\, 9:30 – 10:30 a.m. \nAll walks are rated for difficulty with a 1 being the easiest and a 3 being the most difficult. Ratings consider terrain\, elevation changes\, etc.
URL:https://www.gcparkstrails.com/event/wellness-walkers-2/2025-11-20/
LOCATION:OH
CATEGORIES:Hiking,Wellness Walkers
ATTACH;FMTTYPE=image/jpeg:https://www.gcparkstrails.com/wp-content/uploads/2025/09/Wellness-walkers-e1769011913825.jpg
END:VEVENT
END:VCALENDAR