BEGIN:VCALENDAR
VERSION:2.0
PRODID:-//Greene County Parks &amp; Trails - ECPv6.15.18//NONSGML v1.0//EN
CALSCALE:GREGORIAN
METHOD:PUBLISH
X-WR-CALNAME:Greene County Parks &amp; Trails
X-ORIGINAL-URL:https://www.gcparkstrails.com
X-WR-CALDESC:Events for Greene County Parks &amp; Trails
REFRESH-INTERVAL;VALUE=DURATION:PT1H
X-Robots-Tag:noindex
X-PUBLISHED-TTL:PT1H
BEGIN:VTIMEZONE
TZID:America/New_York
BEGIN:DAYLIGHT
TZOFFSETFROM:-0500
TZOFFSETTO:-0400
TZNAME:EDT
DTSTART:20230312T070000
END:DAYLIGHT
BEGIN:STANDARD
TZOFFSETFROM:-0400
TZOFFSETTO:-0500
TZNAME:EST
DTSTART:20231105T060000
END:STANDARD
BEGIN:DAYLIGHT
TZOFFSETFROM:-0500
TZOFFSETTO:-0400
TZNAME:EDT
DTSTART:20240310T070000
END:DAYLIGHT
BEGIN:STANDARD
TZOFFSETFROM:-0400
TZOFFSETTO:-0500
TZNAME:EST
DTSTART:20241103T060000
END:STANDARD
BEGIN:DAYLIGHT
TZOFFSETFROM:-0500
TZOFFSETTO:-0400
TZNAME:EDT
DTSTART:20250309T070000
END:DAYLIGHT
BEGIN:STANDARD
TZOFFSETFROM:-0400
TZOFFSETTO:-0500
TZNAME:EST
DTSTART:20251102T060000
END:STANDARD
END:VTIMEZONE
BEGIN:VEVENT
DTSTART;TZID=America/New_York:20241002T090000
DTEND;TZID=America/New_York:20241002T100000
DTSTAMP:20260424T130027
CREATED:20240205T170048Z
LAST-MODIFIED:20240208T164856Z
UID:10004529-1727859600-1727863200@www.gcparkstrails.com
SUMMARY:Stroller Striders: James Ranch Park
DESCRIPTION:Moms and Dads\, grandparents as well! Grab your sneakers and a coffee\, sippy cups too as you join staff for Stroller Striders. This walking program is geared towards those with little ones in strollers. \nThis one-hour walking program will get you and your little one(s) out in nature while enjoying the company of others. Walks will be cancelled if weather is not suitable.
URL:https://www.gcparkstrails.com/event/stroller-striders-james-ranch-park-2/
LOCATION:James Ranch Park\, 177 Fairground Road\, Xenia\, OH\, 45385\, United States
CATEGORIES:Hiking,Infants
END:VEVENT
BEGIN:VEVENT
DTSTART;TZID=America/New_York:20241003T093000
DTEND;TZID=America/New_York:20241003T100000
DTSTAMP:20260424T130027
CREATED:20240205T170931Z
LAST-MODIFIED:20240207T142827Z
UID:10004535-1727947800-1727949600@www.gcparkstrails.com
SUMMARY:Toddler & Me Hikes: Russ Nature Reserve
DESCRIPTION:
URL:https://www.gcparkstrails.com/event/toddler-me-hikes-russ-nature-reserve/
LOCATION:Russ Nature Reserve\, 2380 Kemp Road\, Beavercreek\, OH\, 45431\, United States
CATEGORIES:Hiking
END:VEVENT
BEGIN:VEVENT
DTSTART;TZID=America/New_York:20241019T190000
DTEND;TZID=America/New_York:20241019T210000
DTSTAMP:20260424T130027
CREATED:20240202T191133Z
LAST-MODIFIED:20241001T124318Z
UID:10004224-1729364400-1729371600@www.gcparkstrails.com
SUMMARY:Spider Night Hike
DESCRIPTION:Did you know that spider eyes sparkle like little green jewels in the light of a flashlight? Have you ever watched an orb weaver make a web? \nThese are things that you can see after dark on this hike through the Narrows Reserve. Headlamps are best for seeing spider eyeshine\, but there are ways to make it work with a flashlight.
URL:https://www.gcparkstrails.com/event/spider-night-hike/
LOCATION:Caesar Ford Park\, 520 South Stringtown Road\, Xenia\, OH\, 45385\, United States
CATEGORIES:Hiking
END:VEVENT
END:VCALENDAR