BEGIN:VCALENDAR
VERSION:2.0
PRODID:-//Greene County Parks &amp; Trails - ECPv6.15.18//NONSGML v1.0//EN
CALSCALE:GREGORIAN
METHOD:PUBLISH
X-WR-CALNAME:Greene County Parks &amp; Trails
X-ORIGINAL-URL:https://www.gcparkstrails.com
X-WR-CALDESC:Events for Greene County Parks &amp; Trails
REFRESH-INTERVAL;VALUE=DURATION:PT1H
X-Robots-Tag:noindex
X-PUBLISHED-TTL:PT1H
BEGIN:VTIMEZONE
TZID:America/New_York
BEGIN:DAYLIGHT
TZOFFSETFROM:-0500
TZOFFSETTO:-0400
TZNAME:EDT
DTSTART:20250309T070000
END:DAYLIGHT
BEGIN:STANDARD
TZOFFSETFROM:-0400
TZOFFSETTO:-0500
TZNAME:EST
DTSTART:20251102T060000
END:STANDARD
BEGIN:DAYLIGHT
TZOFFSETFROM:-0500
TZOFFSETTO:-0400
TZNAME:EDT
DTSTART:20260308T070000
END:DAYLIGHT
BEGIN:STANDARD
TZOFFSETFROM:-0400
TZOFFSETTO:-0500
TZNAME:EST
DTSTART:20261101T060000
END:STANDARD
BEGIN:DAYLIGHT
TZOFFSETFROM:-0500
TZOFFSETTO:-0400
TZNAME:EDT
DTSTART:20270314T070000
END:DAYLIGHT
BEGIN:STANDARD
TZOFFSETFROM:-0400
TZOFFSETTO:-0500
TZNAME:EST
DTSTART:20271107T060000
END:STANDARD
END:VTIMEZONE
BEGIN:VEVENT
DTSTART;TZID=America/New_York:20260501T080000
DTEND;TZID=America/New_York:20260831T200000
DTSTAMP:20260423T212151
CREATED:20260326T132243Z
LAST-MODIFIED:20260326T132243Z
UID:10007104-1777622400-1788206400@www.gcparkstrails.com
SUMMARY:Selfie Scavenger Hunt - Summer Edition - No Registration
DESCRIPTION:Want a fun reason to get out into the parks?? How about a Selfie Scavenger Hunt!? Here’s how it will work – \n* Each month\, May – August\, we will highlight a specific park and will post pictures of certain landmarks\, unique markings\, etc.\n* This will all be posted on Facebook on the 1st of each month.\n* Visit that park\, find those specific landmarks\, markings\, etc. and snap a selfie with each of them in the background. (We have to be able to see it!)\n* Upload those photos in the comments of the Facebook post!\n* Those who find every hidden item\, at each of the parks each month\, will receive an awesome prize from GCP&T!\n(Don’t worry\, we will keep track of who posts\, but you are more than welcome to create your own fun collection of all the photos you’ve taken.)
URL:https://www.gcparkstrails.com/event/selfie-scavenger-hunt-summer-edition-no-registration/
LOCATION:OH
CATEGORIES:Family
END:VEVENT
BEGIN:VEVENT
DTSTART;TZID=America/New_York:20260506T100000
DTEND;TZID=America/New_York:20260506T110000
DTSTAMP:20260423T212151
CREATED:20260326T133037Z
LAST-MODIFIED:20260326T133037Z
UID:10007107-1778061600-1778065200@www.gcparkstrails.com
SUMMARY:Cookie Decorating Fun - Registration Required
DESCRIPTION:Celebrate the season with a sweet and creative springtime experience! Join us for this cookie decorating event where everyone with or without disabilities are welcome to participate and have fun together. Decorate spring-themed cookies like flowers and butterflies\, using bright icing\, cheerful sprinkles\, and fun toppings. \nAll supplies are provided\, and friendly volunteers will be available to offer support as needed. Bring your creativity\, enjoy the fresh spring vibes\, and take home your beautifully decorated and delicious treats. \nRegistration is required\, with time slots available at 10:00\, 11:00\, and 12:00 PM. \nPlease note: Space is limited to paid participants only\, unless a registered participant requires assistance.
URL:https://www.gcparkstrails.com/event/cookie-decorating-fun-registration-required/2026-05-06/1/
LOCATION:Clifton Reserve & Lodge\, 2762 S. River Rd.\, Clifton\, OH\, 45316\, United States
CATEGORIES:Family
END:VEVENT
BEGIN:VEVENT
DTSTART;TZID=America/New_York:20260506T110000
DTEND;TZID=America/New_York:20260506T120000
DTSTAMP:20260423T212151
CREATED:20260326T133037Z
LAST-MODIFIED:20260326T133037Z
UID:10007108-1778065200-1778068800@www.gcparkstrails.com
SUMMARY:Cookie Decorating Fun - Registration Required
DESCRIPTION:Celebrate the season with a sweet and creative springtime experience! Join us for this cookie decorating event where everyone with or without disabilities are welcome to participate and have fun together. Decorate spring-themed cookies like flowers and butterflies\, using bright icing\, cheerful sprinkles\, and fun toppings. \nAll supplies are provided\, and friendly volunteers will be available to offer support as needed. Bring your creativity\, enjoy the fresh spring vibes\, and take home your beautifully decorated and delicious treats. \nRegistration is required\, with time slots available at 10:00\, 11:00\, and 12:00 PM. \nPlease note: Space is limited to paid participants only\, unless a registered participant requires assistance.
URL:https://www.gcparkstrails.com/event/cookie-decorating-fun-registration-required/2026-05-06/2/
LOCATION:Clifton Reserve & Lodge\, 2762 S. River Rd.\, Clifton\, OH\, 45316\, United States
CATEGORIES:Family
END:VEVENT
BEGIN:VEVENT
DTSTART;TZID=America/New_York:20260506T120000
DTEND;TZID=America/New_York:20260506T130000
DTSTAMP:20260423T212151
CREATED:20260326T133037Z
LAST-MODIFIED:20260326T133037Z
UID:10007109-1778068800-1778072400@www.gcparkstrails.com
SUMMARY:Cookie Decorating Fun - Registration Required
DESCRIPTION:Celebrate the season with a sweet and creative springtime experience! Join us for this cookie decorating event where everyone with or without disabilities are welcome to participate and have fun together. Decorate spring-themed cookies like flowers and butterflies\, using bright icing\, cheerful sprinkles\, and fun toppings. \nAll supplies are provided\, and friendly volunteers will be available to offer support as needed. Bring your creativity\, enjoy the fresh spring vibes\, and take home your beautifully decorated and delicious treats. \nRegistration is required\, with time slots available at 10:00\, 11:00\, and 12:00 PM. \nPlease note: Space is limited to paid participants only\, unless a registered participant requires assistance.
URL:https://www.gcparkstrails.com/event/cookie-decorating-fun-registration-required/2026-05-06/3/
LOCATION:Clifton Reserve & Lodge\, 2762 S. River Rd.\, Clifton\, OH\, 45316\, United States
CATEGORIES:Family
END:VEVENT
END:VCALENDAR