BEGIN:VCALENDAR
VERSION:2.0
PRODID:-//Greene County Parks &amp; Trails - ECPv6.15.18//NONSGML v1.0//EN
CALSCALE:GREGORIAN
METHOD:PUBLISH
X-ORIGINAL-URL:https://www.gcparkstrails.com
X-WR-CALDESC:Events for Greene County Parks &amp; Trails
REFRESH-INTERVAL;VALUE=DURATION:PT1H
X-Robots-Tag:noindex
X-PUBLISHED-TTL:PT1H
BEGIN:VTIMEZONE
TZID:America/New_York
BEGIN:DAYLIGHT
TZOFFSETFROM:-0500
TZOFFSETTO:-0400
TZNAME:EDT
DTSTART:20240310T070000
END:DAYLIGHT
BEGIN:STANDARD
TZOFFSETFROM:-0400
TZOFFSETTO:-0500
TZNAME:EST
DTSTART:20241103T060000
END:STANDARD
BEGIN:DAYLIGHT
TZOFFSETFROM:-0500
TZOFFSETTO:-0400
TZNAME:EDT
DTSTART:20250309T070000
END:DAYLIGHT
BEGIN:STANDARD
TZOFFSETFROM:-0400
TZOFFSETTO:-0500
TZNAME:EST
DTSTART:20251102T060000
END:STANDARD
BEGIN:DAYLIGHT
TZOFFSETFROM:-0500
TZOFFSETTO:-0400
TZNAME:EDT
DTSTART:20260308T070000
END:DAYLIGHT
BEGIN:STANDARD
TZOFFSETFROM:-0400
TZOFFSETTO:-0500
TZNAME:EST
DTSTART:20261101T060000
END:STANDARD
END:VTIMEZONE
BEGIN:VEVENT
DTSTART;TZID=America/New_York:20250705T190000
DTEND;TZID=America/New_York:20250705T210000
DTSTAMP:20260421T133359
CREATED:20250109T153112Z
LAST-MODIFIED:20250109T153112Z
UID:10005631-1751742000-1751749200@www.gcparkstrails.com
SUMMARY:Night Ride: Xenia Station to Cedarville - No Registration
DESCRIPTION:Join the GCP&T Trail Sentinels for a moonlight ride along the region’s bike trails. GCP&T Trail Sentinels are an elite volunteer group who patrol the trails and coordinate several cycling events.\nNight Rides are free and leave Xenia Station at 7 PM\, finishing around 9 PM. The average speed of the ride is 10 – 13 MPH. \nAll night riders must:\nBe 18 and older\nWear a helmet and have lights on their bikes\nHave bike repair items \n– Rides will be cancelled in the event of inclement weather. \n***And let’s be real…these rides are for ice cream 🙂
URL:https://www.gcparkstrails.com/event/night-ride-xenia-station-to-cedarville-no-registration-2/
LOCATION:Xenia Station\, 150 Miami Avenue\, Xenia\, OH\, 45385\, United States
CATEGORIES:Cycling
END:VEVENT
BEGIN:VEVENT
DTSTART;TZID=America/New_York:20250712T090000
DTEND;TZID=America/New_York:20250712T110000
DTSTAMP:20260421T133359
CREATED:20250109T135311Z
LAST-MODIFIED:20250109T135311Z
UID:10005602-1752310800-1752318000@www.gcparkstrails.com
SUMMARY:Morning Milers - No Registration
DESCRIPTION:Join the GCP&T Trail Sentinels for an early morning ride along the region’s bike trails. GCP&T Trail Sentinels are an elite volunteer group who patrol the trails and coordinate several cycling events.\nThese rides are not for the beginner skill level and may include a short\, off-trail portion with an average of 25-35 miles at 15-17 MPH. \nRides are FREE and meet at 8:30 AM with rides starting at 9 AM\, finishing around 11 AM. \nRides will be cancelled in the event of a inclement weather. \nAll night riders must:\nBe 18 and older\nWear a helmet\nHave bike repair items \nStarting Point Addresses:\nBeavercreek Community Park\n801 Factory Rd.\, Beavercreek\, OH 45434\nXenia Station\n150 S. Miami Ave.\, Xenia\, OH 45385
URL:https://www.gcparkstrails.com/event/morning-milers-no-registration-2/2025-07-12/
LOCATION:Xenia Station\, 150 Miami Avenue\, Xenia\, OH\, 45385\, United States
CATEGORIES:Adults,Cycling
END:VEVENT
BEGIN:VEVENT
DTSTART;TZID=America/New_York:20250719T080000
DTEND;TZID=America/New_York:20250719T180000
DTSTAMP:20260421T133359
CREATED:20250422T183448Z
LAST-MODIFIED:20250422T183448Z
UID:10006267-1752912000-1752948000@www.gcparkstrails.com
SUMMARY:Greene County Bike Tour for Veteran Suicide Prevention
DESCRIPTION:This one day ride will showcase the extensive trail system in Greene County with all proceeds benefiting the Greene County Suicide Prevention Veteran Subcommittee. \nPlanned routes of 10\, 30\, and 60 miles will be supported with rest stops and refreshments. The Greene Country Trail Sentinel volunteers will be out on the trails throughout the ride to assist the participants.  The ride start time is between 8am – 9am from the Fairgrounds Recreation Center and will pass along the Creekside Trail\, The Little Miami Scenic Trail\, Xenia-Jamestown Connector and the Ohio to Erie Trail. \nEach registered participant will receive a commemorative t-shirt for their participation in the event.  Registrations must be received by June 6th in order to receive your shirt.  Registrations after that date will not receive one.
URL:https://www.gcparkstrails.com/event/greene-county-bike-tour-for-veteran-suicide-prevention/
LOCATION:Fairgrounds Recreation Center\, 210 Fairground Road\, Xenia\, OH\, 45385\, United States
CATEGORIES:Adults,Cycling
END:VEVENT
BEGIN:VEVENT
DTSTART;TZID=America/New_York:20250719T190000
DTEND;TZID=America/New_York:20250719T210000
DTSTAMP:20260421T133359
CREATED:20250109T153219Z
LAST-MODIFIED:20250109T153219Z
UID:10005632-1752951600-1752958800@www.gcparkstrails.com
SUMMARY:Night Ride: Xenia Station to Young's Dairy - No Registration
DESCRIPTION:Join the GCP&T Trail Sentinels for a moonlight ride along the region’s bike trails. GCP&T Trail Sentinels are an elite volunteer group who patrol the trails and coordinate several cycling events.\nNight Rides are free and leave Xenia Station at 7 PM\, finishing around 9 PM. The average speed of the ride is 10 – 13 MPH. \nAll night riders must:\nBe 18 and older\nWear a helmet and have lights on their bikes\nHave bike repair items \n– Rides will be cancelled in the event of inclement weather. \n***And let’s be real…these rides are for ice cream 🙂
URL:https://www.gcparkstrails.com/event/night-ride-xenia-station-to-youngs-dairy-no-registration-2/
LOCATION:Xenia Station\, 150 Miami Avenue\, Xenia\, OH\, 45385\, United States
CATEGORIES:Cycling
END:VEVENT
BEGIN:VEVENT
DTSTART;TZID=America/New_York:20250726T090000
DTEND;TZID=America/New_York:20250726T110000
DTSTAMP:20260421T133359
CREATED:20250109T135311Z
LAST-MODIFIED:20250109T135311Z
UID:10005603-1753520400-1753527600@www.gcparkstrails.com
SUMMARY:Morning Milers - No Registration
DESCRIPTION:Join the GCP&T Trail Sentinels for an early morning ride along the region’s bike trails. GCP&T Trail Sentinels are an elite volunteer group who patrol the trails and coordinate several cycling events.\nThese rides are not for the beginner skill level and may include a short\, off-trail portion with an average of 25-35 miles at 15-17 MPH. \nRides are FREE and meet at 8:30 AM with rides starting at 9 AM\, finishing around 11 AM. \nRides will be cancelled in the event of a inclement weather. \nAll night riders must:\nBe 18 and older\nWear a helmet\nHave bike repair items \nStarting Point Addresses:\nBeavercreek Community Park\n801 Factory Rd.\, Beavercreek\, OH 45434\nXenia Station\n150 S. Miami Ave.\, Xenia\, OH 45385
URL:https://www.gcparkstrails.com/event/morning-milers-no-registration-2/2025-07-26/
LOCATION:Xenia Station\, 150 Miami Avenue\, Xenia\, OH\, 45385\, United States
CATEGORIES:Adults,Cycling
END:VEVENT
END:VCALENDAR