BEGIN:VCALENDAR
VERSION:2.0
PRODID:-//Greene County Parks &amp; Trails - ECPv6.15.18//NONSGML v1.0//EN
CALSCALE:GREGORIAN
METHOD:PUBLISH
X-ORIGINAL-URL:https://www.gcparkstrails.com
X-WR-CALDESC:Events for Greene County Parks &amp; Trails
REFRESH-INTERVAL;VALUE=DURATION:PT1H
X-Robots-Tag:noindex
X-PUBLISHED-TTL:PT1H
BEGIN:VTIMEZONE
TZID:UTC
BEGIN:STANDARD
TZOFFSETFROM:+0000
TZOFFSETTO:+0000
TZNAME:UTC
DTSTART:20260101T000000
END:STANDARD
END:VTIMEZONE
BEGIN:VEVENT
DTSTART;VALUE=DATE:20270105
DTEND;VALUE=DATE:20270106
DTSTAMP:20260421T094010
CREATED:20191120T005851Z
LAST-MODIFIED:20200102T200756Z
UID:10004693-1799107200-1799193599@www.gcparkstrails.com
SUMMARY:National Bird Day
DESCRIPTION:
URL:https://www.gcparkstrails.com/event/national-bird-day/2027-01-05/
LOCATION:OH
CATEGORIES:Birding
END:VEVENT
BEGIN:VEVENT
DTSTART;VALUE=DATE:20280105
DTEND;VALUE=DATE:20280106
DTSTAMP:20260421T094011
CREATED:20191120T005851Z
LAST-MODIFIED:20200102T200756Z
UID:10004694-1830643200-1830729599@www.gcparkstrails.com
SUMMARY:National Bird Day
DESCRIPTION:
URL:https://www.gcparkstrails.com/event/national-bird-day/2028-01-05/
LOCATION:OH
CATEGORIES:Birding
END:VEVENT
BEGIN:VEVENT
DTSTART;VALUE=DATE:20290105
DTEND;VALUE=DATE:20290106
DTSTAMP:20260421T094011
CREATED:20191120T005851Z
LAST-MODIFIED:20200102T200756Z
UID:10004695-1862265600-1862351999@www.gcparkstrails.com
SUMMARY:National Bird Day
DESCRIPTION:
URL:https://www.gcparkstrails.com/event/national-bird-day/2029-01-05/
LOCATION:OH
CATEGORIES:Birding
END:VEVENT
BEGIN:VEVENT
DTSTART;VALUE=DATE:20300105
DTEND;VALUE=DATE:20300106
DTSTAMP:20260421T094011
CREATED:20191120T005851Z
LAST-MODIFIED:20200102T200756Z
UID:10005552-1893801600-1893887999@www.gcparkstrails.com
SUMMARY:National Bird Day
DESCRIPTION:
URL:https://www.gcparkstrails.com/event/national-bird-day/2030-01-05/
LOCATION:OH
CATEGORIES:Birding
END:VEVENT
BEGIN:VEVENT
DTSTART;VALUE=DATE:20310105
DTEND;VALUE=DATE:20310106
DTSTAMP:20260421T094011
CREATED:20191120T005851Z
LAST-MODIFIED:20200102T200756Z
UID:10007043-1925337600-1925423999@www.gcparkstrails.com
SUMMARY:National Bird Day
DESCRIPTION:
URL:https://www.gcparkstrails.com/event/national-bird-day/2031-01-05/
LOCATION:OH
CATEGORIES:Birding
END:VEVENT
END:VCALENDAR