BEGIN:VCALENDAR
VERSION:2.0
PRODID:-//Greene County Parks &amp; Trails - ECPv6.15.18//NONSGML v1.0//EN
CALSCALE:GREGORIAN
METHOD:PUBLISH
X-WR-CALNAME:Greene County Parks &amp; Trails
X-ORIGINAL-URL:https://www.gcparkstrails.com
X-WR-CALDESC:Events for Greene County Parks &amp; Trails
REFRESH-INTERVAL;VALUE=DURATION:PT1H
X-Robots-Tag:noindex
X-PUBLISHED-TTL:PT1H
BEGIN:VTIMEZONE
TZID:America/New_York
BEGIN:DAYLIGHT
TZOFFSETFROM:-0500
TZOFFSETTO:-0400
TZNAME:EDT
DTSTART:20250309T070000
END:DAYLIGHT
BEGIN:STANDARD
TZOFFSETFROM:-0400
TZOFFSETTO:-0500
TZNAME:EST
DTSTART:20251102T060000
END:STANDARD
BEGIN:DAYLIGHT
TZOFFSETFROM:-0500
TZOFFSETTO:-0400
TZNAME:EDT
DTSTART:20260308T070000
END:DAYLIGHT
BEGIN:STANDARD
TZOFFSETFROM:-0400
TZOFFSETTO:-0500
TZNAME:EST
DTSTART:20261101T060000
END:STANDARD
BEGIN:DAYLIGHT
TZOFFSETFROM:-0500
TZOFFSETTO:-0400
TZNAME:EDT
DTSTART:20270314T070000
END:DAYLIGHT
BEGIN:STANDARD
TZOFFSETFROM:-0400
TZOFFSETTO:-0500
TZNAME:EST
DTSTART:20271107T060000
END:STANDARD
END:VTIMEZONE
BEGIN:VEVENT
DTSTART;TZID=America/New_York:20260307T083000
DTEND;TZID=America/New_York:20260307T230000
DTSTAMP:20260421T092251
CREATED:20260108T204640Z
LAST-MODIFIED:20260120T175850Z
UID:10006629-1772872200-1772924400@www.gcparkstrails.com
SUMMARY:The Great Pancake Pick-Up
DESCRIPTION:What could be better than a nice stack of pancakes\, with fresh syrup made right here in your backyard? How about those same pancakes\, syrup and sausage delivered right to your car as you drive through our Great Pancake Pickup! \nThat’s right\, all you have to do is drive through and give us your order\, and we will hand them right to you through your window. \nThis is a FREE event; donations help to support the program. Large orders may be required to wait briefly. Some items may not be available due to supply.
URL:https://www.gcparkstrails.com/event/the-great-pancake-pick-up-2/
LOCATION:Caesar Ford Park\, 520 South Stringtown Road\, Xenia\, OH\, 45385\, United States
CATEGORIES:Annual Event
ATTACH;FMTTYPE=image/png:https://www.gcparkstrails.com/wp-content/uploads/2024/03/PancakePickupLogo.png
END:VEVENT
BEGIN:VEVENT
DTSTART;TZID=America/New_York:20260327T193000
DTEND;TZID=America/New_York:20260327T220000
DTSTAMP:20260421T092251
CREATED:20260114T204051Z
LAST-MODIFIED:20260205T194606Z
UID:10006633-1774639800-1774648800@www.gcparkstrails.com
SUMMARY:Extreme Egg Hunt - Registration Required
DESCRIPTION:Our egg hunts are AMPED up\, EXTREME and sure to be a wild time! \nCan you find Easter eggs in the dark? If you can\, you could win prizes! Participants must have a flashlight to participate\, bags will be provided. \nOn your mark\, get set…HUNT! \n****There is an 8 ticket limit per person****
URL:https://www.gcparkstrails.com/event/extreme-egg-hunt-2/
LOCATION:Caesar Ford Park\, 520 South Stringtown Road\, Xenia\, OH\, 45385\, United States
CATEGORIES:Adults,Annual Event
ATTACH;FMTTYPE=image/png:https://www.gcparkstrails.com/wp-content/uploads/2019/09/ExtremeEggHuntLogo-Caesar.png
END:VEVENT
END:VCALENDAR