BEGIN:VCALENDAR
VERSION:2.0
PRODID:-//Greene County Parks &amp; Trails - ECPv6.15.18//NONSGML v1.0//EN
CALSCALE:GREGORIAN
METHOD:PUBLISH
X-WR-CALNAME:Greene County Parks &amp; Trails
X-ORIGINAL-URL:https://www.gcparkstrails.com
X-WR-CALDESC:Events for Greene County Parks &amp; Trails
REFRESH-INTERVAL;VALUE=DURATION:PT1H
X-Robots-Tag:noindex
X-PUBLISHED-TTL:PT1H
BEGIN:VTIMEZONE
TZID:America/New_York
BEGIN:DAYLIGHT
TZOFFSETFROM:-0500
TZOFFSETTO:-0400
TZNAME:EDT
DTSTART:20250309T070000
END:DAYLIGHT
BEGIN:STANDARD
TZOFFSETFROM:-0400
TZOFFSETTO:-0500
TZNAME:EST
DTSTART:20251102T060000
END:STANDARD
BEGIN:DAYLIGHT
TZOFFSETFROM:-0500
TZOFFSETTO:-0400
TZNAME:EDT
DTSTART:20260308T070000
END:DAYLIGHT
BEGIN:STANDARD
TZOFFSETFROM:-0400
TZOFFSETTO:-0500
TZNAME:EST
DTSTART:20261101T060000
END:STANDARD
BEGIN:DAYLIGHT
TZOFFSETFROM:-0500
TZOFFSETTO:-0400
TZNAME:EDT
DTSTART:20270314T070000
END:DAYLIGHT
BEGIN:STANDARD
TZOFFSETFROM:-0400
TZOFFSETTO:-0500
TZNAME:EST
DTSTART:20271107T060000
END:STANDARD
END:VTIMEZONE
BEGIN:VEVENT
DTSTART;TZID=America/New_York:20260425T090000
DTEND;TZID=America/New_York:20260425T130000
DTSTAMP:20260422T165505
CREATED:20260326T130850Z
LAST-MODIFIED:20260326T130850Z
UID:10007101-1777107600-1777122000@www.gcparkstrails.com
SUMMARY:Fragments of Art ~ DIY Mosaic Glass Block - Registration Required
DESCRIPTION:Discover the beauty of broken glass in this creative mosaic glass class.  Participants will be transforming colorful pieces of glass into works of art as they design their very own 8 inch glass block. \nWhether you are new to mosaics or just love hands-on art projects\, this class offers the perfect blend of creativity and fun. \nAll supplies will be provided\, you are welcome to bring along any additional tools needed to work with. \nThis program is scheduled for four hours but you can leave when your project is done.
URL:https://www.gcparkstrails.com/event/fragments-of-art-diy-mosaic-glass-block-registration-required/
LOCATION:GCPT Headquarters\, 635 Dayton-Xenia Rd.\, Xenia\, OH\, 45385
CATEGORIES:Adults
END:VEVENT
BEGIN:VEVENT
DTSTART;TZID=America/New_York:20260502T110000
DTEND;TZID=America/New_York:20260502T120000
DTSTAMP:20260422T165505
CREATED:20260326T132423Z
LAST-MODIFIED:20260326T132423Z
UID:10007105-1777719600-1777723200@www.gcparkstrails.com
SUMMARY:Penguin Yoga - Registration Required
DESCRIPTION:Find your zen with a waddle of fun! Join us for a one-of-a-kind yoga experience featuring adorable penguins. Stretch\, breathe\, and relax as these cute friends bring smiles and playful energy to your mat. Perfect for all skill levels\, this unique session combines wellness\, laughter\, and an unforgettable up-close encounter. Come for the yoga\, stay for the penguins! \nWe will be joined by animal ambassadors from the Columbus Zoo and Aquarium! \nONLY REGISTERED GUESTS CAN ATTEND THE PROGRAM.  No guests under 18 permitted.
URL:https://www.gcparkstrails.com/event/penguin-yoga-registration-required/
LOCATION:Caesar Ford Park\, 520 South Stringtown Road\, Xenia\, OH\, 45385\, United States
CATEGORIES:Adults
END:VEVENT
BEGIN:VEVENT
DTSTART;TZID=America/New_York:20260505T180000
DTEND;TZID=America/New_York:20260505T190000
DTSTAMP:20260422T165505
CREATED:20260326T132719Z
LAST-MODIFIED:20260326T132719Z
UID:10007106-1778004000-1778007600@www.gcparkstrails.com
SUMMARY:Cake Decorating with ele Cake Co. - Registration Required
DESCRIPTION:Treat yourself to a sweet night out! Greene County Parks & Trails is partnering with ele Cake Company for an indulgent cake decorating class designed just for adults. Learn step-by-step techniques from the pros and design your own delicious masterpiece to take home. \nNo experience needed — just bring your love of dessert and a willingness to have fun! \nThese classes are a six-part series offered every other month throughout the year\, each featuring a new theme and design to keep your skills (and your sweet tooth) growing. \nYou must register for each class individually.  Each registered guest will receive one ele cake with an assortment of icing\, fondant as well as instruction on how to create these masterpieces.  Once finished\, you will take your cake home to enjoy.
URL:https://www.gcparkstrails.com/event/cake-decorating-with-ele-cake-co-registration-required/
LOCATION:Clifton Reserve & Lodge\, 2762 S. River Rd.\, Clifton\, OH\, 45316\, United States
CATEGORIES:Adults
END:VEVENT
BEGIN:VEVENT
DTSTART;TZID=America/New_York:20260516T110000
DTEND;TZID=America/New_York:20260516T130000
DTSTAMP:20260422T165505
CREATED:20260326T142950Z
LAST-MODIFIED:20260326T142950Z
UID:10007117-1778929200-1778936400@www.gcparkstrails.com
SUMMARY:All About Tinctures - Registration Required
DESCRIPTION:In this program we will be exploring the ins and outs and many uses of herbal tinctures. We will explore some of the most powerful and beneficial herbs that nature provides for us to use to heal our bodies\, and how to extract all their medicinal properties into a readily usable tincture. There are so many positive benefits to using herbal tinctures and we will be creating one together that you’ll be able to take home. You’re going to learn skills to prepare your own tinctures and you’ll be on your way to providing yourself some all natural remedies with endless possibilities.
URL:https://www.gcparkstrails.com/event/all-about-tinctures-registration-required/
LOCATION:Narrows Reserve\, 2575 Indian Ripple Road\, Xenia\, OH\, 45385\, United States
CATEGORIES:Adults
END:VEVENT
BEGIN:VEVENT
DTSTART;TZID=America/New_York:20261009T193000
DTEND;TZID=America/New_York:20261009T220000
DTSTAMP:20260422T165505
CREATED:20260120T174703Z
LAST-MODIFIED:20260120T174759Z
UID:10006635-1791574200-1791583200@www.gcparkstrails.com
SUMMARY:Extreme Halloween Egg Hunt
DESCRIPTION:Easter egg hunts aren’t just for kids anymore! This egg hunt is AMPED up and sure to be a wild time! Can you find Easter eggs in the dark? If you can\, you could win prizes! Participants must have a flashlight to participate\, bags will be provided. Ages 18 and up only. Prizes cannot be claimed after the event. \nRegistration 6:30 – 7:30 pm\nHunt shortly after registration \nDue to the nature of this event\, anyone under the age of 18 will not be permitted to accompany adults on the hunt. They will be required to stay in the seating area and will need to be supervised based on their age.
URL:https://www.gcparkstrails.com/event/extreme-halloween-egg-hunt-2/
LOCATION:Caesar Ford Park\, 520 South Stringtown Road\, Xenia\, OH\, 45385\, United States
CATEGORIES:Adults,Annual Event
ATTACH;FMTTYPE=image/png:https://www.gcparkstrails.com/wp-content/uploads/2021/02/ExtremeEggHuntLogo-Caesar-Halloween.png
END:VEVENT
END:VCALENDAR