BEGIN:VCALENDAR
VERSION:2.0
PRODID:-//Greene County Parks &amp; Trails - ECPv6.15.18//NONSGML v1.0//EN
CALSCALE:GREGORIAN
METHOD:PUBLISH
X-ORIGINAL-URL:https://www.gcparkstrails.com
X-WR-CALDESC:Events for Greene County Parks &amp; Trails
REFRESH-INTERVAL;VALUE=DURATION:PT1H
X-Robots-Tag:noindex
X-PUBLISHED-TTL:PT1H
BEGIN:VTIMEZONE
TZID:America/New_York
BEGIN:DAYLIGHT
TZOFFSETFROM:-0500
TZOFFSETTO:-0400
TZNAME:EDT
DTSTART:20240310T070000
END:DAYLIGHT
BEGIN:STANDARD
TZOFFSETFROM:-0400
TZOFFSETTO:-0500
TZNAME:EST
DTSTART:20241103T060000
END:STANDARD
BEGIN:DAYLIGHT
TZOFFSETFROM:-0500
TZOFFSETTO:-0400
TZNAME:EDT
DTSTART:20250309T070000
END:DAYLIGHT
BEGIN:STANDARD
TZOFFSETFROM:-0400
TZOFFSETTO:-0500
TZNAME:EST
DTSTART:20251102T060000
END:STANDARD
BEGIN:DAYLIGHT
TZOFFSETFROM:-0500
TZOFFSETTO:-0400
TZNAME:EDT
DTSTART:20260308T070000
END:DAYLIGHT
BEGIN:STANDARD
TZOFFSETFROM:-0400
TZOFFSETTO:-0500
TZNAME:EST
DTSTART:20261101T060000
END:STANDARD
END:VTIMEZONE
BEGIN:VEVENT
DTSTART;TZID=America/New_York:20251213T110000
DTEND;TZID=America/New_York:20251213T140000
DTSTAMP:20260423T020817
CREATED:20250108T151855Z
LAST-MODIFIED:20250108T153017Z
UID:10005561-1765623600-1765634400@www.gcparkstrails.com
SUMMARY:Stained Glass - Registration Required
DESCRIPTION:In this class you will learn the basic techniques of working with stained glass and decorative tinning to create this work of art to display in your home. \nPrice includes personal instruction and all the supplies needed to make one sun-catcher. \n**No refunds will be provided.  Craft supplies cannot be sent home for no-show registrants
URL:https://www.gcparkstrails.com/event/stained-glass-registration-required/2025-12-13/1/
LOCATION:Narrows Reserve\, 2575 Indian Ripple Road\, Xenia\, OH\, 45385\, United States
CATEGORIES:Adults
END:VEVENT
BEGIN:VEVENT
DTSTART;TZID=America/New_York:20251213T150000
DTEND;TZID=America/New_York:20251213T180000
DTSTAMP:20260423T020817
CREATED:20250108T151855Z
LAST-MODIFIED:20250108T153017Z
UID:10005562-1765638000-1765648800@www.gcparkstrails.com
SUMMARY:Stained Glass - Registration Required
DESCRIPTION:In this class you will learn the basic techniques of working with stained glass and decorative tinning to create this work of art to display in your home. \nPrice includes personal instruction and all the supplies needed to make one sun-catcher. \n**No refunds will be provided.  Craft supplies cannot be sent home for no-show registrants
URL:https://www.gcparkstrails.com/event/stained-glass-registration-required/2025-12-13/2/
LOCATION:Narrows Reserve\, 2575 Indian Ripple Road\, Xenia\, OH\, 45385\, United States
CATEGORIES:Adults
END:VEVENT
END:VCALENDAR