BEGIN:VCALENDAR
VERSION:2.0
PRODID:-//Greene County Parks &amp; Trails - ECPv6.15.18//NONSGML v1.0//EN
CALSCALE:GREGORIAN
METHOD:PUBLISH
X-WR-CALNAME:Greene County Parks &amp; Trails
X-ORIGINAL-URL:https://www.gcparkstrails.com
X-WR-CALDESC:Events for Greene County Parks &amp; Trails
REFRESH-INTERVAL;VALUE=DURATION:PT1H
X-Robots-Tag:noindex
X-PUBLISHED-TTL:PT1H
BEGIN:VTIMEZONE
TZID:America/New_York
BEGIN:DAYLIGHT
TZOFFSETFROM:-0500
TZOFFSETTO:-0400
TZNAME:EDT
DTSTART:20240310T070000
END:DAYLIGHT
BEGIN:STANDARD
TZOFFSETFROM:-0400
TZOFFSETTO:-0500
TZNAME:EST
DTSTART:20241103T060000
END:STANDARD
BEGIN:DAYLIGHT
TZOFFSETFROM:-0500
TZOFFSETTO:-0400
TZNAME:EDT
DTSTART:20250309T070000
END:DAYLIGHT
BEGIN:STANDARD
TZOFFSETFROM:-0400
TZOFFSETTO:-0500
TZNAME:EST
DTSTART:20251102T060000
END:STANDARD
BEGIN:DAYLIGHT
TZOFFSETFROM:-0500
TZOFFSETTO:-0400
TZNAME:EDT
DTSTART:20260308T070000
END:DAYLIGHT
BEGIN:STANDARD
TZOFFSETFROM:-0400
TZOFFSETTO:-0500
TZNAME:EST
DTSTART:20261101T060000
END:STANDARD
END:VTIMEZONE
BEGIN:VEVENT
DTSTART;TZID=America/New_York:20250826T180000
DTEND;TZID=America/New_York:20250826T190000
DTSTAMP:20260423T110227
CREATED:20250109T155403Z
LAST-MODIFIED:20250109T155628Z
UID:10005641-1756231200-1756234800@www.gcparkstrails.com
SUMMARY:Cake Decorating with ele - Registration Required
DESCRIPTION:Have you ever had the desire to decorate beautiful cakes but you didn’t quite know where to start?  Well how about start with us and our new Cake Decorating classes being held at Clifton Lodge and Reserve? \nThrough a partnership with ele Cake Co.\, we are offering a series of 4 different cake decorating classes.  You must register for each class individually.  Each registered guest will receive one ele cake with an assortment of ele icing\, fondant as well as instruction on how to create these masterpieces.  Once finished\, you will take your cake home to enjoy. \nClasses will last approximately 45 minutes.
URL:https://www.gcparkstrails.com/event/cake-decorating-with-ele-registration-required/2025-08-26/
LOCATION:Clifton Reserve & Lodge\, 2762 S. River Rd.\, Clifton\, OH\, 45316\, United States
CATEGORIES:Adults
END:VEVENT
END:VCALENDAR