BEGIN:VCALENDAR
VERSION:2.0
PRODID:-//Greene County Parks &amp; Trails - ECPv6.15.18//NONSGML v1.0//EN
CALSCALE:GREGORIAN
METHOD:PUBLISH
X-ORIGINAL-URL:https://www.gcparkstrails.com
X-WR-CALDESC:Events for Greene County Parks &amp; Trails
REFRESH-INTERVAL;VALUE=DURATION:PT1H
X-Robots-Tag:noindex
X-PUBLISHED-TTL:PT1H
BEGIN:VTIMEZONE
TZID:America/New_York
BEGIN:DAYLIGHT
TZOFFSETFROM:-0500
TZOFFSETTO:-0400
TZNAME:EDT
DTSTART:20240310T070000
END:DAYLIGHT
BEGIN:STANDARD
TZOFFSETFROM:-0400
TZOFFSETTO:-0500
TZNAME:EST
DTSTART:20241103T060000
END:STANDARD
BEGIN:DAYLIGHT
TZOFFSETFROM:-0500
TZOFFSETTO:-0400
TZNAME:EDT
DTSTART:20250309T070000
END:DAYLIGHT
BEGIN:STANDARD
TZOFFSETFROM:-0400
TZOFFSETTO:-0500
TZNAME:EST
DTSTART:20251102T060000
END:STANDARD
BEGIN:DAYLIGHT
TZOFFSETFROM:-0500
TZOFFSETTO:-0400
TZNAME:EDT
DTSTART:20260308T070000
END:DAYLIGHT
BEGIN:STANDARD
TZOFFSETFROM:-0400
TZOFFSETTO:-0500
TZNAME:EST
DTSTART:20261101T060000
END:STANDARD
END:VTIMEZONE
BEGIN:VEVENT
DTSTART;TZID=America/New_York:20251002T100000
DTEND;TZID=America/New_York:20251002T103000
DTSTAMP:20260423T063336
CREATED:20250109T171555Z
LAST-MODIFIED:20250109T171555Z
UID:10005656-1759399200-1759401000@www.gcparkstrails.com
SUMMARY:Toddler & Me Hikes - No Registration
DESCRIPTION:We are back with more hikes for the beginner hikers of Greene County! This preschool program will get those little legs used to hiking in our parks.  This 30 minute Toddler & Me program will introduce the children to the outdoor world through short hikes within our parks.  The program is designed for an adult to participate with the toddler(s). \nThis is a free program\, no registration required.
URL:https://www.gcparkstrails.com/event/toddler-me-hikes-no-registration-6/
LOCATION:Narrows Reserve\, 2575 Indian Ripple Road\, Xenia\, OH\, 45385\, United States
CATEGORIES:Adults
END:VEVENT
BEGIN:VEVENT
DTSTART;TZID=America/New_York:20251004T090000
DTEND;TZID=America/New_York:20251004T110000
DTSTAMP:20260423T063336
CREATED:20250109T140247Z
LAST-MODIFIED:20250109T140247Z
UID:10005612-1759568400-1759575600@www.gcparkstrails.com
SUMMARY:Morning Milers  - No Registration
DESCRIPTION:Join the GCP&T Trail Sentinels for an early morning ride along the region’s bike trails. GCP&T Trail Sentinels are an elite volunteer group who patrol the trails and coordinate several cycling events.\nThese rides are not for the beginner skill level and may include a short\, off-trail portion with an average of 25-35 miles at 15-17 MPH. \nRides are FREE and meet at 8:30 AM with rides starting at 9 AM\, finishing around 11 AM. \nRides will be cancelled in the event of a inclement weather. \nAll night riders must:\nBe 18 and older\nWear a helmet\nHave bike repair items \nStarting Point Addresses:\nBeavercreek Community Park\n801 Factory Rd.\, Beavercreek\, OH 45434\nXenia Station\n150 S. Miami Ave.\, Xenia\, OH 45385
URL:https://www.gcparkstrails.com/event/morning-milers-no-registration-3/2025-10-04/
LOCATION:Beavercreek Community Park\, 801 Factory Rd\, Beavercreek\, OH\, 45434\, United States
CATEGORIES:Adults,Cycling
END:VEVENT
BEGIN:VEVENT
DTSTART;TZID=America/New_York:20251010T193000
DTEND;TZID=America/New_York:20251010T220000
DTSTAMP:20260423T063336
CREATED:20250109T150040Z
LAST-MODIFIED:20250109T150040Z
UID:10005624-1760124600-1760133600@www.gcparkstrails.com
SUMMARY:Extreme Halloween Egg Hunt - Registration Required
DESCRIPTION:Our egg hunts are AMPED up\, EXTREME and sure to be a wild time! \nCan you find Easter eggs in the dark? If you can\, you could win prizes! Participants must have a flashlight to participate\, bags will be provided. \nOn your mark\, get set…HUNT! \n****There is an 8 ticket limit per person****
URL:https://www.gcparkstrails.com/event/extreme-halloween-egg-hunt-registration-required/
LOCATION:Caesar Ford Park\, 520 South Stringtown Road\, Xenia\, OH\, 45385\, United States
CATEGORIES:Adults,Annual Event
END:VEVENT
BEGIN:VEVENT
DTSTART;TZID=America/New_York:20251014T180000
DTEND;TZID=America/New_York:20251014T190000
DTSTAMP:20260423T063336
CREATED:20250109T155403Z
LAST-MODIFIED:20250109T155628Z
UID:10005642-1760464800-1760468400@www.gcparkstrails.com
SUMMARY:Cake Decorating with ele - Registration Required
DESCRIPTION:Have you ever had the desire to decorate beautiful cakes but you didn’t quite know where to start?  Well how about start with us and our new Cake Decorating classes being held at Clifton Lodge and Reserve? \nThrough a partnership with ele Cake Co.\, we are offering a series of 4 different cake decorating classes.  You must register for each class individually.  Each registered guest will receive one ele cake with an assortment of ele icing\, fondant as well as instruction on how to create these masterpieces.  Once finished\, you will take your cake home to enjoy. \nClasses will last approximately 45 minutes.
URL:https://www.gcparkstrails.com/event/cake-decorating-with-ele-registration-required/2025-10-14/
LOCATION:Clifton Reserve & Lodge\, 2762 S. River Rd.\, Clifton\, OH\, 45316\, United States
CATEGORIES:Adults
END:VEVENT
BEGIN:VEVENT
DTSTART;TZID=America/New_York:20251018T183000
DTEND;TZID=America/New_York:20251018T203000
DTSTAMP:20260423T063336
CREATED:20250108T190701Z
LAST-MODIFIED:20250108T190701Z
UID:10005594-1760812200-1760819400@www.gcparkstrails.com
SUMMARY:Wacky Wayfarer Series - Costumes & Scary Stories Hike - No Registration
DESCRIPTION:Don your best Halloween costume and talk a wander through the woods at Caesar Ford. Look out for ghosts\, ghouls\, and bigfoot! \n  \nDifficulty and accessibility will be listed under each event.\nLevel 1 – Flat dirt\, gravel\, or paved trail. Minimal elevation changes.\nLevel 2 – Rough dirt\, gravel\, or paved trail. Medium elevation changes.\nLevel 3 – Rocky and unstable trail. Multiple difficult elevation changes. \n  \n**Difficulty: Level 2 – Flat dirt\, gravel\, or paved trail. Moderate elevation changes.
URL:https://www.gcparkstrails.com/event/wacky-wayfarer-series-costumes-scary-stories-hike-no-registration/
LOCATION:Caesar Ford Park\, 520 South Stringtown Road\, Xenia\, OH\, 45385\, United States
CATEGORIES:Adults,Hiking
END:VEVENT
END:VCALENDAR