BEGIN:VCALENDAR
VERSION:2.0
PRODID:-//Greene County Parks &amp; Trails - ECPv6.15.18//NONSGML v1.0//EN
CALSCALE:GREGORIAN
METHOD:PUBLISH
X-ORIGINAL-URL:https://www.gcparkstrails.com
X-WR-CALDESC:Events for Greene County Parks &amp; Trails
REFRESH-INTERVAL;VALUE=DURATION:PT1H
X-Robots-Tag:noindex
X-PUBLISHED-TTL:PT1H
BEGIN:VTIMEZONE
TZID:America/New_York
BEGIN:DAYLIGHT
TZOFFSETFROM:-0500
TZOFFSETTO:-0400
TZNAME:EDT
DTSTART:20240310T070000
END:DAYLIGHT
BEGIN:STANDARD
TZOFFSETFROM:-0400
TZOFFSETTO:-0500
TZNAME:EST
DTSTART:20241103T060000
END:STANDARD
BEGIN:DAYLIGHT
TZOFFSETFROM:-0500
TZOFFSETTO:-0400
TZNAME:EDT
DTSTART:20250309T070000
END:DAYLIGHT
BEGIN:STANDARD
TZOFFSETFROM:-0400
TZOFFSETTO:-0500
TZNAME:EST
DTSTART:20251102T060000
END:STANDARD
BEGIN:DAYLIGHT
TZOFFSETFROM:-0500
TZOFFSETTO:-0400
TZNAME:EDT
DTSTART:20260308T070000
END:DAYLIGHT
BEGIN:STANDARD
TZOFFSETFROM:-0400
TZOFFSETTO:-0500
TZNAME:EST
DTSTART:20261101T060000
END:STANDARD
END:VTIMEZONE
BEGIN:VEVENT
DTSTART;TZID=America/New_York:20250605T100000
DTEND;TZID=America/New_York:20250605T103000
DTSTAMP:20260423T135459
CREATED:20250109T171315Z
LAST-MODIFIED:20250109T171315Z
UID:10005652-1749117600-1749119400@www.gcparkstrails.com
SUMMARY:Toddler & Me Hikes - No Registration
DESCRIPTION:We are back with more hikes for the beginner hikers of Greene County! This preschool program will get those little legs used to hiking in our parks.  This 30 minute Toddler & Me program will introduce the children to the outdoor world through short hikes within our parks.  The program is designed for an adult to participate with the toddler(s). \nThis is a free program\, no registration required.
URL:https://www.gcparkstrails.com/event/toddler-me-hikes-no-registration-2/
LOCATION:Pearl’s Fen\, 4524 Byron Road\, Fairborn\, OH\, 45324\, United States
CATEGORIES:Adults
END:VEVENT
BEGIN:VEVENT
DTSTART;TZID=America/New_York:20250606T190000
DTEND;TZID=America/New_York:20250606T220000
DTSTAMP:20260423T135459
CREATED:20250109T192440Z
LAST-MODIFIED:20250109T192440Z
UID:10005686-1749236400-1749247200@www.gcparkstrails.com
SUMMARY:Throwback Prom - Registration Required
DESCRIPTION:Okay party people! Let’s thrown down like our senior year of high school as we dance the night away like we did at prom so many years ago! Maybe you never had the chance to go to prom\, maybe you want to relive that time in your life or MAYBE you just want to have some FUN!  Either way this is the event for you! Join us for our second Adult Prom. \nA DJ will be playing all of your favorite hits\, we will have snacks galore\, and a photographer to capture the memories! \nFormal wear is encouraged\, but not required.
URL:https://www.gcparkstrails.com/event/throwback-prom-registration-required/
LOCATION:Clifton Reserve & Lodge\, 2762 S. River Rd.\, Clifton\, OH\, 45316\, United States
CATEGORIES:Adults
END:VEVENT
BEGIN:VEVENT
DTSTART;TZID=America/New_York:20250614T090000
DTEND;TZID=America/New_York:20250614T110000
DTSTAMP:20260423T135459
CREATED:20250109T135311Z
LAST-MODIFIED:20250109T135311Z
UID:10005600-1749891600-1749898800@www.gcparkstrails.com
SUMMARY:Morning Milers - No Registration
DESCRIPTION:Join the GCP&T Trail Sentinels for an early morning ride along the region’s bike trails. GCP&T Trail Sentinels are an elite volunteer group who patrol the trails and coordinate several cycling events.\nThese rides are not for the beginner skill level and may include a short\, off-trail portion with an average of 25-35 miles at 15-17 MPH. \nRides are FREE and meet at 8:30 AM with rides starting at 9 AM\, finishing around 11 AM. \nRides will be cancelled in the event of a inclement weather. \nAll night riders must:\nBe 18 and older\nWear a helmet\nHave bike repair items \nStarting Point Addresses:\nBeavercreek Community Park\n801 Factory Rd.\, Beavercreek\, OH 45434\nXenia Station\n150 S. Miami Ave.\, Xenia\, OH 45385
URL:https://www.gcparkstrails.com/event/morning-milers-no-registration-2/2025-06-14/
LOCATION:Xenia Station\, 150 Miami Avenue\, Xenia\, OH\, 45385\, United States
CATEGORIES:Adults,Cycling
END:VEVENT
BEGIN:VEVENT
DTSTART;TZID=America/New_York:20250624T180000
DTEND;TZID=America/New_York:20250624T190000
DTSTAMP:20260423T135459
CREATED:20250109T155403Z
LAST-MODIFIED:20250109T155628Z
UID:10005640-1750788000-1750791600@www.gcparkstrails.com
SUMMARY:Cake Decorating with ele - Registration Required
DESCRIPTION:Have you ever had the desire to decorate beautiful cakes but you didn’t quite know where to start?  Well how about start with us and our new Cake Decorating classes being held at Clifton Lodge and Reserve? \nThrough a partnership with ele Cake Co.\, we are offering a series of 4 different cake decorating classes.  You must register for each class individually.  Each registered guest will receive one ele cake with an assortment of ele icing\, fondant as well as instruction on how to create these masterpieces.  Once finished\, you will take your cake home to enjoy. \nClasses will last approximately 45 minutes.
URL:https://www.gcparkstrails.com/event/cake-decorating-with-ele-registration-required/2025-06-24/
LOCATION:Clifton Reserve & Lodge\, 2762 S. River Rd.\, Clifton\, OH\, 45316\, United States
CATEGORIES:Adults
END:VEVENT
BEGIN:VEVENT
DTSTART;TZID=America/New_York:20250628T090000
DTEND;TZID=America/New_York:20250628T110000
DTSTAMP:20260423T135459
CREATED:20250109T135311Z
LAST-MODIFIED:20250109T135311Z
UID:10005601-1751101200-1751108400@www.gcparkstrails.com
SUMMARY:Morning Milers - No Registration
DESCRIPTION:Join the GCP&T Trail Sentinels for an early morning ride along the region’s bike trails. GCP&T Trail Sentinels are an elite volunteer group who patrol the trails and coordinate several cycling events.\nThese rides are not for the beginner skill level and may include a short\, off-trail portion with an average of 25-35 miles at 15-17 MPH. \nRides are FREE and meet at 8:30 AM with rides starting at 9 AM\, finishing around 11 AM. \nRides will be cancelled in the event of a inclement weather. \nAll night riders must:\nBe 18 and older\nWear a helmet\nHave bike repair items \nStarting Point Addresses:\nBeavercreek Community Park\n801 Factory Rd.\, Beavercreek\, OH 45434\nXenia Station\n150 S. Miami Ave.\, Xenia\, OH 45385
URL:https://www.gcparkstrails.com/event/morning-milers-no-registration-2/2025-06-28/
LOCATION:Xenia Station\, 150 Miami Avenue\, Xenia\, OH\, 45385\, United States
CATEGORIES:Adults,Cycling
END:VEVENT
END:VCALENDAR