BEGIN:VCALENDAR
VERSION:2.0
PRODID:-//Greene County Parks &amp; Trails - ECPv6.15.18//NONSGML v1.0//EN
CALSCALE:GREGORIAN
METHOD:PUBLISH
X-WR-CALNAME:Greene County Parks &amp; Trails
X-ORIGINAL-URL:https://www.gcparkstrails.com
X-WR-CALDESC:Events for Greene County Parks &amp; Trails
REFRESH-INTERVAL;VALUE=DURATION:PT1H
X-Robots-Tag:noindex
X-PUBLISHED-TTL:PT1H
BEGIN:VTIMEZONE
TZID:America/New_York
BEGIN:DAYLIGHT
TZOFFSETFROM:-0500
TZOFFSETTO:-0400
TZNAME:EDT
DTSTART:20240310T070000
END:DAYLIGHT
BEGIN:STANDARD
TZOFFSETFROM:-0400
TZOFFSETTO:-0500
TZNAME:EST
DTSTART:20241103T060000
END:STANDARD
BEGIN:DAYLIGHT
TZOFFSETFROM:-0500
TZOFFSETTO:-0400
TZNAME:EDT
DTSTART:20250309T070000
END:DAYLIGHT
BEGIN:STANDARD
TZOFFSETFROM:-0400
TZOFFSETTO:-0500
TZNAME:EST
DTSTART:20251102T060000
END:STANDARD
BEGIN:DAYLIGHT
TZOFFSETFROM:-0500
TZOFFSETTO:-0400
TZNAME:EDT
DTSTART:20260308T070000
END:DAYLIGHT
BEGIN:STANDARD
TZOFFSETFROM:-0400
TZOFFSETTO:-0500
TZNAME:EST
DTSTART:20261101T060000
END:STANDARD
END:VTIMEZONE
BEGIN:VEVENT
DTSTART;TZID=America/New_York:20250405T090000
DTEND;TZID=America/New_York:20250405T110000
DTSTAMP:20260423T183518
CREATED:20250109T140247Z
LAST-MODIFIED:20250109T140247Z
UID:10005604-1743843600-1743850800@www.gcparkstrails.com
SUMMARY:Morning Milers  - No Registration
DESCRIPTION:Join the GCP&T Trail Sentinels for an early morning ride along the region’s bike trails. GCP&T Trail Sentinels are an elite volunteer group who patrol the trails and coordinate several cycling events.\nThese rides are not for the beginner skill level and may include a short\, off-trail portion with an average of 25-35 miles at 15-17 MPH. \nRides are FREE and meet at 8:30 AM with rides starting at 9 AM\, finishing around 11 AM. \nRides will be cancelled in the event of a inclement weather. \nAll night riders must:\nBe 18 and older\nWear a helmet\nHave bike repair items \nStarting Point Addresses:\nBeavercreek Community Park\n801 Factory Rd.\, Beavercreek\, OH 45434\nXenia Station\n150 S. Miami Ave.\, Xenia\, OH 45385
URL:https://www.gcparkstrails.com/event/morning-milers-no-registration-3/2025-04-05/
LOCATION:Beavercreek Community Park\, 801 Factory Rd\, Beavercreek\, OH\, 45434\, United States
CATEGORIES:Adults,Cycling
END:VEVENT
BEGIN:VEVENT
DTSTART;TZID=America/New_York:20250405T100000
DTEND;TZID=America/New_York:20250405T120000
DTSTAMP:20260423T183518
CREATED:20250108T165156Z
LAST-MODIFIED:20250108T165156Z
UID:10005572-1743847200-1743854400@www.gcparkstrails.com
SUMMARY:Urban Homesteading Series - Registration Required
DESCRIPTION:This series will take you on an urban farming adventure. Learn the basics of using the space you have to grow produce and more. This series is great for those who live in urban areas and rural alike and want to learn how to start their own homestead. You don’t need 50 acres to grow your own resources! \nFebruary Class \n\nUrban Homesteading 101\n\nPrices in the grocery are not going down\, come learn about urban homesteading\, why it is so important to communities\, and how to get started planning your urban homestead.\n\n\n\nMarch Class \n\nWinter Seed Starting\n\nLearn How to use recycled milk jugs to create tiny greenhouses for your plants!\n\n\n\nApril Class \n\nAbundance in Small Spaces\n\nContainers and cages OH MY! Get the basics of starting a container garden. Meet some quail and learn how these small birds can fit into your urban homestead.\n\n\n\nMay Class \n\nPreserving and Canning\n\nWe will look at ways to keep what we grow preserved.\n\n\n\nGuests that attend all sessions will receive a Homesteading gift from our department. \n 
URL:https://www.gcparkstrails.com/event/urban-homesteading-series-registration-required/2025-04-05/
LOCATION:Narrows Reserve\, 2575 Indian Ripple Road\, Xenia\, OH\, 45385\, United States
CATEGORIES:Adults,Gardening
END:VEVENT
BEGIN:VEVENT
DTSTART;TZID=America/New_York:20250411T193000
DTEND;TZID=America/New_York:20250411T220000
DTSTAMP:20260423T183518
CREATED:20250109T145933Z
LAST-MODIFIED:20250109T145933Z
UID:10005623-1744399800-1744408800@www.gcparkstrails.com
SUMMARY:Extreme Egg Hunt - Registration Required
DESCRIPTION:Our egg hunts are AMPED up\, EXTREME and sure to be a wild time! \nCan you find Easter eggs in the dark? If you can\, you could win prizes! Participants must have a flashlight to participate\, bags will be provided. \nOn your mark\, get set…HUNT! \n****There is an 8 ticket limit per person****
URL:https://www.gcparkstrails.com/event/extreme-egg-hunt-registration-required/
LOCATION:Caesar Ford Park\, 520 South Stringtown Road\, Xenia\, OH\, 45385\, United States
CATEGORIES:Adults,Annual Event
END:VEVENT
BEGIN:VEVENT
DTSTART;TZID=America/New_York:20250415T180000
DTEND;TZID=America/New_York:20250415T190000
DTSTAMP:20260423T183518
CREATED:20250109T155403Z
LAST-MODIFIED:20250109T155628Z
UID:10005639-1744740000-1744743600@www.gcparkstrails.com
SUMMARY:Cake Decorating with ele - Registration Required
DESCRIPTION:Have you ever had the desire to decorate beautiful cakes but you didn’t quite know where to start?  Well how about start with us and our new Cake Decorating classes being held at Clifton Lodge and Reserve? \nThrough a partnership with ele Cake Co.\, we are offering a series of 4 different cake decorating classes.  You must register for each class individually.  Each registered guest will receive one ele cake with an assortment of ele icing\, fondant as well as instruction on how to create these masterpieces.  Once finished\, you will take your cake home to enjoy. \nClasses will last approximately 45 minutes.
URL:https://www.gcparkstrails.com/event/cake-decorating-with-ele-registration-required/2025-04-15/
LOCATION:Clifton Reserve & Lodge\, 2762 S. River Rd.\, Clifton\, OH\, 45316\, United States
CATEGORIES:Adults
END:VEVENT
BEGIN:VEVENT
DTSTART;TZID=America/New_York:20250419T090000
DTEND;TZID=America/New_York:20250419T110000
DTSTAMP:20260423T183518
CREATED:20250109T140247Z
LAST-MODIFIED:20250109T140247Z
UID:10005605-1745053200-1745060400@www.gcparkstrails.com
SUMMARY:Morning Milers  - No Registration
DESCRIPTION:Join the GCP&T Trail Sentinels for an early morning ride along the region’s bike trails. GCP&T Trail Sentinels are an elite volunteer group who patrol the trails and coordinate several cycling events.\nThese rides are not for the beginner skill level and may include a short\, off-trail portion with an average of 25-35 miles at 15-17 MPH. \nRides are FREE and meet at 8:30 AM with rides starting at 9 AM\, finishing around 11 AM. \nRides will be cancelled in the event of a inclement weather. \nAll night riders must:\nBe 18 and older\nWear a helmet\nHave bike repair items \nStarting Point Addresses:\nBeavercreek Community Park\n801 Factory Rd.\, Beavercreek\, OH 45434\nXenia Station\n150 S. Miami Ave.\, Xenia\, OH 45385
URL:https://www.gcparkstrails.com/event/morning-milers-no-registration-3/2025-04-19/
LOCATION:Beavercreek Community Park\, 801 Factory Rd\, Beavercreek\, OH\, 45434\, United States
CATEGORIES:Adults,Cycling
END:VEVENT
BEGIN:VEVENT
DTSTART;TZID=America/New_York:20250419T100000
DTEND;TZID=America/New_York:20250419T120000
DTSTAMP:20260423T183518
CREATED:20250109T155801Z
LAST-MODIFIED:20250109T155801Z
UID:10005644-1745056800-1745064000@www.gcparkstrails.com
SUMMARY:Spring Foraging - No Registration
DESCRIPTION:Eat the weeds!  No REALLY!  Learn all about the common plants that you can forage in our parks.  Many are also what you might consider weeds in your own backyard.  Follow trails with signs about each plant and how to prepare it.  A naturalist will be on hand to answer questions.  Handouts will be available at the program. \nPlease arrive no later than 11:30 am to allow time to complete the program. 
URL:https://www.gcparkstrails.com/event/spring-foraging-no-registration/
LOCATION:Caesar Ford Park\, 520 South Stringtown Road\, Xenia\, OH\, 45385\, United States
CATEGORIES:Adults
END:VEVENT
BEGIN:VEVENT
DTSTART;TZID=America/New_York:20250419T183000
DTEND;TZID=America/New_York:20250419T203000
DTSTAMP:20260423T183518
CREATED:20250108T185104Z
LAST-MODIFIED:20250108T185104Z
UID:10005591-1745087400-1745094600@www.gcparkstrails.com
SUMMARY:Wacky Wayfarer Series - Murder Mystery Hike - No Registration
DESCRIPTION:Bring your sleuthing skills to the Narrows Reserve and help us solve The Murder at the Oxbow. Everyone is suspicious and no one is safe! \n  \nDifficulty and accessibility will be listed under each event.\nLevel 1 – Flat dirt\, gravel\, or paved trail. Minimal elevation changes.\nLevel 2 – Rough dirt\, gravel\, or paved trail. Medium elevation changes.\nLevel 3 – Rocky and unstable trail. Multiple difficult elevation changes. \n  \n**Difficulty: Level 1 – Flat dirt\, gravel\, or paved trail. Minimal elevation changes.
URL:https://www.gcparkstrails.com/event/wacky-wayfarer-series-murder-mystery-hike-no-registration/
LOCATION:Caesar Ford Park\, 520 South Stringtown Road\, Xenia\, OH\, 45385\, United States
CATEGORIES:Adults,Hiking
END:VEVENT
BEGIN:VEVENT
DTSTART;TZID=America/New_York:20250426T100000
DTEND;TZID=America/New_York:20250426T120000
DTSTAMP:20260423T183518
CREATED:20250109T160609Z
LAST-MODIFIED:20250109T160609Z
UID:10005647-1745661600-1745668800@www.gcparkstrails.com
SUMMARY:Biking Basics Workshop - Registration Required
DESCRIPTION:Are you new to biking?  Maybe you have been doing it for a while but you still have some questions?  Well we have the answers for you… \nJoin our Trail Sentinels for a beginner road/bike trail workshop where they will discuss everything you need to know to be successful at biking.  The program will cover things like the types of bikes for roads and trails\, equipment and accessories needed before you head out as well as the “rules of the road (and trails).” \nGuests that attend this free program will receive a bike related gift from our department.
URL:https://www.gcparkstrails.com/event/biking-basics-workshop-registration-required/
LOCATION:GCPT Headquarters\, 635 Dayton-Xenia Rd.\, Xenia\, OH\, 45385
CATEGORIES:Adults
END:VEVENT
END:VCALENDAR