BEGIN:VCALENDAR
VERSION:2.0
PRODID:-//Greene County Parks &amp; Trails - ECPv6.15.18//NONSGML v1.0//EN
CALSCALE:GREGORIAN
METHOD:PUBLISH
X-ORIGINAL-URL:https://www.gcparkstrails.com
X-WR-CALDESC:Events for Greene County Parks &amp; Trails
REFRESH-INTERVAL;VALUE=DURATION:PT1H
X-Robots-Tag:noindex
X-PUBLISHED-TTL:PT1H
BEGIN:VTIMEZONE
TZID:America/New_York
BEGIN:DAYLIGHT
TZOFFSETFROM:-0500
TZOFFSETTO:-0400
TZNAME:EDT
DTSTART:20230312T070000
END:DAYLIGHT
BEGIN:STANDARD
TZOFFSETFROM:-0400
TZOFFSETTO:-0500
TZNAME:EST
DTSTART:20231105T060000
END:STANDARD
BEGIN:DAYLIGHT
TZOFFSETFROM:-0500
TZOFFSETTO:-0400
TZNAME:EDT
DTSTART:20240310T070000
END:DAYLIGHT
BEGIN:STANDARD
TZOFFSETFROM:-0400
TZOFFSETTO:-0500
TZNAME:EST
DTSTART:20241103T060000
END:STANDARD
BEGIN:DAYLIGHT
TZOFFSETFROM:-0500
TZOFFSETTO:-0400
TZNAME:EDT
DTSTART:20250309T070000
END:DAYLIGHT
BEGIN:STANDARD
TZOFFSETFROM:-0400
TZOFFSETTO:-0500
TZNAME:EST
DTSTART:20251102T060000
END:STANDARD
END:VTIMEZONE
BEGIN:VEVENT
DTSTART;TZID=America/New_York:20240712T180000
DTEND;TZID=America/New_York:20240712T200000
DTSTAMP:20260425T190251
CREATED:20240202T200342Z
LAST-MODIFIED:20240208T172426Z
UID:10004489-1720807200-1720814400@www.gcparkstrails.com
SUMMARY:Trivia Quest
DESCRIPTION:Are you a know-it-all? An armchair Jeopardy Champion? \nWell\, join us at the Russ Nature Reserve for our new Trivia Night where you will be quizzed and challenged on a variety of topics. \nOur top “brainiacs” will receive a prize as well as bragging rights. \nTeams may have no more than 8 members. The program begins promptly at 6 pm. Late arrivals will be at a disadvantage due to missing the opportunity to answer all questions.
URL:https://www.gcparkstrails.com/event/trivia-quest-5/2024-07-12/
LOCATION:Russ Nature Reserve\, 2380 Kemp Road\, Beavercreek\, OH\, 45431\, United States
CATEGORIES:Adults
END:VEVENT
BEGIN:VEVENT
DTSTART;TZID=America/New_York:20240719T200000
DTEND;TZID=America/New_York:20240719T220000
DTSTAMP:20260425T190251
CREATED:20240206T200731Z
LAST-MODIFIED:20240206T200731Z
UID:10004593-1721419200-1721426400@www.gcparkstrails.com
SUMMARY:Adult Bubble Party
DESCRIPTION:Bubbles aren’t just for kids! You asked and we listened and we are having an ADULT BUBBLE PARTY….Again! \nThe bubble pile will be taller and the music a little louder as we search for the child in all of you during adult bubble play. \nShoes are required\, must be 18 and over only. Children will not be permitted to play during this one. Towels are encouraged. \nNo Registration Required
URL:https://www.gcparkstrails.com/event/adult-bubble-party/
LOCATION:Fairgrounds Recreation Center\, 210 Fairground Road\, Xenia\, OH\, 45385\, United States
CATEGORIES:Adults
END:VEVENT
END:VCALENDAR