BEGIN:VCALENDAR
VERSION:2.0
PRODID:-//Greene County Parks &amp; Trails - ECPv6.15.18//NONSGML v1.0//EN
CALSCALE:GREGORIAN
METHOD:PUBLISH
X-ORIGINAL-URL:https://www.gcparkstrails.com
X-WR-CALDESC:Events for Greene County Parks &amp; Trails
REFRESH-INTERVAL;VALUE=DURATION:PT1H
X-Robots-Tag:noindex
X-PUBLISHED-TTL:PT1H
BEGIN:VTIMEZONE
TZID:America/New_York
BEGIN:DAYLIGHT
TZOFFSETFROM:-0500
TZOFFSETTO:-0400
TZNAME:EDT
DTSTART:20230312T070000
END:DAYLIGHT
BEGIN:STANDARD
TZOFFSETFROM:-0400
TZOFFSETTO:-0500
TZNAME:EST
DTSTART:20231105T060000
END:STANDARD
BEGIN:DAYLIGHT
TZOFFSETFROM:-0500
TZOFFSETTO:-0400
TZNAME:EDT
DTSTART:20240310T070000
END:DAYLIGHT
BEGIN:STANDARD
TZOFFSETFROM:-0400
TZOFFSETTO:-0500
TZNAME:EST
DTSTART:20241103T060000
END:STANDARD
BEGIN:DAYLIGHT
TZOFFSETFROM:-0500
TZOFFSETTO:-0400
TZNAME:EDT
DTSTART:20250309T070000
END:DAYLIGHT
BEGIN:STANDARD
TZOFFSETFROM:-0400
TZOFFSETTO:-0500
TZNAME:EST
DTSTART:20251102T060000
END:STANDARD
END:VTIMEZONE
BEGIN:VEVENT
DTSTART;TZID=America/New_York:20240413T100000
DTEND;TZID=America/New_York:20240413T120000
DTSTAMP:20260425T232631
CREATED:20240202T201628Z
LAST-MODIFIED:20240208T172515Z
UID:10004498-1713002400-1713009600@www.gcparkstrails.com
SUMMARY:Spring Wild Foraging
DESCRIPTION:Foraging for wild-grown foods is an exciting way to explore the outdoors and bring nature’s bounty to the table. \nFollow self-guided trails that provide information next to each edible plant with tidbits about what part is best to eat and how to prepare it. A naturalist will be on hand to answer your questions.
URL:https://www.gcparkstrails.com/event/spring-wild-foraging/
LOCATION:Caesar Ford Park\, 520 South Stringtown Road\, Xenia\, OH\, 45385\, United States
CATEGORIES:Adults
END:VEVENT
BEGIN:VEVENT
DTSTART;TZID=America/New_York:20240430T180000
DTEND;TZID=America/New_York:20240430T210000
DTSTAMP:20260425T232631
CREATED:20240202T201733Z
LAST-MODIFIED:20240202T201733Z
UID:10004499-1714500000-1714510800@www.gcparkstrails.com
SUMMARY:Sip 'N Paint ~ Spring Fling
DESCRIPTION:Join us for a fun evening of painting with friends new and old. \nParticipants are welcome to bring one bottle of wine/beer (only) of their choice as they paint a spring masterpiece. \nAll supplies will be provided for you to participate.  Canvas size is 16×20.
URL:https://www.gcparkstrails.com/event/sip-n-paint-spring-fling/
LOCATION:Clifton Reserve & Lodge\, 2762 S. River Rd.\, Clifton\, OH\, 45316\, United States
CATEGORIES:Adults
END:VEVENT
END:VCALENDAR