BEGIN:VCALENDAR
VERSION:2.0
PRODID:-//Greene County Parks &amp; Trails - ECPv6.15.18//NONSGML v1.0//EN
CALSCALE:GREGORIAN
METHOD:PUBLISH
X-WR-CALNAME:Greene County Parks &amp; Trails
X-ORIGINAL-URL:https://www.gcparkstrails.com
X-WR-CALDESC:Events for Greene County Parks &amp; Trails
REFRESH-INTERVAL;VALUE=DURATION:PT1H
X-Robots-Tag:noindex
X-PUBLISHED-TTL:PT1H
BEGIN:VTIMEZONE
TZID:America/New_York
BEGIN:DAYLIGHT
TZOFFSETFROM:-0500
TZOFFSETTO:-0400
TZNAME:EDT
DTSTART:20250309T070000
END:DAYLIGHT
BEGIN:STANDARD
TZOFFSETFROM:-0400
TZOFFSETTO:-0500
TZNAME:EST
DTSTART:20251102T060000
END:STANDARD
BEGIN:DAYLIGHT
TZOFFSETFROM:-0500
TZOFFSETTO:-0400
TZNAME:EDT
DTSTART:20260308T070000
END:DAYLIGHT
BEGIN:STANDARD
TZOFFSETFROM:-0400
TZOFFSETTO:-0500
TZNAME:EST
DTSTART:20261101T060000
END:STANDARD
BEGIN:DAYLIGHT
TZOFFSETFROM:-0500
TZOFFSETTO:-0400
TZNAME:EDT
DTSTART:20270314T070000
END:DAYLIGHT
BEGIN:STANDARD
TZOFFSETFROM:-0400
TZOFFSETTO:-0500
TZNAME:EST
DTSTART:20271107T060000
END:STANDARD
END:VTIMEZONE
BEGIN:VEVENT
DTSTART;TZID=America/New_York:20260421T100000
DTEND;TZID=America/New_York:20260421T113000
DTSTAMP:20260421T055438
CREATED:20260325T174620Z
LAST-MODIFIED:20260325T174620Z
UID:10007083-1776765600-1776771000@www.gcparkstrails.com
SUMMARY:Homeschool Science Days DISCOVERY HIKE - Spring Wildflowers - No Registration
DESCRIPTION:Bring your homeschool groups outside for hands-on science designed for all ages. Two programs are designed just for homeschoolers. They are called Homeschool Science Days and Homeschool Science Days DISCOVERY HIKES. \nHomeschool Science Days DISCOVERY HIKES  last 90 minutes and cover seasonal topics such as wildflowers\, habitats\, animal tracking and more.  These discovery hikes are guided and will leave promptly at 10 am.  Late guests will have to catch up.  The hikes end at 11:30 am. \nDress for the weather. This program will be entirely outdoors\, rain or shine.   There is a chance that participants may get muddy. \nAt least one adult must be present with each homeschool group. \nRegistration is no longer needed for the homeschool educational series. \nDISCOVERY HIKE: Spring Wildflowers\nIndian Mound Reserve is an AMAZING place to see wildflowers. Bring your homeschoolers and hike the self-guided trail with informational signs by each of the wildflowers. Naturalists will be on hand to answer questions and lead quick activities along the way. The trails at Indian Mound reserve are rocky and not stroller friendly. You do not have to arrive right at 10:00 for this hike\, but try not to arrive any later than 10:30 so that you have time to enjoy it.
URL:https://www.gcparkstrails.com/event/homeschool-science-days-discovery-hike-spring-wildflowers-no-registration/
LOCATION:Indian Mound Reserve\, 2750 US Rt 42 E\, Cedarville\, OH\, 45314
CATEGORIES:Homeschool Science Days
END:VEVENT
END:VCALENDAR