BEGIN:VCALENDAR
VERSION:2.0
PRODID:-//Greene County Parks &amp; Trails - ECPv6.15.18//NONSGML v1.0//EN
CALSCALE:GREGORIAN
METHOD:PUBLISH
X-ORIGINAL-URL:https://www.gcparkstrails.com
X-WR-CALDESC:Events for Greene County Parks &amp; Trails
REFRESH-INTERVAL;VALUE=DURATION:PT1H
X-Robots-Tag:noindex
X-PUBLISHED-TTL:PT1H
BEGIN:VTIMEZONE
TZID:America/New_York
BEGIN:DAYLIGHT
TZOFFSETFROM:-0500
TZOFFSETTO:-0400
TZNAME:EDT
DTSTART:20240310T070000
END:DAYLIGHT
BEGIN:STANDARD
TZOFFSETFROM:-0400
TZOFFSETTO:-0500
TZNAME:EST
DTSTART:20241103T060000
END:STANDARD
BEGIN:DAYLIGHT
TZOFFSETFROM:-0500
TZOFFSETTO:-0400
TZNAME:EDT
DTSTART:20250309T070000
END:DAYLIGHT
BEGIN:STANDARD
TZOFFSETFROM:-0400
TZOFFSETTO:-0500
TZNAME:EST
DTSTART:20251102T060000
END:STANDARD
BEGIN:DAYLIGHT
TZOFFSETFROM:-0500
TZOFFSETTO:-0400
TZNAME:EDT
DTSTART:20260308T070000
END:DAYLIGHT
BEGIN:STANDARD
TZOFFSETFROM:-0400
TZOFFSETTO:-0500
TZNAME:EST
DTSTART:20261101T060000
END:STANDARD
END:VTIMEZONE
BEGIN:VEVENT
DTSTART;TZID=America/New_York:20251206T100000
DTEND;TZID=America/New_York:20251206T120000
DTSTAMP:20260421T191850
CREATED:20250113T191538Z
LAST-MODIFIED:20250113T191538Z
UID:10006258-1765015200-1765022400@www.gcparkstrails.com
SUMMARY:Santa's Workshop - Registration Required
DESCRIPTION:The holiday season can be a busy time\, Santa needs all the help he can get making gifts for the special people in our lives. \nChildren\, ages 4-12\, are invited to attend Santa’s Workshop and make gifts for mom\, dad\, grandma\, grandpa and more. \nAll supplies will be provided\, this is a registration event only. No walk-ins can be accepted. \n* We will be crafting with non washable paints\, please dress accordingly. * \nThis year we will be registering people in time slots to better serve our guests.  Please do not arrive more than 5 minutes before your scheduled time slot.
URL:https://www.gcparkstrails.com/event/santas-workshop-registration-required/
LOCATION:GCP&T Satellite\, 623 Dayton-Xenia Rd.\, Xenia\, OH\, 45385\, United States
END:VEVENT
BEGIN:VEVENT
DTSTART;TZID=America/New_York:20251206T130000
DTEND;TZID=America/New_York:20251206T143000
DTSTAMP:20260421T191850
CREATED:20250113T191739Z
LAST-MODIFIED:20250113T191739Z
UID:10006259-1765026000-1765031400@www.gcparkstrails.com
SUMMARY:Santabilities Workshop - Registration Required
DESCRIPTION:Santa’s Elves will be around to assist with our new program\, Santabilities Workshop\, as we open the North Pole to those that need a little extra help and attention. \nSantabilities Workshop is the same great program as Santa’s Workshop\, just geared to people that are differently-abled.  This program is for the young and the young at heart as we do not have an age restriction.  Each registered guest will make hand-made gifts to give others during the holiday season. \nA lot less chaos\, a lot less people\, a much quieter environment to accommodate ALL! \nYou do not need to attend for the full 90 minutes\, you can attend anytime during the program hours as long as you leave time to complete the crafts prior to closing. 
URL:https://www.gcparkstrails.com/event/santabilities-workshop-registration-required/
LOCATION:GCP&T Satellite\, 623 Dayton-Xenia Rd.\, Xenia\, OH\, 45385\, United States
END:VEVENT
BEGIN:VEVENT
DTSTART;TZID=America/New_York:20251206T180000
DTEND;TZID=America/New_York:20251206T210000
DTSTAMP:20260421T191850
CREATED:20260120T180205Z
LAST-MODIFIED:20260120T180205Z
UID:10006650-1765044000-1765054800@www.gcparkstrails.com
SUMMARY:ParkLights at Caesar Ford Park
DESCRIPTION:Forget deck the halls\, we’ve decked the park with dazzling lights! You’ll wind your way through our Winter Wonderland\, North Pole Car Show\, Winter Farm\, and Festive Festival\, then wave to Santa at the North Pole as you exit. \nDrive through once\, and you’ll want to do it again…as this Christmas event is FREE. \nDonations are gladly accepted at the wood house at the exit and support the program for years to come. \nBe sure to make this a holiday tradition! This event is open December 1-31st from 6-9pm
URL:https://www.gcparkstrails.com/event/parklights-at-caesar-ford-park-2/2025-12-06/
LOCATION:Caesar Ford Park\, 520 South Stringtown Road\, Xenia\, OH\, 45385\, United States
CATEGORIES:Annual Event
ATTACH;FMTTYPE=image/png:https://www.gcparkstrails.com/wp-content/uploads/2020/11/ParkLightsLogo.png
END:VEVENT
END:VCALENDAR