BEGIN:VCALENDAR
VERSION:2.0
PRODID:-//Greene County Parks &amp; Trails - ECPv6.15.18//NONSGML v1.0//EN
CALSCALE:GREGORIAN
METHOD:PUBLISH
X-WR-CALNAME:Greene County Parks &amp; Trails
X-ORIGINAL-URL:https://www.gcparkstrails.com
X-WR-CALDESC:Events for Greene County Parks &amp; Trails
REFRESH-INTERVAL;VALUE=DURATION:PT1H
X-Robots-Tag:noindex
X-PUBLISHED-TTL:PT1H
BEGIN:VTIMEZONE
TZID:UTC
BEGIN:STANDARD
TZOFFSETFROM:+0000
TZOFFSETTO:+0000
TZNAME:UTC
DTSTART:20240101T000000
END:STANDARD
END:VTIMEZONE
BEGIN:VTIMEZONE
TZID:America/New_York
BEGIN:DAYLIGHT
TZOFFSETFROM:-0500
TZOFFSETTO:-0400
TZNAME:EDT
DTSTART:20240310T070000
END:DAYLIGHT
BEGIN:STANDARD
TZOFFSETFROM:-0400
TZOFFSETTO:-0500
TZNAME:EST
DTSTART:20241103T060000
END:STANDARD
BEGIN:DAYLIGHT
TZOFFSETFROM:-0500
TZOFFSETTO:-0400
TZNAME:EDT
DTSTART:20250309T070000
END:DAYLIGHT
BEGIN:STANDARD
TZOFFSETFROM:-0400
TZOFFSETTO:-0500
TZNAME:EST
DTSTART:20251102T060000
END:STANDARD
BEGIN:DAYLIGHT
TZOFFSETFROM:-0500
TZOFFSETTO:-0400
TZNAME:EDT
DTSTART:20260308T070000
END:DAYLIGHT
BEGIN:STANDARD
TZOFFSETFROM:-0400
TZOFFSETTO:-0500
TZNAME:EST
DTSTART:20261101T060000
END:STANDARD
END:VTIMEZONE
BEGIN:VEVENT
DTSTART;VALUE=DATE:20251119
DTEND;VALUE=DATE:20251120
DTSTAMP:20260421T190726
CREATED:20191120T005358Z
LAST-MODIFIED:20191120T010053Z
UID:10004704-1763510400-1763596799@www.gcparkstrails.com
SUMMARY:National Camp Day
DESCRIPTION:
URL:https://www.gcparkstrails.com/event/national-camp-day/2025-11-19/
LOCATION:OH
END:VEVENT
BEGIN:VEVENT
DTSTART;TZID=America/New_York:20251119T080000
DTEND;TZID=America/New_York:20251119T170000
DTSTAMP:20260421T190726
CREATED:20250113T185536Z
LAST-MODIFIED:20250113T185536Z
UID:10006225-1763539200-1763571600@www.gcparkstrails.com
SUMMARY:Christmas Decor/Gift Making - Registration Required
DESCRIPTION:Do you have a family member or friend who values personalized handmade gifts over store purchased items? Or are you looking for cute Christmas décor of your own? Join GCP&T as we get you ready for the holiday season with hand-crafted Christmas Decor \nEach handcrafted wooden snowman is $10 to make. You can register to make anywhere from 1-3 snowmen. \nMost supplies will be provided; however\, you are welcome to bring additional supplies to use. \nDue to space\, only registered guests may attend. \n.
URL:https://www.gcparkstrails.com/event/christmas-decor-gift-making-registration-required/
LOCATION:Clifton Reserve & Lodge\, 2762 S. River Rd.\, Clifton\, OH\, 45316\, United States
CATEGORIES:DIY
END:VEVENT
BEGIN:VEVENT
DTSTART;TZID=America/New_York:20251119T090000
DTEND;TZID=America/New_York:20251119T113000
DTSTAMP:20260421T190726
CREATED:20250113T155108Z
LAST-MODIFIED:20250113T155108Z
UID:10006169-1763542800-1763551800@www.gcparkstrails.com
SUMMARY:Nature Preschool - Registration Required
DESCRIPTION:On Wednesdays we do wild! Nature is a great classroom and we are so excited for Wild School Wednesdays! We will learn all the basics\, colors\, letters\, numbers etc… Students will also learn all about nature with our animal ambassadors and outdoor classroom! Our home base will be the Critter Cove at the Narrows before heading out on a day of adventure and discovery! Students need to be potty trained. No school on October 22nd\, see you at Pumpkin Glow that week! This weekly drop off preschool program is bound to be a huge hit with your little wild ones!
URL:https://www.gcparkstrails.com/event/nature-preschool-registration-required/2025-11-19/
LOCATION:Narrows Reserve\, 2575 Indian Ripple Road\, Xenia\, OH\, 45385\, United States
END:VEVENT
BEGIN:VEVENT
DTSTART;TZID=America/New_York:20251119T130000
DTEND;TZID=America/New_York:20251119T153000
DTSTAMP:20260421T190726
CREATED:20250113T155248Z
LAST-MODIFIED:20250113T155248Z
UID:10006187-1763557200-1763566200@www.gcparkstrails.com
SUMMARY:Nature Preschool - Registration Required
DESCRIPTION:On Wednesdays we do wild! Nature is a great classroom and we are so excited for Wild School Wednesdays! We will learn all the basics\, colors\, letters\, numbers etc… Students will also learn all about nature with our animal ambassadors and outdoor classroom! Our home base will be the Critter Cove at the Narrows before heading out on a day of adventure and discovery! Students need to be potty trained. No school on October 22nd\, see you at Pumpkin Glow that week! This weekly drop off preschool program is bound to be a huge hit with your little wild ones!
URL:https://www.gcparkstrails.com/event/nature-preschool-registration-required-2/2025-11-19/
LOCATION:Narrows Reserve\, 2575 Indian Ripple Road\, Xenia\, OH\, 45385\, United States
END:VEVENT
END:VCALENDAR