BEGIN:VCALENDAR
VERSION:2.0
PRODID:-//Greene County Parks &amp; Trails - ECPv6.15.18//NONSGML v1.0//EN
CALSCALE:GREGORIAN
METHOD:PUBLISH
X-ORIGINAL-URL:https://www.gcparkstrails.com
X-WR-CALDESC:Events for Greene County Parks &amp; Trails
REFRESH-INTERVAL;VALUE=DURATION:PT1H
X-Robots-Tag:noindex
X-PUBLISHED-TTL:PT1H
BEGIN:VTIMEZONE
TZID:America/New_York
BEGIN:DAYLIGHT
TZOFFSETFROM:-0500
TZOFFSETTO:-0400
TZNAME:EDT
DTSTART:20240310T070000
END:DAYLIGHT
BEGIN:STANDARD
TZOFFSETFROM:-0400
TZOFFSETTO:-0500
TZNAME:EST
DTSTART:20241103T060000
END:STANDARD
BEGIN:DAYLIGHT
TZOFFSETFROM:-0500
TZOFFSETTO:-0400
TZNAME:EDT
DTSTART:20250309T070000
END:DAYLIGHT
BEGIN:STANDARD
TZOFFSETFROM:-0400
TZOFFSETTO:-0500
TZNAME:EST
DTSTART:20251102T060000
END:STANDARD
BEGIN:DAYLIGHT
TZOFFSETFROM:-0500
TZOFFSETTO:-0400
TZNAME:EDT
DTSTART:20260308T070000
END:DAYLIGHT
BEGIN:STANDARD
TZOFFSETFROM:-0400
TZOFFSETTO:-0500
TZNAME:EST
DTSTART:20261101T060000
END:STANDARD
END:VTIMEZONE
BEGIN:VEVENT
DTSTART;TZID=America/New_York:20251028T173000
DTEND;TZID=America/New_York:20251028T193000
DTSTAMP:20260421T141954
CREATED:20250113T163240Z
LAST-MODIFIED:20250113T163240Z
UID:10006222-1761672600-1761679800@www.gcparkstrails.com
SUMMARY:Bleach Splattered Christmas Shirts - Registration Required
DESCRIPTION:Get creative and design your own bleach dyed Christmas style T-Shirt. \nI know\, I know… Halloween hasn’t even passed yet! But Christmas is right around the corner\, after Thanksgiving of course. \nYou will not want to miss celebrating in your very own personalized Christmas shirt! Each paid registrant will receive one T-shirt and the use of supplies to create a bleached Christmas designed T-shirt. \nSizes\, styles and quantities will be limited. \nLong wait times are expected\, please feel free to attend any time during the scheduled hours. \nRegistration includes one t-shirt along with bleach supplies. Unfortunately\, due to supplies\, we cannot allow you to bring additional shirts to customize.
URL:https://www.gcparkstrails.com/event/bleach-splattered-christmas-shirts-registration-required/
LOCATION:Russ Nature Reserve\, 2380 Kemp Road\, Beavercreek\, OH\, 45431\, United States
CATEGORIES:DIY
END:VEVENT
END:VCALENDAR