BEGIN:VCALENDAR
VERSION:2.0
PRODID:-//Greene County Parks &amp; Trails - ECPv6.15.18//NONSGML v1.0//EN
CALSCALE:GREGORIAN
METHOD:PUBLISH
X-WR-CALNAME:Greene County Parks &amp; Trails
X-ORIGINAL-URL:https://www.gcparkstrails.com
X-WR-CALDESC:Events for Greene County Parks &amp; Trails
REFRESH-INTERVAL;VALUE=DURATION:PT1H
X-Robots-Tag:noindex
X-PUBLISHED-TTL:PT1H
BEGIN:VTIMEZONE
TZID:America/New_York
BEGIN:DAYLIGHT
TZOFFSETFROM:-0500
TZOFFSETTO:-0400
TZNAME:EDT
DTSTART:20240310T070000
END:DAYLIGHT
BEGIN:STANDARD
TZOFFSETFROM:-0400
TZOFFSETTO:-0500
TZNAME:EST
DTSTART:20241103T060000
END:STANDARD
BEGIN:DAYLIGHT
TZOFFSETFROM:-0500
TZOFFSETTO:-0400
TZNAME:EDT
DTSTART:20250309T070000
END:DAYLIGHT
BEGIN:STANDARD
TZOFFSETFROM:-0400
TZOFFSETTO:-0500
TZNAME:EST
DTSTART:20251102T060000
END:STANDARD
BEGIN:DAYLIGHT
TZOFFSETFROM:-0500
TZOFFSETTO:-0400
TZNAME:EDT
DTSTART:20260308T070000
END:DAYLIGHT
BEGIN:STANDARD
TZOFFSETFROM:-0400
TZOFFSETTO:-0500
TZNAME:EST
DTSTART:20261101T060000
END:STANDARD
END:VTIMEZONE
BEGIN:VEVENT
DTSTART;TZID=America/New_York:20251022T080000
DTEND;TZID=America/New_York:20251022T170000
DTSTAMP:20260421T141810
CREATED:20250113T162753Z
LAST-MODIFIED:20250113T162753Z
UID:10006218-1761120000-1761152400@www.gcparkstrails.com
SUMMARY:Pumpkin Glow: Sensory Friendly Night - No Registration
DESCRIPTION:Have you ever wanted to come to pumpkin glow but weren’t sure if it would be accessible for your family? Have no fear\, the Pumpkin Fairies are here! \nThis special night of Pumpkin Glow will feature a sensory friendly atmosphere with lower sounds\, clear trail markings\, fewer lights with ALL the pumpkin glow magic! The ADA trail will have double the pumpkins and there will be a sensory friendly food vendor so bring some money. \nIf your family is sensitive to lights\, sounds\, and crowds this is the night for you! The pumpkin fairies are hard at work to make this special night accessible for ALL! \nIf you are wanting the Pumpkin Glow experience but are not in need of a sensory friendly atmosphere\, please visit us 10/23 – 10/25 from 6-9 pm.
URL:https://www.gcparkstrails.com/event/pumpkin-glow-sensory-friendly-night-no-registration/
LOCATION:Caesar Ford Park\, 520 South Stringtown Road\, Xenia\, OH\, 45385\, United States
CATEGORIES:Annual Event
END:VEVENT
BEGIN:VEVENT
DTSTART;TZID=America/New_York:20251022T090000
DTEND;TZID=America/New_York:20251022T113000
DTSTAMP:20260421T141810
CREATED:20250113T155108Z
LAST-MODIFIED:20250113T155108Z
UID:10006165-1761123600-1761132600@www.gcparkstrails.com
SUMMARY:Nature Preschool - Registration Required
DESCRIPTION:On Wednesdays we do wild! Nature is a great classroom and we are so excited for Wild School Wednesdays! We will learn all the basics\, colors\, letters\, numbers etc… Students will also learn all about nature with our animal ambassadors and outdoor classroom! Our home base will be the Critter Cove at the Narrows before heading out on a day of adventure and discovery! Students need to be potty trained. No school on October 22nd\, see you at Pumpkin Glow that week! This weekly drop off preschool program is bound to be a huge hit with your little wild ones!
URL:https://www.gcparkstrails.com/event/nature-preschool-registration-required/2025-10-22/
LOCATION:Narrows Reserve\, 2575 Indian Ripple Road\, Xenia\, OH\, 45385\, United States
END:VEVENT
BEGIN:VEVENT
DTSTART;TZID=America/New_York:20251022T130000
DTEND;TZID=America/New_York:20251022T153000
DTSTAMP:20260421T141810
CREATED:20250113T155248Z
LAST-MODIFIED:20250113T155248Z
UID:10006183-1761138000-1761147000@www.gcparkstrails.com
SUMMARY:Nature Preschool - Registration Required
DESCRIPTION:On Wednesdays we do wild! Nature is a great classroom and we are so excited for Wild School Wednesdays! We will learn all the basics\, colors\, letters\, numbers etc… Students will also learn all about nature with our animal ambassadors and outdoor classroom! Our home base will be the Critter Cove at the Narrows before heading out on a day of adventure and discovery! Students need to be potty trained. No school on October 22nd\, see you at Pumpkin Glow that week! This weekly drop off preschool program is bound to be a huge hit with your little wild ones!
URL:https://www.gcparkstrails.com/event/nature-preschool-registration-required-2/2025-10-22/
LOCATION:Narrows Reserve\, 2575 Indian Ripple Road\, Xenia\, OH\, 45385\, United States
END:VEVENT
END:VCALENDAR