BEGIN:VCALENDAR
VERSION:2.0
PRODID:-//Greene County Parks &amp; Trails - ECPv6.15.18//NONSGML v1.0//EN
CALSCALE:GREGORIAN
METHOD:PUBLISH
X-WR-CALNAME:Greene County Parks &amp; Trails
X-ORIGINAL-URL:https://www.gcparkstrails.com
X-WR-CALDESC:Events for Greene County Parks &amp; Trails
REFRESH-INTERVAL;VALUE=DURATION:PT1H
X-Robots-Tag:noindex
X-PUBLISHED-TTL:PT1H
BEGIN:VTIMEZONE
TZID:America/New_York
BEGIN:DAYLIGHT
TZOFFSETFROM:-0500
TZOFFSETTO:-0400
TZNAME:EDT
DTSTART:20240310T070000
END:DAYLIGHT
BEGIN:STANDARD
TZOFFSETFROM:-0400
TZOFFSETTO:-0500
TZNAME:EST
DTSTART:20241103T060000
END:STANDARD
BEGIN:DAYLIGHT
TZOFFSETFROM:-0500
TZOFFSETTO:-0400
TZNAME:EDT
DTSTART:20250309T070000
END:DAYLIGHT
BEGIN:STANDARD
TZOFFSETFROM:-0400
TZOFFSETTO:-0500
TZNAME:EST
DTSTART:20251102T060000
END:STANDARD
BEGIN:DAYLIGHT
TZOFFSETFROM:-0500
TZOFFSETTO:-0400
TZNAME:EDT
DTSTART:20260308T070000
END:DAYLIGHT
BEGIN:STANDARD
TZOFFSETFROM:-0400
TZOFFSETTO:-0500
TZNAME:EST
DTSTART:20261101T060000
END:STANDARD
END:VTIMEZONE
BEGIN:VEVENT
DTSTART;TZID=America/New_York:20251011T190000
DTEND;TZID=America/New_York:20251011T210000
DTSTAMP:20260421T141736
CREATED:20250109T154026Z
LAST-MODIFIED:20250109T154026Z
UID:10005638-1760209200-1760216400@www.gcparkstrails.com
SUMMARY:Night Ride: Xenia Station to Spring Valley - No Registration
DESCRIPTION:End of Season Carry-in \nJoin the GCP&T Trail Sentinels for a moonlight ride along the region’s bike trails. GCP&T Trail Sentinels are an elite volunteer group who patrol the trails and coordinate several cycling events.\nNight Rides are free and leave Xenia Station at 7 PM\, finishing around 9 PM. The average speed of the ride is 10 – 13 MPH. \nAll night riders must:\nBe 18 and older\nWear a helmet and have lights on their bikes\nHave bike repair items \n– Rides will be cancelled in the event of inclement weather. \n***And let’s be real…these rides are for ice cream 🙂
URL:https://www.gcparkstrails.com/event/night-ride-xenia-station-to-spring-valley-no-registration/
LOCATION:Xenia Station\, 150 Miami Avenue\, Xenia\, OH\, 45385\, United States
CATEGORIES:Cycling
END:VEVENT
BEGIN:VEVENT
DTSTART;TZID=America/New_York:20251011T200000
DTEND;TZID=America/New_York:20251011T220000
DTSTAMP:20260421T141736
CREATED:20250113T162621Z
LAST-MODIFIED:20250113T162621Z
UID:10006217-1760212800-1760220000@www.gcparkstrails.com
SUMMARY:Cracked Egg EXTREME Hunt - Registration Required
DESCRIPTION:When things just aren’t as easy as they were when we were younger\, it’s hard to compete. So why not be part of our NEW Cracked Egg Extreme Hunt only for those ages 55 and up! \nThis event is the same as the Extreme Egg events but with a specific age bracket. \nNo more having to compete against youth\, unless you want to\, this event will be a little bit slower paced. \nBlack eggs will still be hidden in the woods\, after dark. All with candy\, some with great prizes. Will you get 20? 10? Will you win a prize? Register now to participate! \nRegistrant Sign In will be from 7:00 – 8:00 pm\, the hunt will begin shortly after. \nNo outside bags permitted\, bags will be provided.  Caesar Ford Park is located at:  520 S. Stringtown Road\, Xenia\, Ohio 45385.
URL:https://www.gcparkstrails.com/event/cracked-egg-extreme-hunt-registration-required/
LOCATION:Caesar Ford Park\, 520 South Stringtown Road\, Xenia\, OH\, 45385\, United States
END:VEVENT
END:VCALENDAR