BEGIN:VCALENDAR
VERSION:2.0
PRODID:-//Greene County Parks &amp; Trails - ECPv6.15.18//NONSGML v1.0//EN
CALSCALE:GREGORIAN
METHOD:PUBLISH
X-WR-CALNAME:Greene County Parks &amp; Trails
X-ORIGINAL-URL:https://www.gcparkstrails.com
X-WR-CALDESC:Events for Greene County Parks &amp; Trails
REFRESH-INTERVAL;VALUE=DURATION:PT1H
X-Robots-Tag:noindex
X-PUBLISHED-TTL:PT1H
BEGIN:VTIMEZONE
TZID:America/New_York
BEGIN:DAYLIGHT
TZOFFSETFROM:-0500
TZOFFSETTO:-0400
TZNAME:EDT
DTSTART:20240310T070000
END:DAYLIGHT
BEGIN:STANDARD
TZOFFSETFROM:-0400
TZOFFSETTO:-0500
TZNAME:EST
DTSTART:20241103T060000
END:STANDARD
BEGIN:DAYLIGHT
TZOFFSETFROM:-0500
TZOFFSETTO:-0400
TZNAME:EDT
DTSTART:20250309T070000
END:DAYLIGHT
BEGIN:STANDARD
TZOFFSETFROM:-0400
TZOFFSETTO:-0500
TZNAME:EST
DTSTART:20251102T060000
END:STANDARD
BEGIN:DAYLIGHT
TZOFFSETFROM:-0500
TZOFFSETTO:-0400
TZNAME:EDT
DTSTART:20260308T070000
END:DAYLIGHT
BEGIN:STANDARD
TZOFFSETFROM:-0400
TZOFFSETTO:-0500
TZNAME:EST
DTSTART:20261101T060000
END:STANDARD
END:VTIMEZONE
BEGIN:VEVENT
DTSTART;TZID=America/New_York:20251008T090000
DTEND;TZID=America/New_York:20251008T113000
DTSTAMP:20260421T141809
CREATED:20250113T155108Z
LAST-MODIFIED:20250113T155108Z
UID:10006163-1759914000-1759923000@www.gcparkstrails.com
SUMMARY:Nature Preschool - Registration Required
DESCRIPTION:On Wednesdays we do wild! Nature is a great classroom and we are so excited for Wild School Wednesdays! We will learn all the basics\, colors\, letters\, numbers etc… Students will also learn all about nature with our animal ambassadors and outdoor classroom! Our home base will be the Critter Cove at the Narrows before heading out on a day of adventure and discovery! Students need to be potty trained. No school on October 22nd\, see you at Pumpkin Glow that week! This weekly drop off preschool program is bound to be a huge hit with your little wild ones!
URL:https://www.gcparkstrails.com/event/nature-preschool-registration-required/2025-10-08/
LOCATION:Narrows Reserve\, 2575 Indian Ripple Road\, Xenia\, OH\, 45385\, United States
END:VEVENT
BEGIN:VEVENT
DTSTART;TZID=America/New_York:20251008T130000
DTEND;TZID=America/New_York:20251008T153000
DTSTAMP:20260421T141809
CREATED:20250113T155248Z
LAST-MODIFIED:20250113T155248Z
UID:10006181-1759928400-1759937400@www.gcparkstrails.com
SUMMARY:Nature Preschool - Registration Required
DESCRIPTION:On Wednesdays we do wild! Nature is a great classroom and we are so excited for Wild School Wednesdays! We will learn all the basics\, colors\, letters\, numbers etc… Students will also learn all about nature with our animal ambassadors and outdoor classroom! Our home base will be the Critter Cove at the Narrows before heading out on a day of adventure and discovery! Students need to be potty trained. No school on October 22nd\, see you at Pumpkin Glow that week! This weekly drop off preschool program is bound to be a huge hit with your little wild ones!
URL:https://www.gcparkstrails.com/event/nature-preschool-registration-required-2/2025-10-08/
LOCATION:Narrows Reserve\, 2575 Indian Ripple Road\, Xenia\, OH\, 45385\, United States
END:VEVENT
BEGIN:VEVENT
DTSTART;TZID=America/New_York:20251008T173000
DTEND;TZID=America/New_York:20251008T183000
DTSTAMP:20260421T141809
CREATED:20250113T162445Z
LAST-MODIFIED:20250113T162445Z
UID:10006216-1759944600-1759948200@www.gcparkstrails.com
SUMMARY:Little Sprouts Pumpkin Farm - Registration Required
DESCRIPTION:If you have ever enjoyed the Great Pumpkin Patch\, we have designed a program with the same great fun but for our Little Sprouts\, ages 2 & 3. \nThe Little Sprouts Pumpkin Farm is open and ready for customers!  Join us for a pumpkin themed journey as we take you all around our farm exploring everything pumpkin! \nThis program is for 2 & 3 year olds.  Older siblings are welcome to come and assist however supplies will be for the little sprouts.
URL:https://www.gcparkstrails.com/event/little-sprouts-pumpkin-farm-registration-required/
LOCATION:James Ranch Park\, 177 Fairground Road\, Xenia\, OH\, 45385\, United States
END:VEVENT
END:VCALENDAR