BEGIN:VCALENDAR
VERSION:2.0
PRODID:-//Greene County Parks &amp; Trails - ECPv6.15.18//NONSGML v1.0//EN
CALSCALE:GREGORIAN
METHOD:PUBLISH
X-WR-CALNAME:Greene County Parks &amp; Trails
X-ORIGINAL-URL:https://www.gcparkstrails.com
X-WR-CALDESC:Events for Greene County Parks &amp; Trails
REFRESH-INTERVAL;VALUE=DURATION:PT1H
X-Robots-Tag:noindex
X-PUBLISHED-TTL:PT1H
BEGIN:VTIMEZONE
TZID:America/New_York
BEGIN:DAYLIGHT
TZOFFSETFROM:-0500
TZOFFSETTO:-0400
TZNAME:EDT
DTSTART:20240310T070000
END:DAYLIGHT
BEGIN:STANDARD
TZOFFSETFROM:-0400
TZOFFSETTO:-0500
TZNAME:EST
DTSTART:20241103T060000
END:STANDARD
BEGIN:DAYLIGHT
TZOFFSETFROM:-0500
TZOFFSETTO:-0400
TZNAME:EDT
DTSTART:20250309T070000
END:DAYLIGHT
BEGIN:STANDARD
TZOFFSETFROM:-0400
TZOFFSETTO:-0500
TZNAME:EST
DTSTART:20251102T060000
END:STANDARD
BEGIN:DAYLIGHT
TZOFFSETFROM:-0500
TZOFFSETTO:-0400
TZNAME:EDT
DTSTART:20260308T070000
END:DAYLIGHT
BEGIN:STANDARD
TZOFFSETFROM:-0400
TZOFFSETTO:-0500
TZNAME:EST
DTSTART:20261101T060000
END:STANDARD
END:VTIMEZONE
BEGIN:VEVENT
DTSTART;TZID=America/New_York:20250920T090000
DTEND;TZID=America/New_York:20250920T110000
DTSTAMP:20260421T191131
CREATED:20250109T140247Z
LAST-MODIFIED:20250109T140247Z
UID:10005611-1758358800-1758366000@www.gcparkstrails.com
SUMMARY:Morning Milers  - No Registration
DESCRIPTION:Join the GCP&T Trail Sentinels for an early morning ride along the region’s bike trails. GCP&T Trail Sentinels are an elite volunteer group who patrol the trails and coordinate several cycling events.\nThese rides are not for the beginner skill level and may include a short\, off-trail portion with an average of 25-35 miles at 15-17 MPH. \nRides are FREE and meet at 8:30 AM with rides starting at 9 AM\, finishing around 11 AM. \nRides will be cancelled in the event of a inclement weather. \nAll night riders must:\nBe 18 and older\nWear a helmet\nHave bike repair items \nStarting Point Addresses:\nBeavercreek Community Park\n801 Factory Rd.\, Beavercreek\, OH 45434\nXenia Station\n150 S. Miami Ave.\, Xenia\, OH 45385
URL:https://www.gcparkstrails.com/event/morning-milers-no-registration-3/2025-09-20/
LOCATION:Beavercreek Community Park\, 801 Factory Rd\, Beavercreek\, OH\, 45434\, United States
CATEGORIES:Adults,Cycling
END:VEVENT
BEGIN:VEVENT
DTSTART;TZID=America/New_York:20250920T100000
DTEND;TZID=America/New_York:20250920T120000
DTSTAMP:20260421T191131
CREATED:20250109T200528Z
LAST-MODIFIED:20250109T200528Z
UID:10006067-1758362400-1758369600@www.gcparkstrails.com
SUMMARY:Warrior Resiliency Team - Top Shot Archery- Registration Required
DESCRIPTION:Have you served in the military or have a family member that has served? If so\, we want to invite you to the Warrior Resiliency Celebration program! \nVeterans\, service members\, and their families are invited to join the Warrior Resiliency Team\, along with Greene County Veterans Services and Greene County Parks & Trails\, for Veteran specific programming.  A place where like-minded individuals can get together for fun\, fellowship and more.  We want to serve those that have served! \n  \nWarrior Resiliency Top Shot Archery Event\nArchery is an activity that has been around for centuries and has been used for various purposes\, including hunting and combat. However\, in recent years\, it has gained popularity as a recreational activity and even as a form of therapy. For military veterans\, archery can be an excellent way to promote physical and mental well-being. Whether you were a Special Operations Marine or Personnel Specialist\, you can get into the sport and reap the benefits. One of the therapeutic benefits of archery is that it can help to promote physical fitness. Shooting a bow requires some upper body strength and core stability\, which can help to improve overall fitness. Archery can provide a low-impact way to work on strength and flexibility without putting excessive stress on the body. In addition to physical benefits\, and perhaps more importantly\, archery can also promote mental wellness. Shooting a bow requires a great deal of focus and concentration\, which can help to clear the mind and reduce stress. This can be especially beneficial for veterans who may be dealing with post-traumatic stress disorder (PTSD) or other mental health issues. Archery can provide a way to focus the mind and relax\, which can help to reduce anxiety and improve overall well-being. Come join us for a fun and exciting way to enjoy the sport by learning the basics of using a Bow and compete to see how much you learned at the end of instruction. Refreshments\, food\, prizes\, and fun will be provided. Email us at WRT@greenecountyohio.gov to get registered. Must be a veteran.
URL:https://www.gcparkstrails.com/event/warrior-resiliency-team-top-shot-archery-registration-required/
LOCATION:Caesar Ford Park\, 520 South Stringtown Road\, Xenia\, OH\, 45385\, United States
END:VEVENT
BEGIN:VEVENT
DTSTART;TZID=America/New_York:20250920T130000
DTEND;TZID=America/New_York:20250920T160000
DTSTAMP:20260421T191131
CREATED:20250113T154107Z
LAST-MODIFIED:20250113T154107Z
UID:10006160-1758373200-1758384000@www.gcparkstrails.com
SUMMARY:Monarch Tagging - No Registration
DESCRIPTION:Monarch butterflies are migrating to Mexico!  Come out to the park to help tag them as part of an International Citizen Science project. \nTheir numbers are declining.  Learning more about their migration could help scientists find ways to help them. \nA limited number of nets will be available for use during the program.
URL:https://www.gcparkstrails.com/event/monarch-tagging-no-registration/
LOCATION:Russ Nature Reserve\, 2380 Kemp Road\, Beavercreek\, OH\, 45431\, United States
END:VEVENT
BEGIN:VEVENT
DTSTART;TZID=America/New_York:20250920T133000
DTEND;TZID=America/New_York:20250920T143000
DTSTAMP:20260421T191131
CREATED:20250113T135956Z
LAST-MODIFIED:20250113T135956Z
UID:10006129-1758375000-1758378600@www.gcparkstrails.com
SUMMARY:Music in the Park with Bob Ford - No Registration
DESCRIPTION:It’s that time of year for Music in the Park!  Let’s get together again to listen to some “oldies but goodies” tunes sung by Bob Ford at the Fairgrounds Recreation Center Park (Large Shelter). \nLet’s get out into the Greene County Parks and listen to some good music\, sing along\, and clap to the beat of the songs.  Bob will be performing two programs on Saturdays this summer\, so hopefully\, we will see you there! \nThis is a FREE program.  Picnic tables are available.  Please bring your own chair or cushion for your comfort if you prefer. \nFairgrounds Recreation Center Park is located at:  210 Fairground Road\, Xenia\, Ohio – next to the Greene County Fairgrounds.
URL:https://www.gcparkstrails.com/event/music-in-the-park-with-bob-ford-no-registration/2025-09-20/
LOCATION:Fairgrounds Recreation Center\, 210 Fairground Road\, Xenia\, OH\, 45385\, United States
END:VEVENT
BEGIN:VEVENT
DTSTART;TZID=America/New_York:20250920T160000
DTEND;TZID=America/New_York:20250920T190000
DTSTAMP:20260421T191131
CREATED:20250110T150046Z
LAST-MODIFIED:20250717T132711Z
UID:10006116-1758384000-1758394800@www.gcparkstrails.com
SUMMARY:Caesar Ford Ranger Classic - Registration On-Site
DESCRIPTION:Join our Ranger Team at the Caesar Ford Ranger Classic for a day-long event\nwith endless fun.The fun includes a FREE car show\, music\, food and more! You don’t have to own a classic car to be part of this fun! Come on out and view the cars and enjoy the other festivities occurring that day.Schedule of events \n\nRegistration: 4:00PM\nJudging: 5:30P\nAwards ceremony: 7:00PM
URL:https://www.gcparkstrails.com/event/caesar-ford-ranger-classic-registration-on-site/
LOCATION:Caesar Ford Park\, 520 South Stringtown Road\, Xenia\, OH\, 45385\, United States
CATEGORIES:Annual Event
END:VEVENT
END:VCALENDAR