BEGIN:VCALENDAR
VERSION:2.0
PRODID:-//Greene County Parks &amp; Trails - ECPv6.15.18//NONSGML v1.0//EN
CALSCALE:GREGORIAN
METHOD:PUBLISH
X-ORIGINAL-URL:https://www.gcparkstrails.com
X-WR-CALDESC:Events for Greene County Parks &amp; Trails
REFRESH-INTERVAL;VALUE=DURATION:PT1H
X-Robots-Tag:noindex
X-PUBLISHED-TTL:PT1H
BEGIN:VTIMEZONE
TZID:America/New_York
BEGIN:DAYLIGHT
TZOFFSETFROM:-0500
TZOFFSETTO:-0400
TZNAME:EDT
DTSTART:20240310T070000
END:DAYLIGHT
BEGIN:STANDARD
TZOFFSETFROM:-0400
TZOFFSETTO:-0500
TZNAME:EST
DTSTART:20241103T060000
END:STANDARD
BEGIN:DAYLIGHT
TZOFFSETFROM:-0500
TZOFFSETTO:-0400
TZNAME:EDT
DTSTART:20250309T070000
END:DAYLIGHT
BEGIN:STANDARD
TZOFFSETFROM:-0400
TZOFFSETTO:-0500
TZNAME:EST
DTSTART:20251102T060000
END:STANDARD
BEGIN:DAYLIGHT
TZOFFSETFROM:-0500
TZOFFSETTO:-0400
TZNAME:EDT
DTSTART:20260308T070000
END:DAYLIGHT
BEGIN:STANDARD
TZOFFSETFROM:-0400
TZOFFSETTO:-0500
TZNAME:EST
DTSTART:20261101T060000
END:STANDARD
END:VTIMEZONE
BEGIN:VEVENT
DTSTART;TZID=America/New_York:20250916T180000
DTEND;TZID=America/New_York:20250916T200000
DTSTAMP:20260421T173025
CREATED:20250110T143520Z
LAST-MODIFIED:20250110T143520Z
UID:10006114-1758045600-1758052800@www.gcparkstrails.com
SUMMARY:Greene Grasshoppers - End of Summer Games - No Registration
DESCRIPTION:Geared towards our kiddos 6-9 years old\, Greene Grasshoppers is a monthly program where they get to have nothing but FUN in our parks. \nWith these station-based programs\, kids will experience a different topic each month. \nGreene Grasshoppers is FREE to attend and no registration is necessary\, they typically run from 6-8 pm until the fall.  You can come anytime during the two hours as long as you leave time to complete everything. \n  \n\n\n\nEnd of Summer Games\nPut on your game face and get out to the park! We will be playing competitive and high energy games such as dodge ball to end the summer! More details to come!
URL:https://www.gcparkstrails.com/event/greene-grasshoppers-end-of-summer-games-no-registration/
LOCATION:Fairgrounds Recreation Center\, 210 Fairground Road\, Xenia\, OH\, 45385\, United States
END:VEVENT
END:VCALENDAR