BEGIN:VCALENDAR
VERSION:2.0
PRODID:-//Greene County Parks &amp; Trails - ECPv6.15.18//NONSGML v1.0//EN
CALSCALE:GREGORIAN
METHOD:PUBLISH
X-ORIGINAL-URL:https://www.gcparkstrails.com
X-WR-CALDESC:Events for Greene County Parks &amp; Trails
REFRESH-INTERVAL;VALUE=DURATION:PT1H
X-Robots-Tag:noindex
X-PUBLISHED-TTL:PT1H
BEGIN:VTIMEZONE
TZID:America/New_York
BEGIN:DAYLIGHT
TZOFFSETFROM:-0500
TZOFFSETTO:-0400
TZNAME:EDT
DTSTART:20240310T070000
END:DAYLIGHT
BEGIN:STANDARD
TZOFFSETFROM:-0400
TZOFFSETTO:-0500
TZNAME:EST
DTSTART:20241103T060000
END:STANDARD
BEGIN:DAYLIGHT
TZOFFSETFROM:-0500
TZOFFSETTO:-0400
TZNAME:EDT
DTSTART:20250309T070000
END:DAYLIGHT
BEGIN:STANDARD
TZOFFSETFROM:-0400
TZOFFSETTO:-0500
TZNAME:EST
DTSTART:20251102T060000
END:STANDARD
BEGIN:DAYLIGHT
TZOFFSETFROM:-0500
TZOFFSETTO:-0400
TZNAME:EDT
DTSTART:20260308T070000
END:DAYLIGHT
BEGIN:STANDARD
TZOFFSETFROM:-0400
TZOFFSETTO:-0500
TZNAME:EST
DTSTART:20261101T060000
END:STANDARD
END:VTIMEZONE
BEGIN:VEVENT
DTSTART;TZID=America/New_York:20250909T100000
DTEND;TZID=America/New_York:20250909T120000
DTSTAMP:20260421T191939
CREATED:20250109T144638Z
LAST-MODIFIED:20250109T144638Z
UID:10005618-1757412000-1757419200@www.gcparkstrails.com
SUMMARY:Homeschool Science Days: Insects/Spiders - No Registration
DESCRIPTION:Bring your homeschool groups outside for hands-on science designed for all ages. Two programs are designed just for homeschoolers. They are called Homeschool Science Days and Homeschool Science Days DISCOVERY HIKES. \nHomeschool Science Days are station-based with various fun\, educational activities. These are drop in programs that begin at 10 am and go to noon. Please plan to arrive no later than 11:30 in order to have time to enjoy the activities. \nDress for the weather. This program will be entirely outdoors\, rain or shine.   There is a chance that participants may get muddy. \nAt least one adult must be present with each homeschool group. \nRegistration is no longer needed for the homeschool educational series.  \n\n\n\nInsects/Spiders\nSeptember is the BEST time to look for insects and spiders! The monarchs are migrating\, the praying mantises and garden spiders are full-size and every patch of flowers is buzzing with life! In addition to bug hunting\, stations will encourage curiosity through games\, crafts and other activities. Arrive no later than 11:30.
URL:https://www.gcparkstrails.com/event/homeschool-science-days-insects-spiders-no-registration/
LOCATION:Russ Nature Reserve\, 2380 Kemp Road\, Beavercreek\, OH\, 45431\, United States
CATEGORIES:Homeschool Science Days
END:VEVENT
END:VCALENDAR