BEGIN:VCALENDAR
VERSION:2.0
PRODID:-//Greene County Parks &amp; Trails - ECPv6.15.18//NONSGML v1.0//EN
CALSCALE:GREGORIAN
METHOD:PUBLISH
X-ORIGINAL-URL:https://www.gcparkstrails.com
X-WR-CALDESC:Events for Greene County Parks &amp; Trails
REFRESH-INTERVAL;VALUE=DURATION:PT1H
X-Robots-Tag:noindex
X-PUBLISHED-TTL:PT1H
BEGIN:VTIMEZONE
TZID:America/New_York
BEGIN:DAYLIGHT
TZOFFSETFROM:-0500
TZOFFSETTO:-0400
TZNAME:EDT
DTSTART:20240310T070000
END:DAYLIGHT
BEGIN:STANDARD
TZOFFSETFROM:-0400
TZOFFSETTO:-0500
TZNAME:EST
DTSTART:20241103T060000
END:STANDARD
BEGIN:DAYLIGHT
TZOFFSETFROM:-0500
TZOFFSETTO:-0400
TZNAME:EDT
DTSTART:20250309T070000
END:DAYLIGHT
BEGIN:STANDARD
TZOFFSETFROM:-0400
TZOFFSETTO:-0500
TZNAME:EST
DTSTART:20251102T060000
END:STANDARD
BEGIN:DAYLIGHT
TZOFFSETFROM:-0500
TZOFFSETTO:-0400
TZNAME:EDT
DTSTART:20260308T070000
END:DAYLIGHT
BEGIN:STANDARD
TZOFFSETFROM:-0400
TZOFFSETTO:-0500
TZNAME:EST
DTSTART:20261101T060000
END:STANDARD
END:VTIMEZONE
BEGIN:VEVENT
DTSTART;TZID=America/New_York:20250828T133000
DTEND;TZID=America/New_York:20250828T143000
DTSTAMP:20260422T185253
CREATED:20250113T152602Z
LAST-MODIFIED:20250113T152602Z
UID:10006156-1756387800-1756391400@www.gcparkstrails.com
SUMMARY:Take Charge of Your Diabetes - No Registration
DESCRIPTION:A representative from the Ohio State University (OSU) Extension Office Greene County\, will be joining us at the Fairgrounds Recreation Center Park (Large Shelter) to present information in reference to “Taking Charge of Your Diabetes”. \nThis program will assist you in learning more about signs of diabetes\, possible complications\, and ways to manage the diagnosis\, including simple steps and learning to prepare nutritious and tasty food.  This program is for those with diabetes or pre-diabetes and their family members or caretakers.  Helpful information and general questions will be answered on the topic of diabetes.  Please join us at the park to learn more about this important health care topic! \nThis is a Free program for Ages 55 & Up.  Picnic tables are available.  Please bring your own chair or cushion for your comfort if you prefer. \nFairgrounds Recreation Center Park is located at:  210 Fairground Road\, Xenia\, Ohio – next to the Greene County Fairgrounds.
URL:https://www.gcparkstrails.com/event/take-charge-of-your-diabetes-no-registration/
LOCATION:Fairgrounds Recreation Center\, 210 Fairground Road\, Xenia\, OH\, 45385\, United States
END:VEVENT
END:VCALENDAR