BEGIN:VCALENDAR
VERSION:2.0
PRODID:-//Greene County Parks &amp; Trails - ECPv6.15.18//NONSGML v1.0//EN
CALSCALE:GREGORIAN
METHOD:PUBLISH
X-WR-CALNAME:Greene County Parks &amp; Trails
X-ORIGINAL-URL:https://www.gcparkstrails.com
X-WR-CALDESC:Events for Greene County Parks &amp; Trails
REFRESH-INTERVAL;VALUE=DURATION:PT1H
X-Robots-Tag:noindex
X-PUBLISHED-TTL:PT1H
BEGIN:VTIMEZONE
TZID:America/New_York
BEGIN:DAYLIGHT
TZOFFSETFROM:-0500
TZOFFSETTO:-0400
TZNAME:EDT
DTSTART:20240310T070000
END:DAYLIGHT
BEGIN:STANDARD
TZOFFSETFROM:-0400
TZOFFSETTO:-0500
TZNAME:EST
DTSTART:20241103T060000
END:STANDARD
BEGIN:DAYLIGHT
TZOFFSETFROM:-0500
TZOFFSETTO:-0400
TZNAME:EDT
DTSTART:20250309T070000
END:DAYLIGHT
BEGIN:STANDARD
TZOFFSETFROM:-0400
TZOFFSETTO:-0500
TZNAME:EST
DTSTART:20251102T060000
END:STANDARD
BEGIN:DAYLIGHT
TZOFFSETFROM:-0500
TZOFFSETTO:-0400
TZNAME:EDT
DTSTART:20260308T070000
END:DAYLIGHT
BEGIN:STANDARD
TZOFFSETFROM:-0400
TZOFFSETTO:-0500
TZNAME:EST
DTSTART:20261101T060000
END:STANDARD
END:VTIMEZONE
BEGIN:VEVENT
DTSTART;TZID=America/New_York:20250808T090000
DTEND;TZID=America/New_York:20250808T130000
DTSTAMP:20260422T153543
CREATED:20250113T142440Z
LAST-MODIFIED:20250113T142440Z
UID:10006142-1754643600-1754658000@www.gcparkstrails.com
SUMMARY:5-6 ~ Shiver Me Timbers Camp - Registration Required
DESCRIPTION:Ahoy Mateys! \nNo need to walk the plank! Arrrr you’ll be talkin’ and walkin’ like a pirate in this camp full of adventure and treasure! Follow treasure maps\, learn about the high seas\, play pirate games and maybe even meet a REAL pirate and his crew!
URL:https://www.gcparkstrails.com/event/5-6-shiver-me-timbers-camp-registration-required/2025-08-08/
LOCATION:Spring Lakes Park\, 2191 Ferry Road\, Bellbrook\, OH\, 45305\, United States
END:VEVENT
BEGIN:VEVENT
DTSTART;TZID=America/New_York:20250808T090000
DTEND;TZID=America/New_York:20250808T143000
DTSTAMP:20260422T153543
CREATED:20250113T143107Z
LAST-MODIFIED:20250113T143107Z
UID:10006147-1754643600-1754663400@www.gcparkstrails.com
SUMMARY:7-9 ~ Just Add Water Camp - Registration Required
DESCRIPTION:Rivers\, stream\, ravines OH MY! Campers are sure to keep cool this week of water fun! \nLearn the science behind the fun with water themed experiments your kids won’t stop talking about.
URL:https://www.gcparkstrails.com/event/7-9-just-add-water-camp-registration-required/2025-08-08/
LOCATION:Narrows Reserve\, 2575 Indian Ripple Road\, Xenia\, OH\, 45385\, United States
END:VEVENT
BEGIN:VEVENT
DTSTART;TZID=America/New_York:20250808T100000
DTEND;TZID=America/New_York:20250808T120000
DTSTAMP:20260422T153543
CREATED:20250109T174151Z
LAST-MODIFIED:20250109T174152Z
UID:10005670-1754647200-1754654400@www.gcparkstrails.com
SUMMARY:Toad-ally Together - Insects - Registration Required
DESCRIPTION:Toad-ally Together is back for another year!  This fun series of programs\, partnered by Greene County Parks & Trails and GCBDD\, is designed to bring kids and families of all abilities together to have fun in our backyard! Geared towards children ages 2 & up and of all abilities.\nThese are drop in programs\, you do not have to stay for the full 2 hours.  An adult or guardian is required to stay during the program. \nThis is a FREE event\, registration requested but not required\, walk-ins welcome \n\n\n\nInsects\nBug\, bugs and more bugs! Please join Greene County Parks & Trails and Greene County Board of DD in the park to explore the creepy crawly creatures of nature. This program is station based with games\, crafts and a snack. This is a FREE event. People of all abilities are encouraged to join!
URL:https://www.gcparkstrails.com/event/toad-ally-together-insects-registration-required/
LOCATION:Russ Nature Reserve\, 2380 Kemp Road\, Beavercreek\, OH\, 45431\, United States
CATEGORIES:Family
END:VEVENT
END:VCALENDAR