BEGIN:VCALENDAR
VERSION:2.0
PRODID:-//Greene County Parks &amp; Trails - ECPv6.15.18//NONSGML v1.0//EN
CALSCALE:GREGORIAN
METHOD:PUBLISH
X-ORIGINAL-URL:https://www.gcparkstrails.com
X-WR-CALDESC:Events for Greene County Parks &amp; Trails
REFRESH-INTERVAL;VALUE=DURATION:PT1H
X-Robots-Tag:noindex
X-PUBLISHED-TTL:PT1H
BEGIN:VTIMEZONE
TZID:America/New_York
BEGIN:DAYLIGHT
TZOFFSETFROM:-0500
TZOFFSETTO:-0400
TZNAME:EDT
DTSTART:20240310T070000
END:DAYLIGHT
BEGIN:STANDARD
TZOFFSETFROM:-0400
TZOFFSETTO:-0500
TZNAME:EST
DTSTART:20241103T060000
END:STANDARD
BEGIN:DAYLIGHT
TZOFFSETFROM:-0500
TZOFFSETTO:-0400
TZNAME:EDT
DTSTART:20250309T070000
END:DAYLIGHT
BEGIN:STANDARD
TZOFFSETFROM:-0400
TZOFFSETTO:-0500
TZNAME:EST
DTSTART:20251102T060000
END:STANDARD
BEGIN:DAYLIGHT
TZOFFSETFROM:-0500
TZOFFSETTO:-0400
TZNAME:EDT
DTSTART:20260308T070000
END:DAYLIGHT
BEGIN:STANDARD
TZOFFSETFROM:-0400
TZOFFSETTO:-0500
TZNAME:EST
DTSTART:20261101T060000
END:STANDARD
END:VTIMEZONE
BEGIN:VEVENT
DTSTART;TZID=America/New_York:20250802T130000
DTEND;TZID=America/New_York:20250802T150000
DTSTAMP:20260422T105931
CREATED:20250113T142301Z
LAST-MODIFIED:20250113T142301Z
UID:10006137-1754139600-1754146800@www.gcparkstrails.com
SUMMARY:Creek Walk - No Registration
DESCRIPTION:Let’s go creekin’!  Crawdads\, fish\, frogs and salamanders are waiting to be discovered.  Learn about these fascinating creatures as you cool off and explore Sugar Creek.  Naturalists will be on hand to answer your questions. \nA limited number of nets will be available to borrow for the program.
URL:https://www.gcparkstrails.com/event/creek-walk-no-registration/
LOCATION:Spring Lakes Park\, 2191 Ferry Road\, Bellbrook\, OH\, 45305\, United States
END:VEVENT
BEGIN:VEVENT
DTSTART;TZID=America/New_York:20250802T190000
DTEND;TZID=America/New_York:20250802T210000
DTSTAMP:20260422T105931
CREATED:20250109T153310Z
LAST-MODIFIED:20250109T154242Z
UID:10005633-1754161200-1754168400@www.gcparkstrails.com
SUMMARY:Night Ride: Xenia Station to Jamestown - No Registration
DESCRIPTION:Join the GCP&T Trail Sentinels for a moonlight ride along the region’s bike trails. GCP&T Trail Sentinels are an elite volunteer group who patrol the trails and coordinate several cycling events.\nNight Rides are free and leave Xenia Station at 7 PM\, finishing around 9 PM. The average speed of the ride is 10 – 13 MPH. \nAll night riders must:\nBe 18 and older\nWear a helmet and have lights on their bikes\nHave bike repair items \n– Rides will be cancelled in the event of inclement weather. \n***And let’s be real…these rides are for ice cream 🙂
URL:https://www.gcparkstrails.com/event/night-ride-xenia-station-to-jamestown/
LOCATION:Xenia Station\, 150 Miami Avenue\, Xenia\, OH\, 45385\, United States
CATEGORIES:Cycling
END:VEVENT
END:VCALENDAR