BEGIN:VCALENDAR
VERSION:2.0
PRODID:-//Greene County Parks &amp; Trails - ECPv6.15.18//NONSGML v1.0//EN
CALSCALE:GREGORIAN
METHOD:PUBLISH
X-WR-CALNAME:Greene County Parks &amp; Trails
X-ORIGINAL-URL:https://www.gcparkstrails.com
X-WR-CALDESC:Events for Greene County Parks &amp; Trails
REFRESH-INTERVAL;VALUE=DURATION:PT1H
X-Robots-Tag:noindex
X-PUBLISHED-TTL:PT1H
BEGIN:VTIMEZONE
TZID:America/New_York
BEGIN:DAYLIGHT
TZOFFSETFROM:-0500
TZOFFSETTO:-0400
TZNAME:EDT
DTSTART:20240310T070000
END:DAYLIGHT
BEGIN:STANDARD
TZOFFSETFROM:-0400
TZOFFSETTO:-0500
TZNAME:EST
DTSTART:20241103T060000
END:STANDARD
BEGIN:DAYLIGHT
TZOFFSETFROM:-0500
TZOFFSETTO:-0400
TZNAME:EDT
DTSTART:20250309T070000
END:DAYLIGHT
BEGIN:STANDARD
TZOFFSETFROM:-0400
TZOFFSETTO:-0500
TZNAME:EST
DTSTART:20251102T060000
END:STANDARD
BEGIN:DAYLIGHT
TZOFFSETFROM:-0500
TZOFFSETTO:-0400
TZNAME:EDT
DTSTART:20260308T070000
END:DAYLIGHT
BEGIN:STANDARD
TZOFFSETFROM:-0400
TZOFFSETTO:-0500
TZNAME:EST
DTSTART:20261101T060000
END:STANDARD
END:VTIMEZONE
BEGIN:VEVENT
DTSTART;TZID=America/New_York:20250722T090000
DTEND;TZID=America/New_York:20250722T130000
DTSTAMP:20260422T105705
CREATED:20250113T134356Z
LAST-MODIFIED:20250113T134356Z
UID:10006124-1753174800-1753189200@www.gcparkstrails.com
SUMMARY:5-6 ~ Wild About Camp - Registration Required
DESCRIPTION:Creek stomping! Muddy hikes! Explosive science! Nature exploration! Games\, Crafts\, Songs\, and Critters OH MY! This week will give your kids a taste of all the best camp activities we have to offer! A great introductory drop-off camp for our younger campers. We’re wild about camp and they will be too!
URL:https://www.gcparkstrails.com/event/5-6-wild-about-camp-registration-required/2025-07-22/
LOCATION:Narrows Reserve\, 2575 Indian Ripple Road\, Xenia\, OH\, 45385\, United States
END:VEVENT
BEGIN:VEVENT
DTSTART;TZID=America/New_York:20250722T090000
DTEND;TZID=America/New_York:20250722T143000
DTSTAMP:20260422T105705
CREATED:20250113T134138Z
LAST-MODIFIED:20250113T134138Z
UID:10006119-1753174800-1753194600@www.gcparkstrails.com
SUMMARY:10-13 ~ Revenge of Monster Camp - Registration Required
DESCRIPTION:It’s Indescribable! Indestructible! Nothing can stop it! It’s REVENGE OF MONSTER CAMP! \nIt’s all the fun of Monster Camp with new thrills and chills! Campers will delve into the legends behind all the great movie monsters. \nThroughout the week\, they will be creating their own monster movie from start to finish including al the props\, special effects and acting!
URL:https://www.gcparkstrails.com/event/10-13-revenge-of-monster-camp-registration-required/2025-07-22/
LOCATION:Caesar Ford Park\, 520 South Stringtown Road\, Xenia\, OH\, 45385\, United States
END:VEVENT
BEGIN:VEVENT
DTSTART;TZID=America/New_York:20250722T170000
DTEND;TZID=America/New_York:20250722T190000
DTSTAMP:20260422T105705
CREATED:20250109T173706Z
LAST-MODIFIED:20250109T173706Z
UID:10005665-1753203600-1753210800@www.gcparkstrails.com
SUMMARY:Toad-ally Together - Nerf Night - No Registration
DESCRIPTION:Toad-ally Together is back for another year!  This fun series of programs\, partnered by Greene County Parks & Trails and GCBDD\, is designed to bring kids and families of all abilities together to have fun in our backyard! Geared towards children ages 2 & up and of all abilities.\nThese are drop in programs\, you do not have to stay for the full 2 hours.  An adult or guardian is required to stay during the program. \nThis is a FREE event\, registration requested but not required\, walk-ins welcome \n\n\n\nNerf Night\nGreene County Parks & Trails will be joining Greene County Board of Developmental Disabilities for an exciting Nerf battle! Bring along your Nerf guns and your competitive nature as we battle it out to determine the ultimate winner…just kidding\, we are there to have fun. Eye wear is required\, please mark your nerf bullets. We cannot guarantee you will leave with the ones you brought. This is a FREE event; no registration is required. People of all abilities are encouraged to join!
URL:https://www.gcparkstrails.com/event/toad-ally-together-nerf-night-no-registration/2025-07-22/
LOCATION:Russ Nature Reserve\, 2380 Kemp Road\, Beavercreek\, OH\, 45431\, United States
CATEGORIES:Family
END:VEVENT
END:VCALENDAR