BEGIN:VCALENDAR
VERSION:2.0
PRODID:-//Greene County Parks &amp; Trails - ECPv6.15.18//NONSGML v1.0//EN
CALSCALE:GREGORIAN
METHOD:PUBLISH
X-WR-CALNAME:Greene County Parks &amp; Trails
X-ORIGINAL-URL:https://www.gcparkstrails.com
X-WR-CALDESC:Events for Greene County Parks &amp; Trails
REFRESH-INTERVAL;VALUE=DURATION:PT1H
X-Robots-Tag:noindex
X-PUBLISHED-TTL:PT1H
BEGIN:VTIMEZONE
TZID:America/New_York
BEGIN:DAYLIGHT
TZOFFSETFROM:-0500
TZOFFSETTO:-0400
TZNAME:EDT
DTSTART:20240310T070000
END:DAYLIGHT
BEGIN:STANDARD
TZOFFSETFROM:-0400
TZOFFSETTO:-0500
TZNAME:EST
DTSTART:20241103T060000
END:STANDARD
BEGIN:DAYLIGHT
TZOFFSETFROM:-0500
TZOFFSETTO:-0400
TZNAME:EDT
DTSTART:20250309T070000
END:DAYLIGHT
BEGIN:STANDARD
TZOFFSETFROM:-0400
TZOFFSETTO:-0500
TZNAME:EST
DTSTART:20251102T060000
END:STANDARD
BEGIN:DAYLIGHT
TZOFFSETFROM:-0500
TZOFFSETTO:-0400
TZNAME:EDT
DTSTART:20260308T070000
END:DAYLIGHT
BEGIN:STANDARD
TZOFFSETFROM:-0400
TZOFFSETTO:-0500
TZNAME:EST
DTSTART:20261101T060000
END:STANDARD
END:VTIMEZONE
BEGIN:VEVENT
DTSTART;TZID=America/New_York:20250718T090000
DTEND;TZID=America/New_York:20250718T143000
DTSTAMP:20260422T105719
CREATED:20250110T141640Z
LAST-MODIFIED:20250110T141640Z
UID:10006110-1752829200-1752849000@www.gcparkstrails.com
SUMMARY:7-9 ~ Monster Camp - Registration Required
DESCRIPTION:Celebrate “Summerween” with all things spooky! Cryptids\, classic movie monsters\, monsters of myths and real-life animal “monsters” will be part of this camp. \nIt’s more fun than a barrel of bigfoots!
URL:https://www.gcparkstrails.com/event/7-9-monster-camp-registration-required/2025-07-18/
LOCATION:Caesar Ford Park\, 520 South Stringtown Road\, Xenia\, OH\, 45385\, United States
END:VEVENT
BEGIN:VEVENT
DTSTART;TZID=America/New_York:20250718T200000
DTEND;TZID=America/New_York:20250718T220000
DTSTAMP:20260422T105720
CREATED:20250110T144041Z
LAST-MODIFIED:20250110T144041Z
UID:10006115-1752868800-1752876000@www.gcparkstrails.com
SUMMARY:Adult Bubble Party - No Registration
DESCRIPTION:Back by popular demand! The ADULT BUBBLE PARTY is your chance to get out\, dance and have as much fun as our kiddo park goers! All for free and IN YOUR OWN BACKYARD! \nThe bubble pile will be taller and the music a little louder as we search for the child in all of you during adult bubble play. \nShoes are required\, must be 18 and over only. Children will not be permitted to play during this one. Towels are encouraged.
URL:https://www.gcparkstrails.com/event/adult-bubble-party-no-registration/
LOCATION:Fairgrounds Recreation Center\, 210 Fairground Road\, Xenia\, OH\, 45385\, United States
END:VEVENT
END:VCALENDAR