BEGIN:VCALENDAR
VERSION:2.0
PRODID:-//Greene County Parks &amp; Trails - ECPv6.15.18//NONSGML v1.0//EN
CALSCALE:GREGORIAN
METHOD:PUBLISH
X-WR-CALNAME:Greene County Parks &amp; Trails
X-ORIGINAL-URL:https://www.gcparkstrails.com
X-WR-CALDESC:Events for Greene County Parks &amp; Trails
REFRESH-INTERVAL;VALUE=DURATION:PT1H
X-Robots-Tag:noindex
X-PUBLISHED-TTL:PT1H
BEGIN:VTIMEZONE
TZID:America/New_York
BEGIN:DAYLIGHT
TZOFFSETFROM:-0500
TZOFFSETTO:-0400
TZNAME:EDT
DTSTART:20240310T070000
END:DAYLIGHT
BEGIN:STANDARD
TZOFFSETFROM:-0400
TZOFFSETTO:-0500
TZNAME:EST
DTSTART:20241103T060000
END:STANDARD
BEGIN:DAYLIGHT
TZOFFSETFROM:-0500
TZOFFSETTO:-0400
TZNAME:EDT
DTSTART:20250309T070000
END:DAYLIGHT
BEGIN:STANDARD
TZOFFSETFROM:-0400
TZOFFSETTO:-0500
TZNAME:EST
DTSTART:20251102T060000
END:STANDARD
BEGIN:DAYLIGHT
TZOFFSETFROM:-0500
TZOFFSETTO:-0400
TZNAME:EDT
DTSTART:20260308T070000
END:DAYLIGHT
BEGIN:STANDARD
TZOFFSETFROM:-0400
TZOFFSETTO:-0500
TZNAME:EST
DTSTART:20261101T060000
END:STANDARD
END:VTIMEZONE
BEGIN:VEVENT
DTSTART;TZID=America/New_York:20250712T090000
DTEND;TZID=America/New_York:20250712T110000
DTSTAMP:20260422T105716
CREATED:20250109T135311Z
LAST-MODIFIED:20250109T135311Z
UID:10005602-1752310800-1752318000@www.gcparkstrails.com
SUMMARY:Morning Milers - No Registration
DESCRIPTION:Join the GCP&T Trail Sentinels for an early morning ride along the region’s bike trails. GCP&T Trail Sentinels are an elite volunteer group who patrol the trails and coordinate several cycling events.\nThese rides are not for the beginner skill level and may include a short\, off-trail portion with an average of 25-35 miles at 15-17 MPH. \nRides are FREE and meet at 8:30 AM with rides starting at 9 AM\, finishing around 11 AM. \nRides will be cancelled in the event of a inclement weather. \nAll night riders must:\nBe 18 and older\nWear a helmet\nHave bike repair items \nStarting Point Addresses:\nBeavercreek Community Park\n801 Factory Rd.\, Beavercreek\, OH 45434\nXenia Station\n150 S. Miami Ave.\, Xenia\, OH 45385
URL:https://www.gcparkstrails.com/event/morning-milers-no-registration-2/2025-07-12/
LOCATION:Xenia Station\, 150 Miami Avenue\, Xenia\, OH\, 45385\, United States
CATEGORIES:Adults,Cycling
END:VEVENT
BEGIN:VEVENT
DTSTART;TZID=America/New_York:20250712T180000
DTEND;TZID=America/New_York:20250712T200000
DTSTAMP:20260422T105716
CREATED:20250110T133915Z
LAST-MODIFIED:20250110T133915Z
UID:10006105-1752343200-1752350400@www.gcparkstrails.com
SUMMARY:VIP Dance - Registration Required
DESCRIPTION:This isn’t just a father/daughter dance\, it’s not just a mother/son dance either. We are bringing to you a VIP DANCE!! \nMoms\, dads\, aunts\, uncles\, grandmas\, grandpas – We are calling all of you to bring the little VIP’s in your life to dance the night away! No age limit on this one\, we want the whole family! \nEnjoy some light refreshments\, dance to some fun music\, and make this a night to remember for the kiddos you love! \nDue to supplies\, registration is required.  Please register each person attending.
URL:https://www.gcparkstrails.com/event/vip-dance-registration-required/
LOCATION:Caesar Ford Park\, 520 South Stringtown Road\, Xenia\, OH\, 45385\, United States
END:VEVENT
END:VCALENDAR