BEGIN:VCALENDAR
VERSION:2.0
PRODID:-//Greene County Parks &amp; Trails - ECPv6.15.18//NONSGML v1.0//EN
CALSCALE:GREGORIAN
METHOD:PUBLISH
X-WR-CALNAME:Greene County Parks &amp; Trails
X-ORIGINAL-URL:https://www.gcparkstrails.com
X-WR-CALDESC:Events for Greene County Parks &amp; Trails
REFRESH-INTERVAL;VALUE=DURATION:PT1H
X-Robots-Tag:noindex
X-PUBLISHED-TTL:PT1H
BEGIN:VTIMEZONE
TZID:America/New_York
BEGIN:DAYLIGHT
TZOFFSETFROM:-0500
TZOFFSETTO:-0400
TZNAME:EDT
DTSTART:20240310T070000
END:DAYLIGHT
BEGIN:STANDARD
TZOFFSETFROM:-0400
TZOFFSETTO:-0500
TZNAME:EST
DTSTART:20241103T060000
END:STANDARD
BEGIN:DAYLIGHT
TZOFFSETFROM:-0500
TZOFFSETTO:-0400
TZNAME:EDT
DTSTART:20250309T070000
END:DAYLIGHT
BEGIN:STANDARD
TZOFFSETFROM:-0400
TZOFFSETTO:-0500
TZNAME:EST
DTSTART:20251102T060000
END:STANDARD
BEGIN:DAYLIGHT
TZOFFSETFROM:-0500
TZOFFSETTO:-0400
TZNAME:EDT
DTSTART:20260308T070000
END:DAYLIGHT
BEGIN:STANDARD
TZOFFSETFROM:-0400
TZOFFSETTO:-0500
TZNAME:EST
DTSTART:20261101T060000
END:STANDARD
END:VTIMEZONE
BEGIN:VEVENT
DTSTART;TZID=America/New_York:20250707T090000
DTEND;TZID=America/New_York:20250707T143000
DTSTAMP:20260422T105706
CREATED:20250110T130156Z
LAST-MODIFIED:20250110T130156Z
UID:10006093-1751878800-1751898600@www.gcparkstrails.com
SUMMARY:10-13 ~ Minecraft 2.0 - Registration Required
DESCRIPTION:Ready for some next level Minecraft fun? We will be taking it up a NOTCH. Craft your own tools\, explore the biomes of the park\, conquer all sorts of hostile mobs on an epic quest\, and brew up awesome potions. Plus\, you’ll play tons of fun Minecraft-themed games throughout the week.
URL:https://www.gcparkstrails.com/event/10-13-minecraft-2-0-registration-required/2025-07-07/
LOCATION:Narrows Reserve\, 2575 Indian Ripple Road\, Xenia\, OH\, 45385\, United States
END:VEVENT
BEGIN:VEVENT
DTSTART;TZID=America/New_York:20250707T090000
DTEND;TZID=America/New_York:20250707T143000
DTSTAMP:20260422T105706
CREATED:20250110T133649Z
LAST-MODIFIED:20250110T133649Z
UID:10006100-1751878800-1751898600@www.gcparkstrails.com
SUMMARY:14-17 ~ Junior Ranger Academy - Registration Required
DESCRIPTION:Would you like to become certified as a junior ranger and become an ambassador to Greene County Parks & Trails? Then join our week-long Junior Ranger Academy if you are up for the challenge. \nYouth\, ages 14-17\, will spend a week with the Ranger Division completing exciting missions and experiencing nature first-hand. \nCadets will get experience in: \nHiking/Fishing\nBike Safety…including ice cream\nGun Safety\n…and so much more! \nThursday will include an overnight (tents provided) at the Narrows Reserve complete with a cookout!  There will be a graduation ceremony on Friday\, parents are encouraged to attend! \nRegistrants will receive a detailed email regarding drop-off and pick-up locations after registration is complete.
URL:https://www.gcparkstrails.com/event/14-17-junior-ranger-academy-registration-required/2025-07-07/
LOCATION:GCPT Headquarters\, 635 Dayton-Xenia Rd.\, Xenia\, OH\, 45385
END:VEVENT
END:VCALENDAR