BEGIN:VCALENDAR
VERSION:2.0
PRODID:-//Greene County Parks &amp; Trails - ECPv6.15.18//NONSGML v1.0//EN
CALSCALE:GREGORIAN
METHOD:PUBLISH
X-WR-CALNAME:Greene County Parks &amp; Trails
X-ORIGINAL-URL:https://www.gcparkstrails.com
X-WR-CALDESC:Events for Greene County Parks &amp; Trails
REFRESH-INTERVAL;VALUE=DURATION:PT1H
X-Robots-Tag:noindex
X-PUBLISHED-TTL:PT1H
BEGIN:VTIMEZONE
TZID:America/New_York
BEGIN:DAYLIGHT
TZOFFSETFROM:-0500
TZOFFSETTO:-0400
TZNAME:EDT
DTSTART:20240310T070000
END:DAYLIGHT
BEGIN:STANDARD
TZOFFSETFROM:-0400
TZOFFSETTO:-0500
TZNAME:EST
DTSTART:20241103T060000
END:STANDARD
BEGIN:DAYLIGHT
TZOFFSETFROM:-0500
TZOFFSETTO:-0400
TZNAME:EDT
DTSTART:20250309T070000
END:DAYLIGHT
BEGIN:STANDARD
TZOFFSETFROM:-0400
TZOFFSETTO:-0500
TZNAME:EST
DTSTART:20251102T060000
END:STANDARD
BEGIN:DAYLIGHT
TZOFFSETFROM:-0500
TZOFFSETTO:-0400
TZNAME:EDT
DTSTART:20260308T070000
END:DAYLIGHT
BEGIN:STANDARD
TZOFFSETFROM:-0400
TZOFFSETTO:-0500
TZNAME:EST
DTSTART:20261101T060000
END:STANDARD
END:VTIMEZONE
BEGIN:VEVENT
DTSTART;TZID=America/New_York:20250627T090000
DTEND;TZID=America/New_York:20250627T130000
DTSTAMP:20260422T105718
CREATED:20250110T125632Z
LAST-MODIFIED:20250110T125632Z
UID:10006091-1751014800-1751029200@www.gcparkstrails.com
SUMMARY:5-6 ~ Slime Time Camp - Registration Required
DESCRIPTION:Slime\, snot\, scat\, and saliva. What do these things have in common? They all start with “S” and they’re GROSS! This camp explores all things icky! From making armpit fudge to playing poop tag and meeting sticky animals\, this camp will be a gas!
URL:https://www.gcparkstrails.com/event/5-6-slime-time-camp-registration-required/2025-06-27/
LOCATION:Narrows Reserve\, 2575 Indian Ripple Road\, Xenia\, OH\, 45385\, United States
END:VEVENT
BEGIN:VEVENT
DTSTART;TZID=America/New_York:20250627T093000
DTEND;TZID=America/New_York:20250627T113000
DTSTAMP:20260422T105718
CREATED:20250110T124532Z
LAST-MODIFIED:20250110T124532Z
UID:10006081-1751016600-1751023800@www.gcparkstrails.com
SUMMARY:2-4 ~ GrownUps and Me - Furry Friends - Registration Required
DESCRIPTION:It’s mammal mania during this week of fun\, furry friends. Your little on will love learning about the mammals that share our world through games\, crafts and animal activities.
URL:https://www.gcparkstrails.com/event/2-4-grownups-and-me-furry-friends-registration-required/2025-06-27/
LOCATION:Karohl Park\, 2940 Hohl Dr\, Beavercreek\, OH\, 45432\, United States
END:VEVENT
BEGIN:VEVENT
DTSTART;TZID=America/New_York:20250627T093000
DTEND;TZID=America/New_York:20250627T153000
DTSTAMP:20260422T105718
CREATED:20250110T125322Z
LAST-MODIFIED:20250110T125357Z
UID:10006086-1751016600-1751038200@www.gcparkstrails.com
SUMMARY:5-21 ~ Camp Weebalong - Registration Required
DESCRIPTION:At Camp Weebalong\, we believe nature is for all bodies\, all brains and all living beings.  This half-day camp will feature all of our summer camp fun in a way that is accessible for people of all abilities!  Campers will be paired with a buddy to help guide them through the week’s activities.  We will explore basic outdoor skills\, water safety and fun\, critters\, rocks and dinos\, and all things slimy!  Campers will have the time of their lives exploring the outdoors in every way they are able!  Due to the individual nature of this camp\, caregivers are required to stay with campers and help with all self care\, leave the rest to us!  After registration\, you will receive a questionnaire about your camper’s ability level and interests so we can make sure they get the most out of Camp Weebalong! \n  \nCamp Weebalong Session 1 (ages 5-12) – 9:30 AM – 12:00 PM \nCamp Weebalong Session 2 (13 & up) – 1:00 PM – 03:30 PM
URL:https://www.gcparkstrails.com/event/5-21-camp-weebalong-registration-required/2025-06-27/
LOCATION:Caesar Ford Park\, 520 South Stringtown Road\, Xenia\, OH\, 45385\, United States
END:VEVENT
BEGIN:VEVENT
DTSTART;TZID=America/New_York:20250627T100000
DTEND;TZID=America/New_York:20250627T120000
DTSTAMP:20260422T105718
CREATED:20250109T174043Z
LAST-MODIFIED:20250109T174246Z
UID:10005667-1751018400-1751025600@www.gcparkstrails.com
SUMMARY:Toad-ally Together - Luau in the Park - Registration Required
DESCRIPTION:Toad-ally Together is back for another year!  This fun series of programs\, partnered by Greene County Parks & Trails and GCBDD\, is designed to bring kids and families of all abilities together to have fun in our backyard! Geared towards children ages 2 & up and of all abilities.\nThese are drop in programs\, you do not have to stay for the full 2 hours.  An adult or guardian is required to stay during the program. \nThis is a FREE event\, registration requested but not required\, walk-ins welcome \n\n\n\nLuau in the Park\nJoin us as we partner with Greene County Board of DD to transform the park into a tropical island! This program is station based with games\, crafts and a snack. Come dressed as your favorite Disney princess or character. But whatever you do\, come prepared to have fun at this Moana inspired Luau! This is a FREE event. People of all abilities are encouraged to join!
URL:https://www.gcparkstrails.com/event/toad-ally-together-nerf-night-registration-required/
LOCATION:Russ Nature Reserve\, 2380 Kemp Road\, Beavercreek\, OH\, 45431\, United States
CATEGORIES:Family
END:VEVENT
BEGIN:VEVENT
DTSTART;TZID=America/New_York:20250627T180000
DTEND;TZID=America/New_York:20250627T190000
DTSTAMP:20260422T105718
CREATED:20250108T182741Z
LAST-MODIFIED:20250108T182741Z
UID:10005584-1751047200-1751050800@www.gcparkstrails.com
SUMMARY:GTO Archery with the Rangers - Registration Required
DESCRIPTION:Come out and learn the tips and tricks of archery from our Rangers. These are 1 hour sessions – sign up for your preferred session\, 6p-7p or 7p-8p. Don’t forget to bring some water! Parents are not required to stay for this program.
URL:https://www.gcparkstrails.com/event/gto-archery-with-the-rangers-registration-required/2025-06-27/1/
LOCATION:Caesar Ford Park\, 520 South Stringtown Road\, Xenia\, OH\, 45385\, United States
CATEGORIES:Teens,Tweens
END:VEVENT
BEGIN:VEVENT
DTSTART;TZID=America/New_York:20250627T190000
DTEND;TZID=America/New_York:20250627T200000
DTSTAMP:20260422T105718
CREATED:20250108T182741Z
LAST-MODIFIED:20250108T182741Z
UID:10005585-1751050800-1751054400@www.gcparkstrails.com
SUMMARY:GTO Archery with the Rangers - Registration Required
DESCRIPTION:Come out and learn the tips and tricks of archery from our Rangers. These are 1 hour sessions – sign up for your preferred session\, 6p-7p or 7p-8p. Don’t forget to bring some water! Parents are not required to stay for this program.
URL:https://www.gcparkstrails.com/event/gto-archery-with-the-rangers-registration-required/2025-06-27/2/
LOCATION:Caesar Ford Park\, 520 South Stringtown Road\, Xenia\, OH\, 45385\, United States
CATEGORIES:Teens,Tweens
END:VEVENT
END:VCALENDAR